BEGIN:VCALENDAR
VERSION:2.0
PRODID:-//ScholarComp Inc. - ECPv6.11.2.1//NONSGML v1.0//EN
CALSCALE:GREGORIAN
METHOD:PUBLISH
X-WR-CALNAME:ScholarComp Inc.
X-ORIGINAL-URL:https://scholarcomp-aygcdxdhc8b9cwa7.westus-01.azurewebsites.net
X-WR-CALDESC:Events for ScholarComp Inc.
REFRESH-INTERVAL;VALUE=DURATION:PT1H
X-Robots-Tag:noindex
X-PUBLISHED-TTL:PT1H
BEGIN:VTIMEZONE
TZID:America/New_York
BEGIN:DAYLIGHT
TZOFFSETFROM:-0500
TZOFFSETTO:-0400
TZNAME:EDT
DTSTART:20250309T070000
END:DAYLIGHT
BEGIN:STANDARD
TZOFFSETFROM:-0400
TZOFFSETTO:-0500
TZNAME:EST
DTSTART:20251102T060000
END:STANDARD
END:VTIMEZONE
BEGIN:VEVENT
DTSTART;VALUE=DATE:20250608
DTEND;VALUE=DATE:20250613
DTSTAMP:20260423T071959
CREATED:20250418T203537Z
LAST-MODIFIED:20250508T100327Z
UID:10001510-1749340800-1749772799@scholarcomp-aygcdxdhc8b9cwa7.westus-01.azurewebsites.net
SUMMARY:National History Day (NHD) - National Contest
DESCRIPTION:National History Day (NHD) is a nationwide academic competition that encourages students to conduct historical research and create projects that are presented in various formats\, including documentaries\, exhibits\, papers\, performances\, and websites.
URL:https://scholarcomp-aygcdxdhc8b9cwa7.westus-01.azurewebsites.net/event/national-history-day-nhd-national-contest-2/
LOCATION:University of Maryland\, College Park\, MD\, 20742\, United States
CATEGORIES:Social Studies and Sciences
ORGANIZER;CN="National History Day%2C Inc.":MAILTO:info@nhd.org
END:VEVENT
END:VCALENDAR