BEGIN:VCALENDAR
VERSION:2.0
PRODID:-//ScholarComp Inc. - ECPv6.11.2.1//NONSGML v1.0//EN
CALSCALE:GREGORIAN
METHOD:PUBLISH
X-WR-CALNAME:ScholarComp Inc.
X-ORIGINAL-URL:https://scholarcomp-aygcdxdhc8b9cwa7.westus-01.azurewebsites.net
X-WR-CALDESC:Events for ScholarComp Inc.
REFRESH-INTERVAL;VALUE=DURATION:PT1H
X-Robots-Tag:noindex
X-PUBLISHED-TTL:PT1H
BEGIN:VTIMEZONE
TZID:America/New_York
BEGIN:DAYLIGHT
TZOFFSETFROM:-0500
TZOFFSETTO:-0400
TZNAME:EDT
DTSTART:20250309T070000
END:DAYLIGHT
BEGIN:STANDARD
TZOFFSETFROM:-0400
TZOFFSETTO:-0500
TZNAME:EST
DTSTART:20251102T060000
END:STANDARD
END:VTIMEZONE
BEGIN:VTIMEZONE
TZID:America/Phoenix
BEGIN:STANDARD
TZOFFSETFROM:-0700
TZOFFSETTO:-0700
TZNAME:MST
DTSTART:20250101T000000
END:STANDARD
END:VTIMEZONE
BEGIN:VEVENT
DTSTART;TZID=America/New_York:20250426T090000
DTEND;TZID=America/New_York:20250426T140000
DTSTAMP:20260422T222304
CREATED:20250415T142506Z
LAST-MODIFIED:20250508T101000Z
UID:10001017-1745658000-1745676000@scholarcomp-aygcdxdhc8b9cwa7.westus-01.azurewebsites.net
SUMMARY:New Mexico Junior Botball Challenge Day
DESCRIPTION:The Junior Botball Challenge (JBC) is an interactive STEM program that teaches robotics fundamentals to elementary and middle school students through hands-on activities. The curriculum promotes engagement with STEM concepts via robotics.
URL:https://scholarcomp-aygcdxdhc8b9cwa7.westus-01.azurewebsites.net/event/new-mexico-junior-botball-challenge-day/
LOCATION:Sandia Preparatory School\, 532 Osuna Rd NE\, Albuquerque\, NM\, 87113\, United States
CATEGORIES:Robotics
ORGANIZER;CN="KISS Institute for Practical Robotics (KIPR)":MAILTO:info@kipr.org
END:VEVENT
BEGIN:VEVENT
DTSTART;TZID=America/Phoenix:20250426T080000
DTEND;TZID=America/Phoenix:20250426T170000
DTSTAMP:20260422T222304
CREATED:20250418T174706Z
LAST-MODIFIED:20250508T100812Z
UID:10001309-1745654400-1745686800@scholarcomp-aygcdxdhc8b9cwa7.westus-01.azurewebsites.net
SUMMARY:Botball Robotics - New Mexico Botball Tournament
DESCRIPTION:Botball is an educational robotics competition that challenges students to design\, build\, and program autonomous robots to complete specific tasks. The competition emphasizes teamwork\, engineering\, and problem-solving skills.
URL:https://scholarcomp-aygcdxdhc8b9cwa7.westus-01.azurewebsites.net/event/botball-robotics-new-mexico-botball-tournament-2/
LOCATION:Sandia Preparatory School\, 532 Osuna Rd NE\, Albuquerque\, NM\, 87113\, United States
CATEGORIES:Robotics
ORGANIZER;CN="KISS Institute for Practical Robotics":MAILTO:Info@KIPR.org
END:VEVENT
END:VCALENDAR