BEGIN:VCALENDAR
VERSION:2.0
PRODID:-//ScholarComp Inc. - ECPv6.11.2.1//NONSGML v1.0//EN
CALSCALE:GREGORIAN
METHOD:PUBLISH
X-ORIGINAL-URL:https://scholarcomp-aygcdxdhc8b9cwa7.westus-01.azurewebsites.net
X-WR-CALDESC:Events for ScholarComp Inc.
REFRESH-INTERVAL;VALUE=DURATION:PT1H
X-Robots-Tag:noindex
X-PUBLISHED-TTL:PT1H
BEGIN:VTIMEZONE
TZID:America/New_York
BEGIN:DAYLIGHT
TZOFFSETFROM:-0500
TZOFFSETTO:-0400
TZNAME:EDT
DTSTART:20250309T070000
END:DAYLIGHT
BEGIN:STANDARD
TZOFFSETFROM:-0400
TZOFFSETTO:-0500
TZNAME:EST
DTSTART:20251102T060000
END:STANDARD
END:VTIMEZONE
BEGIN:VEVENT
DTSTART;VALUE=DATE:20250623
DTEND;VALUE=DATE:20250628
DTSTAMP:20260423T031250
CREATED:20250418T210239Z
LAST-MODIFIED:20250508T100500Z
UID:10001764-1750636800-1751068799@scholarcomp-aygcdxdhc8b9cwa7.westus-01.azurewebsites.net
SUMMARY:SkillsUSA Championship - National Leadership & Skills Conference
DESCRIPTION:A premier competition featuring over 6\,500 state champions in 114 skilled and leadership contests\, held at the SkillsUSA National Leadership & Skills Conference.
URL:https://scholarcomp-aygcdxdhc8b9cwa7.westus-01.azurewebsites.net/event/skillsusa-championship-national-leadership-skills-conference/
LOCATION:Georgia World Congress Center\, 285 Andrew Young International Blvd NW\, Atlanta\, GA\, 30313\, United States
CATEGORIES:Public Service and Leadership
ORGANIZER;CN="SkillsUSA Inc.":MAILTO:customercare@skillsusa.org
GEO:NULL;NULL
X-APPLE-STRUCTURED-LOCATION;VALUE=URI;X-ADDRESS=Georgia World Congress Center 285 Andrew Young International Blvd NW Atlanta GA 30313 United States;X-APPLE-RADIUS=500;X-TITLE=285 Andrew Young International Blvd NW:geo:NULL,NULL
END:VEVENT
END:VCALENDAR