BEGIN:VCALENDAR
VERSION:2.0
PRODID:-//ScholarComp Inc. - ECPv6.11.2.1//NONSGML v1.0//EN
CALSCALE:GREGORIAN
METHOD:PUBLISH
X-ORIGINAL-URL:https://scholarcomp-aygcdxdhc8b9cwa7.westus-01.azurewebsites.net
X-WR-CALDESC:Events for ScholarComp Inc.
REFRESH-INTERVAL;VALUE=DURATION:PT1H
X-Robots-Tag:noindex
X-PUBLISHED-TTL:PT1H
BEGIN:VTIMEZONE
TZID:America/New_York
BEGIN:DAYLIGHT
TZOFFSETFROM:-0500
TZOFFSETTO:-0400
TZNAME:EDT
DTSTART:20250309T070000
END:DAYLIGHT
BEGIN:STANDARD
TZOFFSETFROM:-0400
TZOFFSETTO:-0500
TZNAME:EST
DTSTART:20251102T060000
END:STANDARD
END:VTIMEZONE
BEGIN:VEVENT
DTSTART;VALUE=DATE:20250629
DTEND;VALUE=DATE:20250704
DTSTAMP:20260423T012423
CREATED:20250418T203452Z
LAST-MODIFIED:20250508T100242Z
UID:10001495-1751155200-1751587199@scholarcomp-aygcdxdhc8b9cwa7.westus-01.azurewebsites.net
SUMMARY:National Beta Club Convention - Junior Beta Convention
DESCRIPTION:National Beta Club Convention is an annual event that brings together Beta Club members from across the country. The event focuses on leadership\, character\, academic achievement\, and community service. Students compete in various categories\, from academic tests to talent and service projects.
URL:https://scholarcomp-aygcdxdhc8b9cwa7.westus-01.azurewebsites.net/event/national-beta-club-convention-junior-beta-convention-2/
LOCATION:Gaylord Palms Resort & Convention Center\, 6000 W Osceola Pkwy\, Orlando\, FL\, 34746\, United States
CATEGORIES:Public Service and Leadership
ORGANIZER;CN="National Beta Club":MAILTO:Currently Unavailable
END:VEVENT
BEGIN:VEVENT
DTSTART;VALUE=DATE:20250627
DTEND;VALUE=DATE:20250630
DTSTAMP:20260423T012423
CREATED:20250418T203451Z
LAST-MODIFIED:20250508T100241Z
UID:10001494-1750982400-1751241599@scholarcomp-aygcdxdhc8b9cwa7.westus-01.azurewebsites.net
SUMMARY:National Beta Club Convention - Elementary Beta Convention
DESCRIPTION:National Beta Club Convention is an annual event that brings together Beta Club members from across the country. The event focuses on leadership\, character\, academic achievement\, and community service. Students compete in various categories\, from academic tests to talent and service projects.
URL:https://scholarcomp-aygcdxdhc8b9cwa7.westus-01.azurewebsites.net/event/national-beta-club-convention-elementary-beta-convention-2/
LOCATION:Gaylord Palms Resort & Convention Center\, 6000 W Osceola Pkwy\, Orlando\, FL\, 34746\, United States
CATEGORIES:Public Service and Leadership
ORGANIZER;CN="National Beta Club":MAILTO:Currently Unavailable
END:VEVENT
BEGIN:VEVENT
DTSTART;VALUE=DATE:20250622
DTEND;VALUE=DATE:20250627
DTSTAMP:20260423T012423
CREATED:20250418T203444Z
LAST-MODIFIED:20250508T100231Z
UID:10001493-1750550400-1750982399@scholarcomp-aygcdxdhc8b9cwa7.westus-01.azurewebsites.net
SUMMARY:National Beta Club Convention - Senior Beta Convention
DESCRIPTION:National Beta Club Convention is an annual event that brings together Beta Club members from across the country. The event focuses on leadership\, character\, academic achievement\, and community service. Students compete in various categories\, from academic tests to talent and service projects.
URL:https://scholarcomp-aygcdxdhc8b9cwa7.westus-01.azurewebsites.net/event/national-beta-club-convention-senior-beta-convention-2/
LOCATION:Gaylord Palms Resort & Convention Center\, 6000 W Osceola Pkwy\, Orlando\, FL\, 34746\, United States
CATEGORIES:Public Service and Leadership
ORGANIZER;CN="National Beta Club":MAILTO:Currently Unavailable
END:VEVENT
END:VCALENDAR