BEGIN:VCALENDAR
VERSION:2.0
PRODID:-//ScholarComp Inc. - ECPv6.11.2.1//NONSGML v1.0//EN
CALSCALE:GREGORIAN
METHOD:PUBLISH
X-ORIGINAL-URL:https://scholarcomp-aygcdxdhc8b9cwa7.westus-01.azurewebsites.net
X-WR-CALDESC:Events for ScholarComp Inc.
REFRESH-INTERVAL;VALUE=DURATION:PT1H
X-Robots-Tag:noindex
X-PUBLISHED-TTL:PT1H
BEGIN:VTIMEZONE
TZID:CET
END:VTIMEZONE
BEGIN:VEVENT
DTSTART;VALUE=DATE:20250720
DTEND;VALUE=DATE:20250727
DTSTAMP:20260423T103029
CREATED:20250418T210650Z
LAST-MODIFIED:20250508T100941Z
UID:10001793-1752969600-1753574399@scholarcomp-aygcdxdhc8b9cwa7.westus-01.azurewebsites.net
SUMMARY:International History Olympiad (IHO) - IHO 2025
DESCRIPTION:The International History Olympiad is a biennial competition celebrating history\, with events such as quizzes\, field trips\, and social activities for top-performing history students from around the world.
URL:https://scholarcomp-aygcdxdhc8b9cwa7.westus-01.azurewebsites.net/event/international-history-olympiad-iho-iho-2025/
LOCATION:Ecole Jeannine Manuel\, Paris\, France
CATEGORIES:Social Studies and Sciences
ORGANIZER;CN="International Academic Competitions (IAC)":MAILTO:info@iacompetitions.com
END:VEVENT
END:VCALENDAR