BEGIN:VCALENDAR
VERSION:2.0
PRODID:-//ScholarComp Inc. - ECPv6.11.2.1//NONSGML v1.0//EN
CALSCALE:GREGORIAN
METHOD:PUBLISH
X-ORIGINAL-URL:https://scholarcomp-aygcdxdhc8b9cwa7.westus-01.azurewebsites.net
X-WR-CALDESC:Events for ScholarComp Inc.
REFRESH-INTERVAL;VALUE=DURATION:PT1H
X-Robots-Tag:noindex
X-PUBLISHED-TTL:PT1H
BEGIN:VTIMEZONE
TZID:America/New_York
BEGIN:DAYLIGHT
TZOFFSETFROM:-0500
TZOFFSETTO:-0400
TZNAME:EDT
DTSTART:20250309T070000
END:DAYLIGHT
BEGIN:STANDARD
TZOFFSETFROM:-0400
TZOFFSETTO:-0500
TZNAME:EST
DTSTART:20251102T060000
END:STANDARD
END:VTIMEZONE
BEGIN:VEVENT
DTSTART;VALUE=DATE:20251212
DTEND;VALUE=DATE:20251213
DTSTAMP:20260423T084942
CREATED:20250418T210705Z
LAST-MODIFIED:20250508T100956Z
UID:10001798-1765497600-1765583999@scholarcomp-aygcdxdhc8b9cwa7.westus-01.azurewebsites.net
SUMMARY:International Mathematics Olympiad (IMO) - IMO Level 1 - Option 3
DESCRIPTION:The IMO is an annual academic competition that tests students’ mathematical skills\, problem-solving abilities\, and logical reasoning. It is held in two levels for qualifying students.
URL:https://scholarcomp-aygcdxdhc8b9cwa7.westus-01.azurewebsites.net/event/international-mathematics-olympiad-imo-imo-level-1-option-3/
LOCATION:School-based
CATEGORIES:Mathematics
ORGANIZER;CN="Science Olympiad Foundation":MAILTO:info@sofworld.org
END:VEVENT
BEGIN:VEVENT
DTSTART;VALUE=DATE:20251211
DTEND;VALUE=DATE:20251212
DTSTAMP:20260423T084942
CREATED:20250418T211158Z
LAST-MODIFIED:20250508T102318Z
UID:10001808-1765411200-1765497599@scholarcomp-aygcdxdhc8b9cwa7.westus-01.azurewebsites.net
SUMMARY:National Science Olympiad (NSO) - NSO Level 1 - Date 3
DESCRIPTION:The ISO is an annual academic competition that tests students’ knowledge and skills in various branches of science\, problem-solving\, and reasoning abilities.
URL:https://scholarcomp-aygcdxdhc8b9cwa7.westus-01.azurewebsites.net/event/national-science-olympiad-nso-nso-level-1-date-3/
LOCATION:School-based
CATEGORIES:Science
ORGANIZER;CN="Science Olympiad Foundation":MAILTO:info@sofworld.org
END:VEVENT
BEGIN:VEVENT
DTSTART;VALUE=DATE:20251128
DTEND;VALUE=DATE:20251129
DTSTAMP:20260423T084942
CREATED:20250418T210655Z
LAST-MODIFIED:20250508T100945Z
UID:10001797-1764288000-1764374399@scholarcomp-aygcdxdhc8b9cwa7.westus-01.azurewebsites.net
SUMMARY:International Mathematics Olympiad (IMO) - IMO Level 1 - Option 2
DESCRIPTION:The IMO is an annual academic competition that tests students’ mathematical skills\, problem-solving abilities\, and logical reasoning. It is held in two levels for qualifying students.
URL:https://scholarcomp-aygcdxdhc8b9cwa7.westus-01.azurewebsites.net/event/international-mathematics-olympiad-imo-imo-level-1-option-2/
LOCATION:School-based
CATEGORIES:Mathematics
ORGANIZER;CN="Science Olympiad Foundation":MAILTO:info@sofworld.org
END:VEVENT
BEGIN:VEVENT
DTSTART;VALUE=DATE:20251127
DTEND;VALUE=DATE:20251128
DTSTAMP:20260423T084942
CREATED:20250418T211157Z
LAST-MODIFIED:20250508T102317Z
UID:10001807-1764201600-1764287999@scholarcomp-aygcdxdhc8b9cwa7.westus-01.azurewebsites.net
SUMMARY:National Science Olympiad (NSO) - NSO Level 1 - Date 2
DESCRIPTION:The ISO is an annual academic competition that tests students’ knowledge and skills in various branches of science\, problem-solving\, and reasoning abilities.
URL:https://scholarcomp-aygcdxdhc8b9cwa7.westus-01.azurewebsites.net/event/national-science-olympiad-nso-nso-level-1-date-2/
LOCATION:School-based
CATEGORIES:Science
ORGANIZER;CN="Science Olympiad Foundation":MAILTO:info@sofworld.org
END:VEVENT
BEGIN:VEVENT
DTSTART;VALUE=DATE:20251126
DTEND;VALUE=DATE:20251127
DTSTAMP:20260423T084942
CREATED:20250418T210639Z
LAST-MODIFIED:20250508T100929Z
UID:10001792-1764115200-1764201599@scholarcomp-aygcdxdhc8b9cwa7.westus-01.azurewebsites.net
SUMMARY:International English Olympiad (IEO) - IEO Level 1 - Option 3
DESCRIPTION:The IEO is an annual academic competition that tests students’ English language skills\, comprehension\, and grammar through a two-level Olympiad. It aims to foster English proficiency in students.
URL:https://scholarcomp-aygcdxdhc8b9cwa7.westus-01.azurewebsites.net/event/international-english-olympiad-ieo-ieo-level-1-option-3/
LOCATION:School-based
CATEGORIES:Writing and Journalism
ORGANIZER;CN="Science Olympiad Foundation":MAILTO:info@sofworld.org
END:VEVENT
BEGIN:VEVENT
DTSTART;VALUE=DATE:20251113
DTEND;VALUE=DATE:20251114
DTSTAMP:20260423T084942
CREATED:20250418T211151Z
LAST-MODIFIED:20250508T102306Z
UID:10001806-1762992000-1763078399@scholarcomp-aygcdxdhc8b9cwa7.westus-01.azurewebsites.net
SUMMARY:National Science Olympiad (NSO) - NSO Level 1 - Date 1
DESCRIPTION:The ISO is an annual academic competition that tests students’ knowledge and skills in various branches of science\, problem-solving\, and reasoning abilities.
URL:https://scholarcomp-aygcdxdhc8b9cwa7.westus-01.azurewebsites.net/event/national-science-olympiad-nso-nso-level-1-date-1/
LOCATION:School-based
CATEGORIES:Science
ORGANIZER;CN="Science Olympiad Foundation":MAILTO:info@sofworld.org
END:VEVENT
BEGIN:VEVENT
DTSTART;VALUE=DATE:20251112
DTEND;VALUE=DATE:20251113
DTSTAMP:20260423T084942
CREATED:20250418T210654Z
LAST-MODIFIED:20250508T100945Z
UID:10001796-1762905600-1762991999@scholarcomp-aygcdxdhc8b9cwa7.westus-01.azurewebsites.net
SUMMARY:International Mathematics Olympiad (IMO) - IMO Level 1 - Option 1
DESCRIPTION:The IMO is an annual academic competition that tests students’ mathematical skills\, problem-solving abilities\, and logical reasoning. It is held in two levels for qualifying students.
URL:https://scholarcomp-aygcdxdhc8b9cwa7.westus-01.azurewebsites.net/event/international-mathematics-olympiad-imo-imo-level-1-option-1/
LOCATION:School-based
CATEGORIES:Mathematics
ORGANIZER;CN="Science Olympiad Foundation":MAILTO:info@sofworld.org
END:VEVENT
BEGIN:VEVENT
DTSTART;VALUE=DATE:20251111
DTEND;VALUE=DATE:20251112
DTSTAMP:20260423T084942
CREATED:20250418T210638Z
LAST-MODIFIED:20250508T100928Z
UID:10001791-1762819200-1762905599@scholarcomp-aygcdxdhc8b9cwa7.westus-01.azurewebsites.net
SUMMARY:International English Olympiad (IEO) - IEO Level 1 - Option 2
DESCRIPTION:The IEO is an annual academic competition that tests students’ English language skills\, comprehension\, and grammar through a two-level Olympiad. It aims to foster English proficiency in students.
URL:https://scholarcomp-aygcdxdhc8b9cwa7.westus-01.azurewebsites.net/event/international-english-olympiad-ieo-ieo-level-1-option-2/
LOCATION:School-based
CATEGORIES:Writing and Journalism
ORGANIZER;CN="Science Olympiad Foundation":MAILTO:info@sofworld.org
END:VEVENT
BEGIN:VEVENT
DTSTART;VALUE=DATE:20250926
DTEND;VALUE=DATE:20250927
DTSTAMP:20260423T084942
CREATED:20250418T210636Z
LAST-MODIFIED:20250508T100927Z
UID:10001790-1758844800-1758931199@scholarcomp-aygcdxdhc8b9cwa7.westus-01.azurewebsites.net
SUMMARY:International English Olympiad (IEO) - IEO Level 1 - Option 1
DESCRIPTION:The IEO is an annual academic competition that tests students’ English language skills\, comprehension\, and grammar through a two-level Olympiad. It aims to foster English proficiency in students.
URL:https://scholarcomp-aygcdxdhc8b9cwa7.westus-01.azurewebsites.net/event/international-english-olympiad-ieo-ieo-level-1-option-1/
LOCATION:School-based
CATEGORIES:Writing and Journalism
ORGANIZER;CN="Science Olympiad Foundation":MAILTO:info@sofworld.org
END:VEVENT
END:VCALENDAR