BEGIN:VCALENDAR
VERSION:2.0
PRODID:-//ScholarComp Inc. - ECPv6.11.2.1//NONSGML v1.0//EN
CALSCALE:GREGORIAN
METHOD:PUBLISH
X-WR-CALNAME:ScholarComp Inc.
X-ORIGINAL-URL:https://scholarcomp-aygcdxdhc8b9cwa7.westus-01.azurewebsites.net
X-WR-CALDESC:Events for ScholarComp Inc.
REFRESH-INTERVAL;VALUE=DURATION:PT1H
X-Robots-Tag:noindex
X-PUBLISHED-TTL:PT1H
BEGIN:VTIMEZONE
TZID:America/New_York
BEGIN:DAYLIGHT
TZOFFSETFROM:-0500
TZOFFSETTO:-0400
TZNAME:EDT
DTSTART:20250309T070000
END:DAYLIGHT
BEGIN:STANDARD
TZOFFSETFROM:-0400
TZOFFSETTO:-0500
TZNAME:EST
DTSTART:20251102T060000
END:STANDARD
END:VTIMEZONE
BEGIN:VEVENT
DTSTART;VALUE=DATE:20250513
DTEND;VALUE=DATE:20250514
DTSTAMP:20260423T040451
CREATED:20250418T204815Z
LAST-MODIFIED:20250508T102435Z
UID:10001722-1747094400-1747180799@scholarcomp-aygcdxdhc8b9cwa7.westus-01.azurewebsites.net
SUMMARY:BLENDED WITH HS EVENT VEX V5 Automate Middle School Challenge (Canceled) VEX V5 Robotics Competition High Stakes
DESCRIPTION:An international competition for students to design and build robots for specific challenges.
URL:https://scholarcomp-aygcdxdhc8b9cwa7.westus-01.azurewebsites.net/event/blended-with-hs-event-vex-v5-automate-middle-school-challenge-canceled-vex-v5-robotics-competition-high-stakes-2/
CATEGORIES:Robotics
ORGANIZER;CN="Robotics Education &amp%3B Competition Foundation (RECF)":MAILTO:support@robotevents.com
END:VEVENT
BEGIN:VEVENT
DTSTART;VALUE=DATE:20250509
DTEND;VALUE=DATE:20250512
DTSTAMP:20260423T040451
CREATED:20250418T204805Z
LAST-MODIFIED:20250508T102421Z
UID:10001718-1746748800-1747007999@scholarcomp-aygcdxdhc8b9cwa7.westus-01.azurewebsites.net
SUMMARY:VEX V5 Robotics Competition - 2025 JROTC National Championship @ VEX Robotics World Championship
DESCRIPTION:An international competition for students to design and build robots for specific challenges.
URL:https://scholarcomp-aygcdxdhc8b9cwa7.westus-01.azurewebsites.net/event/vex-v5-robotics-competition-2025-jrotc-national-championship-vex-robotics-world-championship-2/
CATEGORIES:Robotics
ORGANIZER;CN="Robotics Education &amp%3B Competition Foundation (RECF)":MAILTO:support@robotevents.com
END:VEVENT
BEGIN:VEVENT
DTSTART;VALUE=DATE:20250509
DTEND;VALUE=DATE:20250512
DTSTAMP:20260423T040451
CREATED:20250418T204803Z
LAST-MODIFIED:20250508T102420Z
UID:10001717-1746748800-1747007999@scholarcomp-aygcdxdhc8b9cwa7.westus-01.azurewebsites.net
SUMMARY:2025 VEX Robotics World Championship VEX V5 Robotics Competition Middle School Event
DESCRIPTION:An international competition for students to design and build robots for specific challenges.
URL:https://scholarcomp-aygcdxdhc8b9cwa7.westus-01.azurewebsites.net/event/2025-vex-robotics-world-championship-vex-v5-robotics-competition-middle-school-event-2/
CATEGORIES:Robotics
ORGANIZER;CN="Robotics Education &amp%3B Competition Foundation (RECF)":MAILTO:support@robotevents.com
END:VEVENT
BEGIN:VEVENT
DTSTART;VALUE=DATE:20250506
DTEND;VALUE=DATE:20250509
DTSTAMP:20260423T040451
CREATED:20250418T204802Z
LAST-MODIFIED:20250508T102419Z
UID:10001716-1746489600-1746748799@scholarcomp-aygcdxdhc8b9cwa7.westus-01.azurewebsites.net
SUMMARY:2025 VEX Robotics World Championship VEX V5 Robotics Competition High School Event
DESCRIPTION:An international competition for students to design and build robots for specific challenges.
URL:https://scholarcomp-aygcdxdhc8b9cwa7.westus-01.azurewebsites.net/event/2025-vex-robotics-world-championship-vex-v5-robotics-competition-high-school-event-2/
CATEGORIES:Robotics
ORGANIZER;CN="Robotics Education &amp%3B Competition Foundation (RECF)":MAILTO:support@robotevents.com
END:VEVENT
BEGIN:VEVENT
DTSTART;VALUE=DATE:20250503
DTEND;VALUE=DATE:20250504
DTSTAMP:20260423T040451
CREATED:20250418T204812Z
LAST-MODIFIED:20250508T102433Z
UID:10001720-1746230400-1746316799@scholarcomp-aygcdxdhc8b9cwa7.westus-01.azurewebsites.net
SUMMARY:VEX V5 Robotics Competition - Pre Worlds Scrimmage 3 All Worlds bound VRC teams from everywhere are invited
DESCRIPTION:An international competition for students to design and build robots for specific challenges.
URL:https://scholarcomp-aygcdxdhc8b9cwa7.westus-01.azurewebsites.net/event/vex-v5-robotics-competition-pre-worlds-scrimmage-3-all-worlds-bound-vrc-teams-from-everywhere-are-invited-2/
CATEGORIES:Robotics
ORGANIZER;CN="Robotics Education &amp%3B Competition Foundation (RECF)":MAILTO:support@robotevents.com
END:VEVENT
BEGIN:VEVENT
DTSTART;VALUE=DATE:20250427
DTEND;VALUE=DATE:20250428
DTSTAMP:20260423T040451
CREATED:20250418T204821Z
LAST-MODIFIED:20250508T102447Z
UID:10001724-1745712000-1745798399@scholarcomp-aygcdxdhc8b9cwa7.westus-01.azurewebsites.net
SUMMARY:VEX V5 Robotics Competition - CA Region 2 Scrimmage 4
DESCRIPTION:An international competition for students to design and build robots for specific challenges.
URL:https://scholarcomp-aygcdxdhc8b9cwa7.westus-01.azurewebsites.net/event/vex-v5-robotics-competition-ca-region-2-scrimmage-4-2/
CATEGORIES:Robotics
ORGANIZER;CN="Robotics Education &amp%3B Competition Foundation (RECF)":MAILTO:support@robotevents.com
END:VEVENT
BEGIN:VEVENT
DTSTART;VALUE=DATE:20250426
DTEND;VALUE=DATE:20250427
DTSTAMP:20260423T040451
CREATED:20250418T204835Z
LAST-MODIFIED:20250508T102505Z
UID:10001732-1745625600-1745711999@scholarcomp-aygcdxdhc8b9cwa7.westus-01.azurewebsites.net
SUMMARY:VEX AI Robotics Competition - AOE AI Challenge
DESCRIPTION:A global contest promoting AI\, programming\, and robotics for middle and high school students.
URL:https://scholarcomp-aygcdxdhc8b9cwa7.westus-01.azurewebsites.net/event/vex-ai-robotics-competition-aoe-ai-challenge-2/
CATEGORIES:Robotics
ORGANIZER;CN="Robotics Education &amp%3B Competition Foundation (RECF)":MAILTO:support@robotevents.com
END:VEVENT
BEGIN:VEVENT
DTSTART;VALUE=DATE:20250426
DTEND;VALUE=DATE:20250427
DTSTAMP:20260423T040451
CREATED:20250418T204826Z
LAST-MODIFIED:20250508T102450Z
UID:10001727-1745625600-1745711999@scholarcomp-aygcdxdhc8b9cwa7.westus-01.azurewebsites.net
SUMMARY:Great Lakes April VEX AI Robotics Competition High Stakes High School Only VEX AI Robotics Competition
DESCRIPTION:A global contest promoting AI\, programming\, and robotics for middle and high school students.
URL:https://scholarcomp-aygcdxdhc8b9cwa7.westus-01.azurewebsites.net/event/great-lakes-april-vex-ai-robotics-competition-high-stakes-high-school-only-vex-ai-robotics-competition-2/
CATEGORIES:Robotics
ORGANIZER;CN="Robotics Education &amp%3B Competition Foundation (RECF)":MAILTO:support@robotevents.com
END:VEVENT
BEGIN:VEVENT
DTSTART;VALUE=DATE:20250426
DTEND;VALUE=DATE:20250427
DTSTAMP:20260423T040451
CREATED:20250418T204825Z
LAST-MODIFIED:20250508T102449Z
UID:10001726-1745625600-1745711999@scholarcomp-aygcdxdhc8b9cwa7.westus-01.azurewebsites.net
SUMMARY:VEX V5 Robotics Competition - Auburn Robotics Club - V5RC Scrimmage
DESCRIPTION:An international competition for students to design and build robots for specific challenges.
URL:https://scholarcomp-aygcdxdhc8b9cwa7.westus-01.azurewebsites.net/event/vex-v5-robotics-competition-auburn-robotics-club-v5rc-scrimmage-2/
CATEGORIES:Robotics
ORGANIZER;CN="Robotics Education &amp%3B Competition Foundation (RECF)":MAILTO:support@robotevents.com
END:VEVENT
BEGIN:VEVENT
DTSTART;VALUE=DATE:20250426
DTEND;VALUE=DATE:20250427
DTSTAMP:20260423T040451
CREATED:20250418T204823Z
LAST-MODIFIED:20250508T102448Z
UID:10001725-1745625600-1745711999@scholarcomp-aygcdxdhc8b9cwa7.westus-01.azurewebsites.net
SUMMARY:VEX V5 Robotics Competition - SC Worlds Bound Teams Scrimmage
DESCRIPTION:An international competition for students to design and build robots for specific challenges.
URL:https://scholarcomp-aygcdxdhc8b9cwa7.westus-01.azurewebsites.net/event/vex-v5-robotics-competition-sc-worlds-bound-teams-scrimmage-2/
CATEGORIES:Robotics
ORGANIZER;CN="Robotics Education &amp%3B Competition Foundation (RECF)":MAILTO:support@robotevents.com
END:VEVENT
BEGIN:VEVENT
DTSTART;VALUE=DATE:20250426
DTEND;VALUE=DATE:20250427
DTSTAMP:20260423T040451
CREATED:20250418T204800Z
LAST-MODIFIED:20250508T102418Z
UID:10001715-1745625600-1745711999@scholarcomp-aygcdxdhc8b9cwa7.westus-01.azurewebsites.net
SUMMARY:DRC / Robolabs VEX V5 Robotics Competition - Invitational HS & MS\, Remote Engineering Notebooks
DESCRIPTION:An international competition for students to design and build robots for specific challenges.
URL:https://scholarcomp-aygcdxdhc8b9cwa7.westus-01.azurewebsites.net/event/drc-robolabs-vex-v5-robotics-competition-invitational-hs-ms-remote-engineering-notebooks-2/
CATEGORIES:Robotics
ORGANIZER;CN="Robotics Education &amp%3B Competition Foundation (RECF)":MAILTO:support@robotevents.com
END:VEVENT
BEGIN:VEVENT
DTSTART;VALUE=DATE:20250420
DTEND;VALUE=DATE:20250421
DTSTAMP:20260423T040451
CREATED:20250418T204832Z
LAST-MODIFIED:20250508T102503Z
UID:10001730-1745107200-1745193599@scholarcomp-aygcdxdhc8b9cwa7.westus-01.azurewebsites.net
SUMMARY:2025 Magikid International Open: VEX AI Robotics Competition
DESCRIPTION:A global contest promoting AI\, programming\, and robotics for middle and high school students.
URL:https://scholarcomp-aygcdxdhc8b9cwa7.westus-01.azurewebsites.net/event/2025-magikid-international-open-vex-ai-robotics-competition-2/
CATEGORIES:Robotics
ORGANIZER;CN="Robotics Education &amp%3B Competition Foundation (RECF)":MAILTO:support@robotevents.com
END:VEVENT
BEGIN:VEVENT
DTSTART;VALUE=DATE:20250420
DTEND;VALUE=DATE:20250421
DTSTAMP:20260423T040451
CREATED:20250418T204817Z
LAST-MODIFIED:20250508T102436Z
UID:10001723-1745107200-1745193599@scholarcomp-aygcdxdhc8b9cwa7.westus-01.azurewebsites.net
SUMMARY:VEX V5 Robotics Competition - CA Region 2 Scrimmage 3
DESCRIPTION:An international competition for students to design and build robots for specific challenges.
URL:https://scholarcomp-aygcdxdhc8b9cwa7.westus-01.azurewebsites.net/event/vex-v5-robotics-competition-ca-region-2-scrimmage-3-2/
CATEGORIES:Robotics
ORGANIZER;CN="Robotics Education &amp%3B Competition Foundation (RECF)":MAILTO:support@robotevents.com
END:VEVENT
BEGIN:VEVENT
DTSTART;VALUE=DATE:20250419
DTEND;VALUE=DATE:20250420
DTSTAMP:20260423T040451
CREATED:20250418T204810Z
LAST-MODIFIED:20250508T102432Z
UID:10001719-1745020800-1745107199@scholarcomp-aygcdxdhc8b9cwa7.westus-01.azurewebsites.net
SUMMARY:VEX V5 Robotics Competition - Robot Rhapsody @ UCA (Canceled) Post-State and Pre-Worlds Scrimmage
DESCRIPTION:An international competition for students to design and build robots for specific challenges.
URL:https://scholarcomp-aygcdxdhc8b9cwa7.westus-01.azurewebsites.net/event/vex-v5-robotics-competition-robot-rhapsody-uca-canceled-post-state-and-pre-worlds-scrimmage-2/
CATEGORIES:Robotics
ORGANIZER;CN="Robotics Education &amp%3B Competition Foundation (RECF)":MAILTO:support@robotevents.com
END:VEVENT
END:VCALENDAR