BEGIN:VCALENDAR
VERSION:2.0
PRODID:-//ScholarComp Inc. - ECPv6.11.2.1//NONSGML v1.0//EN
CALSCALE:GREGORIAN
METHOD:PUBLISH
X-ORIGINAL-URL:https://scholarcomp-aygcdxdhc8b9cwa7.westus-01.azurewebsites.net
X-WR-CALDESC:Events for ScholarComp Inc.
REFRESH-INTERVAL;VALUE=DURATION:PT1H
X-Robots-Tag:noindex
X-PUBLISHED-TTL:PT1H
BEGIN:VTIMEZONE
TZID:America/Los_Angeles
BEGIN:DAYLIGHT
TZOFFSETFROM:-0800
TZOFFSETTO:-0700
TZNAME:PDT
DTSTART:20250309T100000
END:DAYLIGHT
BEGIN:STANDARD
TZOFFSETFROM:-0700
TZOFFSETTO:-0800
TZNAME:PST
DTSTART:20251102T090000
END:STANDARD
END:VTIMEZONE
BEGIN:VEVENT
DTSTART;TZID=America/Los_Angeles:20250504T090000
DTEND;TZID=America/Los_Angeles:20250504T150000
DTSTAMP:20260423T141438
CREATED:20250418T172512Z
LAST-MODIFIED:20250508T100134Z
UID:10001192-1746349200-1746370800@scholarcomp-aygcdxdhc8b9cwa7.westus-01.azurewebsites.net
SUMMARY:Project ECHO's High School Business Plan Competition - Final Competition Event
DESCRIPTION:A national business plan competition where high school students pitch their start-up ideas and business plans to a panel of judges.
URL:https://scholarcomp-aygcdxdhc8b9cwa7.westus-01.azurewebsites.net/event/project-echos-high-school-business-plan-competition-final-competition-event/
LOCATION:California State University\, 1000 E Victoria St\, Carson\, CA\, 90747\, United States
CATEGORIES:Business Plan
ORGANIZER;CN="Project ECHO":MAILTO:info@projectecho.org
END:VEVENT
END:VCALENDAR