BEGIN:VCALENDAR
VERSION:2.0
PRODID:-//ScholarComp Inc. - ECPv6.11.2.1//NONSGML v1.0//EN
CALSCALE:GREGORIAN
METHOD:PUBLISH
X-WR-CALNAME:ScholarComp Inc.
X-ORIGINAL-URL:https://scholarcomp-aygcdxdhc8b9cwa7.westus-01.azurewebsites.net
X-WR-CALDESC:Events for ScholarComp Inc.
REFRESH-INTERVAL;VALUE=DURATION:PT1H
X-Robots-Tag:noindex
X-PUBLISHED-TTL:PT1H
BEGIN:VTIMEZONE
TZID:America/New_York
BEGIN:DAYLIGHT
TZOFFSETFROM:-0500
TZOFFSETTO:-0400
TZNAME:EDT
DTSTART:20250309T070000
END:DAYLIGHT
BEGIN:STANDARD
TZOFFSETFROM:-0400
TZOFFSETTO:-0500
TZNAME:EST
DTSTART:20251102T060000
END:STANDARD
END:VTIMEZONE
BEGIN:VEVENT
DTSTART;VALUE=DATE:20250915
DTEND;VALUE=DATE:20250916
DTSTAMP:20260423T073310
CREATED:20250418T210051Z
LAST-MODIFIED:20250508T100312Z
UID:10001751-1757894400-1757980799@scholarcomp-aygcdxdhc8b9cwa7.westus-01.azurewebsites.net
SUMMARY:National FFA Organization Career and Leadership Development Events (CDE/LDE) - Employment Skills Virtual Components
DESCRIPTION:CDE/LDE events challenge students to develop critical thinking\, decision-making\, teamwork\, and communication skills. Competitions cover agriculture-related topics like dairy cattle evaluation\, food science\, and public speaking.
URL:https://scholarcomp-aygcdxdhc8b9cwa7.westus-01.azurewebsites.net/event/national-ffa-organization-career-and-leadership-development-events-cde-lde-employment-skills-virtual-components/
CATEGORIES:Public Service and Leadership
ORGANIZER;CN="National FFA Organization":MAILTO:cde@ffa.org
END:VEVENT
END:VCALENDAR