BEGIN:VCALENDAR
VERSION:2.0
PRODID:-//ScholarComp Inc. - ECPv6.11.2.1//NONSGML v1.0//EN
CALSCALE:GREGORIAN
METHOD:PUBLISH
X-WR-CALNAME:ScholarComp Inc.
X-ORIGINAL-URL:https://scholarcomp-aygcdxdhc8b9cwa7.westus-01.azurewebsites.net
X-WR-CALDESC:Events for ScholarComp Inc.
REFRESH-INTERVAL;VALUE=DURATION:PT1H
X-Robots-Tag:noindex
X-PUBLISHED-TTL:PT1H
BEGIN:VTIMEZONE
TZID:America/New_York
BEGIN:DAYLIGHT
TZOFFSETFROM:-0500
TZOFFSETTO:-0400
TZNAME:EDT
DTSTART:20250309T070000
END:DAYLIGHT
BEGIN:STANDARD
TZOFFSETFROM:-0400
TZOFFSETTO:-0500
TZNAME:EST
DTSTART:20251102T060000
END:STANDARD
END:VTIMEZONE
BEGIN:VEVENT
DTSTART;VALUE=DATE:20250505
DTEND;VALUE=DATE:20250508
DTSTAMP:20260423T154421
CREATED:20250418T203633Z
LAST-MODIFIED:20250508T100411Z
UID:10001527-1746403200-1746662399@scholarcomp-aygcdxdhc8b9cwa7.westus-01.azurewebsites.net
SUMMARY:Poetry Out Loud - National Finals
DESCRIPTION:A national poetry recitation contest where high school students compete by memorizing and performing poems. Winners receive cash prizes and scholarships.
URL:https://scholarcomp-aygcdxdhc8b9cwa7.westus-01.azurewebsites.net/event/poetry-out-loud-national-finals-3/
LOCATION:Lisner Auditorium\, George Washington University\, 730 21st Street NW\, Washington\, DC\, 20052\, United States
CATEGORIES:Poetry
ORGANIZER;CN="National Endowment for the Arts%2C Poetry Foundation":MAILTO:Currently Unavailable
END:VEVENT
END:VCALENDAR