BEGIN:VCALENDAR
VERSION:2.0
PRODID:-//ScholarComp Inc. - ECPv6.11.2.1//NONSGML v1.0//EN
CALSCALE:GREGORIAN
METHOD:PUBLISH
X-ORIGINAL-URL:https://scholarcomp-aygcdxdhc8b9cwa7.westus-01.azurewebsites.net
X-WR-CALDESC:Events for ScholarComp Inc.
REFRESH-INTERVAL;VALUE=DURATION:PT1H
X-Robots-Tag:noindex
X-PUBLISHED-TTL:PT1H
BEGIN:VTIMEZONE
TZID:America/Phoenix
BEGIN:STANDARD
TZOFFSETFROM:-0700
TZOFFSETTO:-0700
TZNAME:MST
DTSTART:20250101T000000
END:STANDARD
END:VTIMEZONE
BEGIN:VEVENT
DTSTART;VALUE=DATE:20250518
DTEND;VALUE=DATE:20250520
DTSTAMP:20260423T013916
CREATED:20250418T203730Z
LAST-MODIFIED:20250508T100530Z
UID:10001550-1747526400-1747699199@scholarcomp-aygcdxdhc8b9cwa7.westus-01.azurewebsites.net
SUMMARY:Prospects High School Business Plan & Pitch Competition - In-Person Pitch Competition
DESCRIPTION:A statewide virtual business pitch competition for Montana high school students with new business ideas or existing small businesses.
URL:https://scholarcomp-aygcdxdhc8b9cwa7.westus-01.azurewebsites.net/event/prospects-high-school-business-plan-pitch-competition-in-person-pitch-competition-2/
CATEGORIES:Entrepreneurship
ORGANIZER;CN="Montana Chamber Foundation":MAILTO:info@montanachamber.com
END:VEVENT
END:VCALENDAR