BEGIN:VCALENDAR
VERSION:2.0
PRODID:-//ScholarComp Inc. - ECPv6.11.2.1//NONSGML v1.0//EN
CALSCALE:GREGORIAN
METHOD:PUBLISH
X-WR-CALNAME:ScholarComp Inc.
X-ORIGINAL-URL:https://scholarcomp-aygcdxdhc8b9cwa7.westus-01.azurewebsites.net
X-WR-CALDESC:Events for ScholarComp Inc.
REFRESH-INTERVAL;VALUE=DURATION:PT1H
X-Robots-Tag:noindex
X-PUBLISHED-TTL:PT1H
BEGIN:VTIMEZONE
TZID:America/Chicago
BEGIN:DAYLIGHT
TZOFFSETFROM:-0600
TZOFFSETTO:-0500
TZNAME:CDT
DTSTART:20250309T080000
END:DAYLIGHT
BEGIN:STANDARD
TZOFFSETFROM:-0500
TZOFFSETTO:-0600
TZNAME:CST
DTSTART:20251102T070000
END:STANDARD
END:VTIMEZONE
BEGIN:VEVENT
DTSTART;VALUE=DATE:20250424
DTEND;VALUE=DATE:20250425
DTSTAMP:20260423T042724
CREATED:20250418T203853Z
LAST-MODIFIED:20250508T100715Z
UID:10001571-1745452800-1745539199@scholarcomp-aygcdxdhc8b9cwa7.westus-01.azurewebsites.net
SUMMARY:Math Masters MN - 5th Grade Competition
DESCRIPTION:A Minnesota-based competition for grades 5-6\, encouraging teamwork and problem-solving.
URL:https://scholarcomp-aygcdxdhc8b9cwa7.westus-01.azurewebsites.net/event/math-masters-mn-5th-grade-competition-8/
CATEGORIES:Mathematics
ORGANIZER;CN="Math Masters of Minnesota":MAILTO:mary@math-masters.org
END:VEVENT
BEGIN:VEVENT
DTSTART;VALUE=DATE:20250424
DTEND;VALUE=DATE:20250425
DTSTAMP:20260423T042724
CREATED:20250418T203823Z
LAST-MODIFIED:20250508T100628Z
UID:10001564-1745452800-1745539199@scholarcomp-aygcdxdhc8b9cwa7.westus-01.azurewebsites.net
SUMMARY:Math Masters MN - 4th Grade Competition
DESCRIPTION:A Minnesota-based competition for grades 5-6\, encouraging teamwork and problem-solving.
URL:https://scholarcomp-aygcdxdhc8b9cwa7.westus-01.azurewebsites.net/event/math-masters-mn-4th-grade-competition-14/
CATEGORIES:Mathematics
ORGANIZER;CN="Math Masters of Minnesota":MAILTO:mary@math-masters.org
END:VEVENT
BEGIN:VEVENT
DTSTART;VALUE=DATE:20250423
DTEND;VALUE=DATE:20250424
DTSTAMP:20260423T042724
CREATED:20250418T203820Z
LAST-MODIFIED:20250508T100613Z
UID:10001562-1745366400-1745452799@scholarcomp-aygcdxdhc8b9cwa7.westus-01.azurewebsites.net
SUMMARY:Math Masters MN - 4th Grade Competition
DESCRIPTION:A Minnesota-based competition for grades 5-6\, encouraging teamwork and problem-solving.
URL:https://scholarcomp-aygcdxdhc8b9cwa7.westus-01.azurewebsites.net/event/math-masters-mn-4th-grade-competition-12/
CATEGORIES:Mathematics
ORGANIZER;CN="Math Masters of Minnesota":MAILTO:mary@math-masters.org
END:VEVENT
BEGIN:VEVENT
DTSTART;VALUE=DATE:20250422
DTEND;VALUE=DATE:20250423
DTSTAMP:20260423T042724
CREATED:20250418T203818Z
LAST-MODIFIED:20250508T100612Z
UID:10001561-1745280000-1745366399@scholarcomp-aygcdxdhc8b9cwa7.westus-01.azurewebsites.net
SUMMARY:Math Masters MN - 4th Grade Competition
DESCRIPTION:A Minnesota-based competition for grades 5-6\, encouraging teamwork and problem-solving.
URL:https://scholarcomp-aygcdxdhc8b9cwa7.westus-01.azurewebsites.net/event/math-masters-mn-4th-grade-competition-11/
CATEGORIES:Mathematics
ORGANIZER;CN="Math Masters of Minnesota":MAILTO:mary@math-masters.org
END:VEVENT
END:VCALENDAR