BEGIN:VCALENDAR
VERSION:2.0
PRODID:-//ScholarComp Inc. - ECPv6.11.2.1//NONSGML v1.0//EN
CALSCALE:GREGORIAN
METHOD:PUBLISH
X-WR-CALNAME:ScholarComp Inc.
X-ORIGINAL-URL:https://scholarcomp-aygcdxdhc8b9cwa7.westus-01.azurewebsites.net
X-WR-CALDESC:Events for ScholarComp Inc.
REFRESH-INTERVAL;VALUE=DURATION:PT1H
X-Robots-Tag:noindex
X-PUBLISHED-TTL:PT1H
BEGIN:VTIMEZONE
TZID:America/New_York
BEGIN:DAYLIGHT
TZOFFSETFROM:-0500
TZOFFSETTO:-0400
TZNAME:EDT
DTSTART:20250309T070000
END:DAYLIGHT
BEGIN:STANDARD
TZOFFSETFROM:-0400
TZOFFSETTO:-0500
TZNAME:EST
DTSTART:20251102T060000
END:STANDARD
END:VTIMEZONE
BEGIN:VEVENT
DTSTART;VALUE=DATE:20250510
DTEND;VALUE=DATE:20250511
DTSTAMP:20260423T114910
CREATED:20250418T204341Z
LAST-MODIFIED:20250508T101140Z
UID:10001637-1746835200-1746921599@scholarcomp-aygcdxdhc8b9cwa7.westus-01.azurewebsites.net
SUMMARY:Math League - Elementary Connecticut State Championship
DESCRIPTION:Math League is the largest network of local\, state\, and international math competitions for elementary\, middle\, and high school students. The competition helps students improve their problem-solving skills.
URL:https://scholarcomp-aygcdxdhc8b9cwa7.westus-01.azurewebsites.net/event/math-league-elementary-connecticut-state-championship-2/
LOCATION:Online
CATEGORIES:Mathematics
ORGANIZER;CN="Math League":MAILTO:mathleague@mathleague.org
END:VEVENT
BEGIN:VEVENT
DTSTART;VALUE=DATE:20250510
DTEND;VALUE=DATE:20250511
DTSTAMP:20260423T114910
CREATED:20250418T204340Z
LAST-MODIFIED:20250508T101139Z
UID:10001636-1746835200-1746921599@scholarcomp-aygcdxdhc8b9cwa7.westus-01.azurewebsites.net
SUMMARY:Math League - Elementary Washington State Championship
DESCRIPTION:Math League is the largest network of local\, state\, and international math competitions for elementary\, middle\, and high school students. The competition helps students improve their problem-solving skills.
URL:https://scholarcomp-aygcdxdhc8b9cwa7.westus-01.azurewebsites.net/event/math-league-elementary-washington-state-championship-2/
LOCATION:Online
CATEGORIES:Mathematics
ORGANIZER;CN="Math League":MAILTO:mathleague@mathleague.org
END:VEVENT
BEGIN:VEVENT
DTSTART;VALUE=DATE:20250510
DTEND;VALUE=DATE:20250511
DTSTAMP:20260423T114910
CREATED:20250418T204338Z
LAST-MODIFIED:20250508T101138Z
UID:10001635-1746835200-1746921599@scholarcomp-aygcdxdhc8b9cwa7.westus-01.azurewebsites.net
SUMMARY:Math League - Elementary Oregon State Championship
DESCRIPTION:Math League is the largest network of local\, state\, and international math competitions for elementary\, middle\, and high school students. The competition helps students improve their problem-solving skills.
URL:https://scholarcomp-aygcdxdhc8b9cwa7.westus-01.azurewebsites.net/event/math-league-elementary-oregon-state-championship-2/
LOCATION:Online
CATEGORIES:Mathematics
ORGANIZER;CN="Math League":MAILTO:mathleague@mathleague.org
END:VEVENT
BEGIN:VEVENT
DTSTART;VALUE=DATE:20250510
DTEND;VALUE=DATE:20250511
DTSTAMP:20260423T114910
CREATED:20250418T204337Z
LAST-MODIFIED:20250508T101137Z
UID:10001634-1746835200-1746921599@scholarcomp-aygcdxdhc8b9cwa7.westus-01.azurewebsites.net
SUMMARY:Math League - Elementary Colorado State Championship
DESCRIPTION:Math League is the largest network of local\, state\, and international math competitions for elementary\, middle\, and high school students. The competition helps students improve their problem-solving skills.
URL:https://scholarcomp-aygcdxdhc8b9cwa7.westus-01.azurewebsites.net/event/math-league-elementary-colorado-state-championship-2/
LOCATION:Online
CATEGORIES:Mathematics
ORGANIZER;CN="Math League":MAILTO:mathleague@mathleague.org
END:VEVENT
BEGIN:VEVENT
DTSTART;VALUE=DATE:20250510
DTEND;VALUE=DATE:20250511
DTSTAMP:20260423T114910
CREATED:20250418T204335Z
LAST-MODIFIED:20250508T101136Z
UID:10001633-1746835200-1746921599@scholarcomp-aygcdxdhc8b9cwa7.westus-01.azurewebsites.net
SUMMARY:Math League - Elementary Texas State Championship
DESCRIPTION:Math League is the largest network of local\, state\, and international math competitions for elementary\, middle\, and high school students. The competition helps students improve their problem-solving skills.
URL:https://scholarcomp-aygcdxdhc8b9cwa7.westus-01.azurewebsites.net/event/math-league-elementary-texas-state-championship-2/
LOCATION:Sugar Land\, Sugar Land\, TX\, United States
CATEGORIES:Mathematics
ORGANIZER;CN="Math League":MAILTO:mathleague@mathleague.org
END:VEVENT
BEGIN:VEVENT
DTSTART;VALUE=DATE:20250510
DTEND;VALUE=DATE:20250511
DTSTAMP:20260423T114910
CREATED:20250418T204330Z
LAST-MODIFIED:20250508T101100Z
UID:10001632-1746835200-1746921599@scholarcomp-aygcdxdhc8b9cwa7.westus-01.azurewebsites.net
SUMMARY:Math League - Elementary CNMI State Championship
DESCRIPTION:Math League is the largest network of local\, state\, and international math competitions for elementary\, middle\, and high school students. The competition helps students improve their problem-solving skills.
URL:https://scholarcomp-aygcdxdhc8b9cwa7.westus-01.azurewebsites.net/event/math-league-elementary-cnmi-state-championship-2/
LOCATION:Saipan\, Saipan\, MP\, United States
CATEGORIES:Mathematics
ORGANIZER;CN="Math League":MAILTO:mathleague@mathleague.org
END:VEVENT
BEGIN:VEVENT
DTSTART;VALUE=DATE:20250510
DTEND;VALUE=DATE:20250511
DTSTAMP:20260423T114910
CREATED:20250418T204328Z
LAST-MODIFIED:20250508T101059Z
UID:10001631-1746835200-1746921599@scholarcomp-aygcdxdhc8b9cwa7.westus-01.azurewebsites.net
SUMMARY:Math League - Elementary Missouri State Championship
DESCRIPTION:Math League is the largest network of local\, state\, and international math competitions for elementary\, middle\, and high school students. The competition helps students improve their problem-solving skills.
URL:https://scholarcomp-aygcdxdhc8b9cwa7.westus-01.azurewebsites.net/event/math-league-elementary-missouri-state-championship-2/
LOCATION:Columbia\, Columbia\, MO\, United States
CATEGORIES:Mathematics
ORGANIZER;CN="Math League":MAILTO:mathleague@mathleague.org
END:VEVENT
BEGIN:VEVENT
DTSTART;VALUE=DATE:20250510
DTEND;VALUE=DATE:20250511
DTSTAMP:20260423T114910
CREATED:20250418T204327Z
LAST-MODIFIED:20250508T101058Z
UID:10001630-1746835200-1746921599@scholarcomp-aygcdxdhc8b9cwa7.westus-01.azurewebsites.net
SUMMARY:Math League - Elementary New Hampshire State Championship
DESCRIPTION:Math League is the largest network of local\, state\, and international math competitions for elementary\, middle\, and high school students. The competition helps students improve their problem-solving skills.
URL:https://scholarcomp-aygcdxdhc8b9cwa7.westus-01.azurewebsites.net/event/math-league-elementary-new-hampshire-state-championship-2/
LOCATION:Online
CATEGORIES:Mathematics
ORGANIZER;CN="Math League":MAILTO:mathleague@mathleague.org
END:VEVENT
BEGIN:VEVENT
DTSTART;VALUE=DATE:20250510
DTEND;VALUE=DATE:20250511
DTSTAMP:20260423T114910
CREATED:20250418T204325Z
LAST-MODIFIED:20250508T101057Z
UID:10001629-1746835200-1746921599@scholarcomp-aygcdxdhc8b9cwa7.westus-01.azurewebsites.net
SUMMARY:Math League - Elementary Pennsylvania State Championship
DESCRIPTION:Math League is the largest network of local\, state\, and international math competitions for elementary\, middle\, and high school students. The competition helps students improve their problem-solving skills.
URL:https://scholarcomp-aygcdxdhc8b9cwa7.westus-01.azurewebsites.net/event/math-league-elementary-pennsylvania-state-championship-2/
LOCATION:Online
CATEGORIES:Mathematics
ORGANIZER;CN="Math League":MAILTO:mathleague@mathleague.org
END:VEVENT
BEGIN:VEVENT
DTSTART;VALUE=DATE:20250510
DTEND;VALUE=DATE:20250511
DTSTAMP:20260423T114910
CREATED:20250418T204324Z
LAST-MODIFIED:20250508T101056Z
UID:10001628-1746835200-1746921599@scholarcomp-aygcdxdhc8b9cwa7.westus-01.azurewebsites.net
SUMMARY:Math League - Elementary Kansas State Championship
DESCRIPTION:Math League is the largest network of local\, state\, and international math competitions for elementary\, middle\, and high school students. The competition helps students improve their problem-solving skills.
URL:https://scholarcomp-aygcdxdhc8b9cwa7.westus-01.azurewebsites.net/event/math-league-elementary-kansas-state-championship-2/
LOCATION:Online
CATEGORIES:Mathematics
ORGANIZER;CN="Math League":MAILTO:mathleague@mathleague.org
END:VEVENT
BEGIN:VEVENT
DTSTART;VALUE=DATE:20250510
DTEND;VALUE=DATE:20250511
DTSTAMP:20260423T114910
CREATED:20250418T204317Z
LAST-MODIFIED:20250508T101045Z
UID:10001627-1746835200-1746921599@scholarcomp-aygcdxdhc8b9cwa7.westus-01.azurewebsites.net
SUMMARY:Math League - Elementary Iowa State Championship
DESCRIPTION:Math League is the largest network of local\, state\, and international math competitions for elementary\, middle\, and high school students. The competition helps students improve their problem-solving skills.
URL:https://scholarcomp-aygcdxdhc8b9cwa7.westus-01.azurewebsites.net/event/math-league-elementary-iowa-state-championship-2/
LOCATION:Online
CATEGORIES:Mathematics
ORGANIZER;CN="Math League":MAILTO:mathleague@mathleague.org
END:VEVENT
BEGIN:VEVENT
DTSTART;VALUE=DATE:20250510
DTEND;VALUE=DATE:20250511
DTSTAMP:20260423T114910
CREATED:20250418T204315Z
LAST-MODIFIED:20250508T101044Z
UID:10001626-1746835200-1746921599@scholarcomp-aygcdxdhc8b9cwa7.westus-01.azurewebsites.net
SUMMARY:Math League - Elementary Georgia State Championship
DESCRIPTION:Math League is the largest network of local\, state\, and international math competitions for elementary\, middle\, and high school students. The competition helps students improve their problem-solving skills.
URL:https://scholarcomp-aygcdxdhc8b9cwa7.westus-01.azurewebsites.net/event/math-league-elementary-georgia-state-championship-2/
LOCATION:Alpharetta\, Alpharetta\, GA\, United States
CATEGORIES:Mathematics
ORGANIZER;CN="Math League":MAILTO:mathleague@mathleague.org
END:VEVENT
BEGIN:VEVENT
DTSTART;VALUE=DATE:20250510
DTEND;VALUE=DATE:20250511
DTSTAMP:20260423T114910
CREATED:20250418T204314Z
LAST-MODIFIED:20250508T101043Z
UID:10001625-1746835200-1746921599@scholarcomp-aygcdxdhc8b9cwa7.westus-01.azurewebsites.net
SUMMARY:Math League - Elementary Southern California State Championship
DESCRIPTION:Math League is the largest network of local\, state\, and international math competitions for elementary\, middle\, and high school students. The competition helps students improve their problem-solving skills.
URL:https://scholarcomp-aygcdxdhc8b9cwa7.westus-01.azurewebsites.net/event/math-league-elementary-southern-california-state-championship-2/
LOCATION:Online
CATEGORIES:Mathematics
ORGANIZER;CN="Math League":MAILTO:mathleague@mathleague.org
END:VEVENT
BEGIN:VEVENT
DTSTART;VALUE=DATE:20250510
DTEND;VALUE=DATE:20250511
DTSTAMP:20260423T114910
CREATED:20250418T204312Z
LAST-MODIFIED:20250508T101042Z
UID:10001624-1746835200-1746921599@scholarcomp-aygcdxdhc8b9cwa7.westus-01.azurewebsites.net
SUMMARY:Math League - Elementary Alabama State Championship
DESCRIPTION:Math League is the largest network of local\, state\, and international math competitions for elementary\, middle\, and high school students. The competition helps students improve their problem-solving skills.
URL:https://scholarcomp-aygcdxdhc8b9cwa7.westus-01.azurewebsites.net/event/math-league-elementary-alabama-state-championship-2/
LOCATION:Online
CATEGORIES:Mathematics
ORGANIZER;CN="Math League":MAILTO:mathleague@mathleague.org
END:VEVENT
BEGIN:VEVENT
DTSTART;VALUE=DATE:20250510
DTEND;VALUE=DATE:20250511
DTSTAMP:20260423T114910
CREATED:20250418T204310Z
LAST-MODIFIED:20250508T101041Z
UID:10001623-1746835200-1746921599@scholarcomp-aygcdxdhc8b9cwa7.westus-01.azurewebsites.net
SUMMARY:Math League - Elementary Wisconsin State Championship
DESCRIPTION:Math League is the largest network of local\, state\, and international math competitions for elementary\, middle\, and high school students. The competition helps students improve their problem-solving skills.
URL:https://scholarcomp-aygcdxdhc8b9cwa7.westus-01.azurewebsites.net/event/math-league-elementary-wisconsin-state-championship-2/
LOCATION:Online
CATEGORIES:Mathematics
ORGANIZER;CN="Math League":MAILTO:mathleague@mathleague.org
END:VEVENT
BEGIN:VEVENT
DTSTART;VALUE=DATE:20250504
DTEND;VALUE=DATE:20250505
DTSTAMP:20260423T114910
CREATED:20250418T204305Z
LAST-MODIFIED:20250508T101030Z
UID:10001622-1746316800-1746403199@scholarcomp-aygcdxdhc8b9cwa7.westus-01.azurewebsites.net
SUMMARY:Math League - Elementary Northern California State Championship
DESCRIPTION:Math League is the largest network of local\, state\, and international math competitions for elementary\, middle\, and high school students. The competition helps students improve their problem-solving skills.
URL:https://scholarcomp-aygcdxdhc8b9cwa7.westus-01.azurewebsites.net/event/math-league-elementary-northern-california-state-championship-2/
LOCATION:Fremont\, Fremont\, CA\, United States
CATEGORIES:Mathematics
ORGANIZER;CN="Math League":MAILTO:mathleague@mathleague.org
END:VEVENT
BEGIN:VEVENT
DTSTART;VALUE=DATE:20250503
DTEND;VALUE=DATE:20250504
DTSTAMP:20260423T114910
CREATED:20250418T204303Z
LAST-MODIFIED:20250508T101029Z
UID:10001621-1746230400-1746316799@scholarcomp-aygcdxdhc8b9cwa7.westus-01.azurewebsites.net
SUMMARY:Math League - Elementary Nevada State Championship
DESCRIPTION:Math League is the largest network of local\, state\, and international math competitions for elementary\, middle\, and high school students. The competition helps students improve their problem-solving skills.
URL:https://scholarcomp-aygcdxdhc8b9cwa7.westus-01.azurewebsites.net/event/math-league-elementary-nevada-state-championship-2/
LOCATION:Las Vegas\, Las Vegas\, NV\, United States
CATEGORIES:Mathematics
ORGANIZER;CN="Math League":MAILTO:mathleague@mathleague.org
END:VEVENT
BEGIN:VEVENT
DTSTART;VALUE=DATE:20250503
DTEND;VALUE=DATE:20250504
DTSTAMP:20260423T114910
CREATED:20250418T204302Z
LAST-MODIFIED:20250508T101028Z
UID:10001620-1746230400-1746316799@scholarcomp-aygcdxdhc8b9cwa7.westus-01.azurewebsites.net
SUMMARY:Math League - Elementary District of Columbia State Championship
DESCRIPTION:Math League is the largest network of local\, state\, and international math competitions for elementary\, middle\, and high school students. The competition helps students improve their problem-solving skills.
URL:https://scholarcomp-aygcdxdhc8b9cwa7.westus-01.azurewebsites.net/event/math-league-elementary-district-of-columbia-state-championship-2/
LOCATION:Washington\, Washington\, DC\, United States
CATEGORIES:Mathematics
ORGANIZER;CN="Math League":MAILTO:mathleague@mathleague.org
END:VEVENT
BEGIN:VEVENT
DTSTART;VALUE=DATE:20250503
DTEND;VALUE=DATE:20250504
DTSTAMP:20260423T114910
CREATED:20250418T204300Z
LAST-MODIFIED:20250508T101027Z
UID:10001619-1746230400-1746316799@scholarcomp-aygcdxdhc8b9cwa7.westus-01.azurewebsites.net
SUMMARY:Math League - Elementary Virginia State Championship
DESCRIPTION:Math League is the largest network of local\, state\, and international math competitions for elementary\, middle\, and high school students. The competition helps students improve their problem-solving skills.
URL:https://scholarcomp-aygcdxdhc8b9cwa7.westus-01.azurewebsites.net/event/math-league-elementary-virginia-state-championship-2/
LOCATION:Washington\, Washington\, DC\, United States
CATEGORIES:Mathematics
ORGANIZER;CN="Math League":MAILTO:mathleague@mathleague.org
END:VEVENT
BEGIN:VEVENT
DTSTART;VALUE=DATE:20250503
DTEND;VALUE=DATE:20250504
DTSTAMP:20260423T114910
CREATED:20250418T204259Z
LAST-MODIFIED:20250508T101026Z
UID:10001618-1746230400-1746316799@scholarcomp-aygcdxdhc8b9cwa7.westus-01.azurewebsites.net
SUMMARY:Math League - Elementary Maryland State Championship
DESCRIPTION:Math League is the largest network of local\, state\, and international math competitions for elementary\, middle\, and high school students. The competition helps students improve their problem-solving skills.
URL:https://scholarcomp-aygcdxdhc8b9cwa7.westus-01.azurewebsites.net/event/math-league-elementary-maryland-state-championship-2/
LOCATION:Washington\, Washington\, DC\, United States
CATEGORIES:Mathematics
ORGANIZER;CN="Math League":MAILTO:mathleague@mathleague.org
END:VEVENT
BEGIN:VEVENT
DTSTART;VALUE=DATE:20250502
DTEND;VALUE=DATE:20250503
DTSTAMP:20260423T114910
CREATED:20250418T204254Z
LAST-MODIFIED:20250508T101016Z
UID:10001617-1746144000-1746230399@scholarcomp-aygcdxdhc8b9cwa7.westus-01.azurewebsites.net
SUMMARY:Math League - Elementary Arizona State Championship
DESCRIPTION:Math League is the largest network of local\, state\, and international math competitions for elementary\, middle\, and high school students. The competition helps students improve their problem-solving skills.
URL:https://scholarcomp-aygcdxdhc8b9cwa7.westus-01.azurewebsites.net/event/math-league-elementary-arizona-state-championship-2/
LOCATION:Queen Creek\, Queen Creek\, AZ\, United States
CATEGORIES:Mathematics
ORGANIZER;CN="Math League":MAILTO:mathleague@mathleague.org
END:VEVENT
BEGIN:VEVENT
DTSTART;VALUE=DATE:20250427
DTEND;VALUE=DATE:20250428
DTSTAMP:20260423T114910
CREATED:20250418T204252Z
LAST-MODIFIED:20250508T101014Z
UID:10001616-1745712000-1745798399@scholarcomp-aygcdxdhc8b9cwa7.westus-01.azurewebsites.net
SUMMARY:Math League - Elementary Florida State Championship
DESCRIPTION:Math League is the largest network of local\, state\, and international math competitions for elementary\, middle\, and high school students. The competition helps students improve their problem-solving skills.
URL:https://scholarcomp-aygcdxdhc8b9cwa7.westus-01.azurewebsites.net/event/math-league-elementary-florida-state-championship-2/
LOCATION:Winter Garden\, Winter Garden\, FL\, United States
CATEGORIES:Mathematics
ORGANIZER;CN="Math League":MAILTO:mathleague@mathleague.org
END:VEVENT
BEGIN:VEVENT
DTSTART;VALUE=DATE:20250426
DTEND;VALUE=DATE:20250427
DTSTAMP:20260423T114910
CREATED:20250418T204608Z
LAST-MODIFIED:20250508T102235Z
UID:10001680-1745625600-1745711999@scholarcomp-aygcdxdhc8b9cwa7.westus-01.azurewebsites.net
SUMMARY:Math League - High School Missouri State Championship
DESCRIPTION:Math League is the largest network of local\, state\, and international math competitions for elementary\, middle\, and high school students. The competition helps students improve their problem-solving skills.
URL:https://scholarcomp-aygcdxdhc8b9cwa7.westus-01.azurewebsites.net/event/math-league-high-school-missouri-state-championship-2/
LOCATION:Columbia\, Columbia\, MO\, United States
CATEGORIES:Mathematics
ORGANIZER;CN="Math League":MAILTO:mathleague@mathleague.org
END:VEVENT
BEGIN:VEVENT
DTSTART;VALUE=DATE:20250426
DTEND;VALUE=DATE:20250427
DTSTAMP:20260423T114910
CREATED:20250418T204606Z
LAST-MODIFIED:20250508T102233Z
UID:10001679-1745625600-1745711999@scholarcomp-aygcdxdhc8b9cwa7.westus-01.azurewebsites.net
SUMMARY:Math League - High School Washington State Championship
DESCRIPTION:Math League is the largest network of local\, state\, and international math competitions for elementary\, middle\, and high school students. The competition helps students improve their problem-solving skills.
URL:https://scholarcomp-aygcdxdhc8b9cwa7.westus-01.azurewebsites.net/event/math-league-high-school-washington-state-championship-2/
LOCATION:Olympia\, Olympia\, WA\, United States
CATEGORIES:Mathematics
ORGANIZER;CN="Math League":MAILTO:mathleague@mathleague.org
END:VEVENT
BEGIN:VEVENT
DTSTART;VALUE=DATE:20250426
DTEND;VALUE=DATE:20250427
DTSTAMP:20260423T114910
CREATED:20250418T204605Z
LAST-MODIFIED:20250508T102232Z
UID:10001678-1745625600-1745711999@scholarcomp-aygcdxdhc8b9cwa7.westus-01.azurewebsites.net
SUMMARY:Math League - High School Southern California State Championship
DESCRIPTION:Math League is the largest network of local\, state\, and international math competitions for elementary\, middle\, and high school students. The competition helps students improve their problem-solving skills.
URL:https://scholarcomp-aygcdxdhc8b9cwa7.westus-01.azurewebsites.net/event/math-league-high-school-southern-california-state-championship-2/
LOCATION:Online
CATEGORIES:Mathematics
ORGANIZER;CN="Math League":MAILTO:mathleague@mathleague.org
END:VEVENT
BEGIN:VEVENT
DTSTART;VALUE=DATE:20250426
DTEND;VALUE=DATE:20250427
DTSTAMP:20260423T114910
CREATED:20250418T204551Z
LAST-MODIFIED:20250508T102221Z
UID:10001677-1745625600-1745711999@scholarcomp-aygcdxdhc8b9cwa7.westus-01.azurewebsites.net
SUMMARY:Math League - High School Nevada State Championship
DESCRIPTION:Math League is the largest network of local\, state\, and international math competitions for elementary\, middle\, and high school students. The competition helps students improve their problem-solving skills.
URL:https://scholarcomp-aygcdxdhc8b9cwa7.westus-01.azurewebsites.net/event/math-league-high-school-nevada-state-championship-2/
LOCATION:Online
CATEGORIES:Mathematics
ORGANIZER;CN="Math League":MAILTO:mathleague@mathleague.org
END:VEVENT
BEGIN:VEVENT
DTSTART;VALUE=DATE:20250426
DTEND;VALUE=DATE:20250427
DTSTAMP:20260423T114910
CREATED:20250418T204550Z
LAST-MODIFIED:20250508T102220Z
UID:10001676-1745625600-1745711999@scholarcomp-aygcdxdhc8b9cwa7.westus-01.azurewebsites.net
SUMMARY:Math League - High School Connecticut State Championship
DESCRIPTION:Math League is the largest network of local\, state\, and international math competitions for elementary\, middle\, and high school students. The competition helps students improve their problem-solving skills.
URL:https://scholarcomp-aygcdxdhc8b9cwa7.westus-01.azurewebsites.net/event/math-league-high-school-connecticut-state-championship-2/
LOCATION:Online
CATEGORIES:Mathematics
ORGANIZER;CN="Math League":MAILTO:mathleague@mathleague.org
END:VEVENT
BEGIN:VEVENT
DTSTART;VALUE=DATE:20250426
DTEND;VALUE=DATE:20250427
DTSTAMP:20260423T114910
CREATED:20250418T204548Z
LAST-MODIFIED:20250508T102219Z
UID:10001675-1745625600-1745711999@scholarcomp-aygcdxdhc8b9cwa7.westus-01.azurewebsites.net
SUMMARY:Math League - High School Florida State Championship
DESCRIPTION:Math League is the largest network of local\, state\, and international math competitions for elementary\, middle\, and high school students. The competition helps students improve their problem-solving skills.
URL:https://scholarcomp-aygcdxdhc8b9cwa7.westus-01.azurewebsites.net/event/math-league-high-school-florida-state-championship-2/
LOCATION:Online
CATEGORIES:Mathematics
ORGANIZER;CN="Math League":MAILTO:mathleague@mathleague.org
END:VEVENT
BEGIN:VEVENT
DTSTART;VALUE=DATE:20250426
DTEND;VALUE=DATE:20250427
DTSTAMP:20260423T114910
CREATED:20250418T204546Z
LAST-MODIFIED:20250508T102218Z
UID:10001674-1745625600-1745711999@scholarcomp-aygcdxdhc8b9cwa7.westus-01.azurewebsites.net
SUMMARY:Math League - High School Georgia State Championship
DESCRIPTION:Math League is the largest network of local\, state\, and international math competitions for elementary\, middle\, and high school students. The competition helps students improve their problem-solving skills.
URL:https://scholarcomp-aygcdxdhc8b9cwa7.westus-01.azurewebsites.net/event/math-league-high-school-georgia-state-championship-2/
LOCATION:Online
CATEGORIES:Mathematics
ORGANIZER;CN="Math League":MAILTO:mathleague@mathleague.org
END:VEVENT
BEGIN:VEVENT
DTSTART;VALUE=DATE:20250426
DTEND;VALUE=DATE:20250427
DTSTAMP:20260423T114910
CREATED:20250418T204545Z
LAST-MODIFIED:20250508T102217Z
UID:10001673-1745625600-1745711999@scholarcomp-aygcdxdhc8b9cwa7.westus-01.azurewebsites.net
SUMMARY:Math League - High School Massachusetts State Championship
DESCRIPTION:Math League is the largest network of local\, state\, and international math competitions for elementary\, middle\, and high school students. The competition helps students improve their problem-solving skills.
URL:https://scholarcomp-aygcdxdhc8b9cwa7.westus-01.azurewebsites.net/event/math-league-high-school-massachusetts-state-championship-2/
LOCATION:Online
CATEGORIES:Mathematics
ORGANIZER;CN="Math League":MAILTO:mathleague@mathleague.org
END:VEVENT
END:VCALENDAR