BEGIN:VCALENDAR
VERSION:2.0
PRODID:-//ScholarComp Inc. - ECPv6.11.2.1//NONSGML v1.0//EN
CALSCALE:GREGORIAN
METHOD:PUBLISH
X-WR-CALNAME:ScholarComp Inc.
X-ORIGINAL-URL:https://scholarcomp-aygcdxdhc8b9cwa7.westus-01.azurewebsites.net
X-WR-CALDESC:Events for ScholarComp Inc.
REFRESH-INTERVAL;VALUE=DURATION:PT1H
X-Robots-Tag:noindex
X-PUBLISHED-TTL:PT1H
BEGIN:VTIMEZONE
TZID:America/New_York
BEGIN:DAYLIGHT
TZOFFSETFROM:-0500
TZOFFSETTO:-0400
TZNAME:EDT
DTSTART:20250309T070000
END:DAYLIGHT
BEGIN:STANDARD
TZOFFSETFROM:-0400
TZOFFSETTO:-0500
TZNAME:EST
DTSTART:20251102T060000
END:STANDARD
END:VTIMEZONE
BEGIN:VEVENT
DTSTART;VALUE=DATE:20250830
DTEND;VALUE=DATE:20250905
DTSTAMP:20260423T060041
CREATED:20250418T210635Z
LAST-MODIFIED:20250508T100926Z
UID:10001789-1756512000-1757030399@scholarcomp-aygcdxdhc8b9cwa7.westus-01.azurewebsites.net
SUMMARY:International Collegiate Programming Contest (ICPC) - 49th Annual World Finals of ICPC
DESCRIPTION:The ICPC is the world’s largest and most prestigious algorithmic programming competition for university students\, fostering collaboration\, creativity\, and innovation through problem-solving challenges.
URL:https://scholarcomp-aygcdxdhc8b9cwa7.westus-01.azurewebsites.net/event/international-collegiate-programming-contest-icpc-49th-annual-world-finals-of-icpc/
CATEGORIES:Computer Science
ORGANIZER;CN="ICPC Foundation":MAILTO:manager@icpc.global
END:VEVENT
BEGIN:VEVENT
DTSTART;VALUE=DATE:20250525
DTEND;VALUE=DATE:20250526
DTSTAMP:20260423T060041
CREATED:20250418T204147Z
LAST-MODIFIED:20250508T100915Z
UID:10001597-1748131200-1748217599@scholarcomp-aygcdxdhc8b9cwa7.westus-01.azurewebsites.net
SUMMARY:International Collegiate Programming Contest (ICPC) - 2025 ICPC North America Championship
DESCRIPTION:The ICPC is the world’s largest and most prestigious algorithmic programming competition for university students\, fostering collaboration\, creativity\, and innovation through problem-solving challenges.
URL:https://scholarcomp-aygcdxdhc8b9cwa7.westus-01.azurewebsites.net/event/international-collegiate-programming-contest-icpc-2025-icpc-north-america-championship-2/
CATEGORIES:Computer Science
ORGANIZER;CN="ICPC Foundation":MAILTO:manager@icpc.global
END:VEVENT
BEGIN:VEVENT
DTSTART;VALUE=DATE:20250525
DTEND;VALUE=DATE:20250526
DTSTAMP:20260423T060041
CREATED:20250418T204145Z
LAST-MODIFIED:20250508T100914Z
UID:10001596-1748131200-1748217599@scholarcomp-aygcdxdhc8b9cwa7.westus-01.azurewebsites.net
SUMMARY:International Collegiate Programming Contest (ICPC) - 2025 ICPC NAC Online Problem Sampler
DESCRIPTION:The ICPC is the world’s largest and most prestigious algorithmic programming competition for university students\, fostering collaboration\, creativity\, and innovation through problem-solving challenges.
URL:https://scholarcomp-aygcdxdhc8b9cwa7.westus-01.azurewebsites.net/event/international-collegiate-programming-contest-icpc-2025-icpc-nac-online-problem-sampler-2/
CATEGORIES:Computer Science
ORGANIZER;CN="ICPC Foundation":MAILTO:manager@icpc.global
END:VEVENT
END:VCALENDAR