BEGIN:VCALENDAR
VERSION:2.0
PRODID:-//ScholarComp Inc. - ECPv6.11.2.1//NONSGML v1.0//EN
CALSCALE:GREGORIAN
METHOD:PUBLISH
X-WR-CALNAME:ScholarComp Inc.
X-ORIGINAL-URL:https://scholarcomp-aygcdxdhc8b9cwa7.westus-01.azurewebsites.net
X-WR-CALDESC:Events for ScholarComp Inc.
REFRESH-INTERVAL;VALUE=DURATION:PT1H
X-Robots-Tag:noindex
X-PUBLISHED-TTL:PT1H
BEGIN:VTIMEZONE
TZID:America/New_York
BEGIN:DAYLIGHT
TZOFFSETFROM:-0500
TZOFFSETTO:-0400
TZNAME:EDT
DTSTART:20250309T070000
END:DAYLIGHT
BEGIN:STANDARD
TZOFFSETFROM:-0400
TZOFFSETTO:-0500
TZNAME:EST
DTSTART:20251102T060000
END:STANDARD
END:VTIMEZONE
BEGIN:VEVENT
DTSTART;TZID=America/New_York:20250503T084500
DTEND;TZID=America/New_York:20250503T160000
DTSTAMP:20260423T061753
CREATED:20250418T175955Z
LAST-MODIFIED:20250508T102605Z
UID:10001463-1746261900-1746288000@scholarcomp-aygcdxdhc8b9cwa7.westus-01.azurewebsites.net
SUMMARY:Redwood Empire Mathematics Tournament 2025
DESCRIPTION:A regional math tournament fostering problem-solving and critical thinking among high school students.
URL:https://scholarcomp-aygcdxdhc8b9cwa7.westus-01.azurewebsites.net/event/redwood-empire-mathematics-tournament-2025/
LOCATION:Cal Poly Humboldt\, Arcata\, CA\, United States
CATEGORIES:Mathematics
ORGANIZER;CN="Humboldt State University":MAILTO:brad@humboldt.edu
END:VEVENT
END:VCALENDAR