BEGIN:VCALENDAR
VERSION:2.0
PRODID:-//ScholarComp Inc. - ECPv6.11.2.1//NONSGML v1.0//EN
CALSCALE:GREGORIAN
METHOD:PUBLISH
X-ORIGINAL-URL:https://scholarcomp-aygcdxdhc8b9cwa7.westus-01.azurewebsites.net
X-WR-CALDESC:Events for ScholarComp Inc.
REFRESH-INTERVAL;VALUE=DURATION:PT1H
X-Robots-Tag:noindex
X-PUBLISHED-TTL:PT1H
BEGIN:VTIMEZONE
TZID:America/New_York
BEGIN:DAYLIGHT
TZOFFSETFROM:-0500
TZOFFSETTO:-0400
TZNAME:EDT
DTSTART:20250309T070000
END:DAYLIGHT
BEGIN:STANDARD
TZOFFSETFROM:-0400
TZOFFSETTO:-0500
TZNAME:EST
DTSTART:20251102T060000
END:STANDARD
BEGIN:DAYLIGHT
TZOFFSETFROM:-0500
TZOFFSETTO:-0400
TZNAME:EDT
DTSTART:20260308T070000
END:DAYLIGHT
BEGIN:STANDARD
TZOFFSETFROM:-0400
TZOFFSETTO:-0500
TZNAME:EST
DTSTART:20261101T060000
END:STANDARD
END:VTIMEZONE
BEGIN:VTIMEZONE
TZID:America/New_York
BEGIN:DAYLIGHT
TZOFFSETFROM:-0500
TZOFFSETTO:-0400
TZNAME:EDT
DTSTART:20250309T070000
END:DAYLIGHT
BEGIN:STANDARD
TZOFFSETFROM:-0400
TZOFFSETTO:-0500
TZNAME:EST
DTSTART:20251102T060000
END:STANDARD
END:VTIMEZONE
BEGIN:VEVENT
DTSTART;VALUE=DATE:20260309
DTEND;VALUE=DATE:20260310
DTSTAMP:20260422T234957
CREATED:20250418T210039Z
LAST-MODIFIED:20250508T100259Z
UID:10001750-1773014400-1773100799@scholarcomp-aygcdxdhc8b9cwa7.westus-01.azurewebsites.net
SUMMARY:National Current Events League - Meet 4
DESCRIPTION:National Current Events League (NCEL) is a contest where students answer multiple-choice questions on current events across four meets throughout the school year. Topics include general news\, science\, arts\, business\, and sports.
URL:https://scholarcomp-aygcdxdhc8b9cwa7.westus-01.azurewebsites.net/event/national-current-events-league-meet-4/
CATEGORIES:Knowledge Sports
ORGANIZER;CN="Continental Mathematics League":MAILTO:hello@cmleague.com
END:VEVENT
BEGIN:VEVENT
DTSTART;VALUE=DATE:20260202
DTEND;VALUE=DATE:20260203
DTSTAMP:20260422T234957
CREATED:20250418T210038Z
LAST-MODIFIED:20250508T100258Z
UID:10001749-1769990400-1770076799@scholarcomp-aygcdxdhc8b9cwa7.westus-01.azurewebsites.net
SUMMARY:National Current Events League - Meet 3
DESCRIPTION:National Current Events League (NCEL) is a contest where students answer multiple-choice questions on current events across four meets throughout the school year. Topics include general news\, science\, arts\, business\, and sports.
URL:https://scholarcomp-aygcdxdhc8b9cwa7.westus-01.azurewebsites.net/event/national-current-events-league-meet-3/
CATEGORIES:Knowledge Sports
ORGANIZER;CN="Continental Mathematics League":MAILTO:hello@cmleague.com
END:VEVENT
BEGIN:VEVENT
DTSTART;VALUE=DATE:20260105
DTEND;VALUE=DATE:20260106
DTSTAMP:20260422T234957
CREATED:20250418T210036Z
LAST-MODIFIED:20250508T100257Z
UID:10001748-1767571200-1767657599@scholarcomp-aygcdxdhc8b9cwa7.westus-01.azurewebsites.net
SUMMARY:National Current Events League - Meet 2
DESCRIPTION:National Current Events League (NCEL) is a contest where students answer multiple-choice questions on current events across four meets throughout the school year. Topics include general news\, science\, arts\, business\, and sports.
URL:https://scholarcomp-aygcdxdhc8b9cwa7.westus-01.azurewebsites.net/event/national-current-events-league-meet-2/
CATEGORIES:Knowledge Sports
ORGANIZER;CN="Continental Mathematics League":MAILTO:hello@cmleague.com
END:VEVENT
BEGIN:VEVENT
DTSTART;VALUE=DATE:20251020
DTEND;VALUE=DATE:20251021
DTSTAMP:20260422T234957
CREATED:20250418T210035Z
LAST-MODIFIED:20250508T100256Z
UID:10001747-1760918400-1761004799@scholarcomp-aygcdxdhc8b9cwa7.westus-01.azurewebsites.net
SUMMARY:National Current Events League - Meet 1
DESCRIPTION:National Current Events League (NCEL) is a contest where students answer multiple-choice questions on current events across four meets throughout the school year. Topics include general news\, science\, arts\, business\, and sports.
URL:https://scholarcomp-aygcdxdhc8b9cwa7.westus-01.azurewebsites.net/event/national-current-events-league-meet-1/
CATEGORIES:Knowledge Sports
ORGANIZER;CN="Continental Mathematics League":MAILTO:hello@cmleague.com
END:VEVENT
BEGIN:VEVENT
DTSTART;VALUE=DATE:20250421
DTEND;VALUE=DATE:20250503
DTSTAMP:20260422T234957
CREATED:20250418T211425Z
LAST-MODIFIED:20250508T102606Z
UID:10001816-1745193600-1746230399@scholarcomp-aygcdxdhc8b9cwa7.westus-01.azurewebsites.net
SUMMARY:National Science League - Contest Administration Window
DESCRIPTION:A science competition for students in grades 2 through 12\, testing knowledge in various scientific disciplines through multiple-choice questions.
URL:https://scholarcomp-aygcdxdhc8b9cwa7.westus-01.azurewebsites.net/event/national-science-league-contest-administration-window-2/
CATEGORIES:Science
ORGANIZER;CN="Continental Mathematics League":MAILTO:hello@cmleague.com
END:VEVENT
BEGIN:VEVENT
DTSTART;VALUE=DATE:20250421
DTEND;VALUE=DATE:20250503
DTSTAMP:20260422T234957
CREATED:20250418T204640Z
LAST-MODIFIED:20250508T102305Z
UID:10001691-1745193600-1746230399@scholarcomp-aygcdxdhc8b9cwa7.westus-01.azurewebsites.net
SUMMARY:National Science League Contest 2025
DESCRIPTION:A science competition for students in grades 2 through 12\, testing knowledge in various scientific disciplines through multiple-choice questions.
URL:https://scholarcomp-aygcdxdhc8b9cwa7.westus-01.azurewebsites.net/event/national-science-league-contest-2025-2/
LOCATION:School-based
CATEGORIES:Science
ORGANIZER;CN="Continental Mathematics League":MAILTO:hello@cmleague.com
END:VEVENT
BEGIN:VEVENT
DTSTART;VALUE=DATE:20250421
DTEND;VALUE=DATE:20250503
DTSTAMP:20260422T234957
CREATED:20250418T203522Z
LAST-MODIFIED:20250508T100313Z
UID:10001506-1745193600-1746230399@scholarcomp-aygcdxdhc8b9cwa7.westus-01.azurewebsites.net
SUMMARY:National Geography Challenge - Testing Window
DESCRIPTION:National Geography Challenge tests students on their geography knowledge across multiple grade levels. Questions focus on key geography concepts and are adjusted by difficulty level.
URL:https://scholarcomp-aygcdxdhc8b9cwa7.westus-01.azurewebsites.net/event/national-geography-challenge-testing-window-2/
CATEGORIES:Social Studies and Sciences
ORGANIZER;CN="Continental Mathematics League":MAILTO:hello@cmleague.com
END:VEVENT
END:VCALENDAR