BEGIN:VCALENDAR
VERSION:2.0
PRODID:-//ScholarComp Inc. - ECPv6.11.2.1//NONSGML v1.0//EN
CALSCALE:GREGORIAN
METHOD:PUBLISH
X-WR-CALNAME:ScholarComp Inc.
X-ORIGINAL-URL:https://scholarcomp-aygcdxdhc8b9cwa7.westus-01.azurewebsites.net
X-WR-CALDESC:Events for ScholarComp Inc.
REFRESH-INTERVAL;VALUE=DURATION:PT1H
X-Robots-Tag:noindex
X-PUBLISHED-TTL:PT1H
BEGIN:VTIMEZONE
TZID:America/New_York
BEGIN:DAYLIGHT
TZOFFSETFROM:-0500
TZOFFSETTO:-0400
TZNAME:EDT
DTSTART:20250309T070000
END:DAYLIGHT
BEGIN:STANDARD
TZOFFSETFROM:-0400
TZOFFSETTO:-0500
TZNAME:EST
DTSTART:20251102T060000
END:STANDARD
END:VTIMEZONE
BEGIN:VEVENT
DTSTART;VALUE=DATE:20250610
DTEND;VALUE=DATE:20250612
DTSTAMP:20260423T053921
CREATED:20250418T203351Z
LAST-MODIFIED:20250508T100157Z
UID:10001480-1749513600-1749686399@scholarcomp-aygcdxdhc8b9cwa7.westus-01.azurewebsites.net
SUMMARY:You Be The Chemist Challenge - National Challenge
DESCRIPTION:A STEM competition for middle school students that encourages teamwork and problem-solving through science-based questions and sustainability challenges.
URL:https://scholarcomp-aygcdxdhc8b9cwa7.westus-01.azurewebsites.net/event/you-be-the-chemist-challenge-national-challenge-2/
LOCATION:To Be Announced
CATEGORIES:Science
ORGANIZER;CN="Chemical Educational Foundation":MAILTO:challenge@chemed.org
END:VEVENT
END:VCALENDAR