BEGIN:VCALENDAR
VERSION:2.0
PRODID:-//ScholarComp Inc. - ECPv6.11.2.1//NONSGML v1.0//EN
CALSCALE:GREGORIAN
METHOD:PUBLISH
X-WR-CALNAME:ScholarComp Inc.
X-ORIGINAL-URL:https://scholarcomp-aygcdxdhc8b9cwa7.westus-01.azurewebsites.net
X-WR-CALDESC:Events for ScholarComp Inc.
REFRESH-INTERVAL;VALUE=DURATION:PT1H
X-Robots-Tag:noindex
X-PUBLISHED-TTL:PT1H
BEGIN:VTIMEZONE
TZID:America/New_York
BEGIN:DAYLIGHT
TZOFFSETFROM:-0500
TZOFFSETTO:-0400
TZNAME:EDT
DTSTART:20250309T070000
END:DAYLIGHT
BEGIN:STANDARD
TZOFFSETFROM:-0400
TZOFFSETTO:-0500
TZNAME:EST
DTSTART:20251102T060000
END:STANDARD
END:VTIMEZONE
BEGIN:VEVENT
DTSTART;VALUE=DATE:20250418
DTEND;VALUE=DATE:20250421
DTSTAMP:20260423T073543
CREATED:20250418T204115Z
LAST-MODIFIED:20250508T100843Z
UID:10001585-1744934400-1745193599@scholarcomp-aygcdxdhc8b9cwa7.westus-01.azurewebsites.net
SUMMARY:Carnegie Mellon Informatics and Mathematics Competition (CMIMC) - CMIMC Programming 2025
DESCRIPTION:The CMIMC organizes math and computer science competitions for high school students. The competition features individual and team events that test problem-solving skills in various areas of mathematics and informatics.
URL:https://scholarcomp-aygcdxdhc8b9cwa7.westus-01.azurewebsites.net/event/carnegie-mellon-informatics-and-mathematics-competition-cmimc-cmimc-programming-2025-2/
LOCATION:Online
CATEGORIES:Mathematics
ORGANIZER;CN="Carnegie Mellon University":MAILTO:cmimc.info@gmail.com
END:VEVENT
END:VCALENDAR