BEGIN:VCALENDAR
VERSION:2.0
PRODID:-//ScholarComp Inc. - ECPv6.11.2.1//NONSGML v1.0//EN
CALSCALE:GREGORIAN
METHOD:PUBLISH
X-WR-CALNAME:ScholarComp Inc.
X-ORIGINAL-URL:https://scholarcomp-aygcdxdhc8b9cwa7.westus-01.azurewebsites.net
X-WR-CALDESC:Events for ScholarComp Inc.
REFRESH-INTERVAL;VALUE=DURATION:PT1H
X-Robots-Tag:noindex
X-PUBLISHED-TTL:PT1H
BEGIN:VTIMEZONE
TZID:America/New_York
BEGIN:DAYLIGHT
TZOFFSETFROM:-0500
TZOFFSETTO:-0400
TZNAME:EDT
DTSTART:20250309T070000
END:DAYLIGHT
BEGIN:STANDARD
TZOFFSETFROM:-0400
TZOFFSETTO:-0500
TZNAME:EST
DTSTART:20251102T060000
END:STANDARD
END:VTIMEZONE
BEGIN:VEVENT
DTSTART;VALUE=DATE:20250426
DTEND;VALUE=DATE:20250427
DTSTAMP:20260425T120505
CREATED:20250418T204249Z
LAST-MODIFIED:20250508T101013Z
UID:10001614-1745625600-1745711999@scholarcomp-aygcdxdhc8b9cwa7.westus-01.azurewebsites.net
SUMMARY:Math League - Elementary New Jersey State Championship
DESCRIPTION:Math League is the largest network of local\, state\, and international math competitions for elementary\, middle\, and high school students. The competition helps students improve their problem-solving skills.
URL:https://scholarcomp-aygcdxdhc8b9cwa7.westus-01.azurewebsites.net/event/math-league-elementary-new-jersey-state-championship-2/
LOCATION:Basking Ridge\, Basking Ridge\, NJ\, United States
CATEGORIES:Mathematics
ORGANIZER;CN="Math League":MAILTO:mathleague@mathleague.org
END:VEVENT
BEGIN:VEVENT
DTSTART;VALUE=DATE:20250426
DTEND;VALUE=DATE:20250427
DTSTAMP:20260425T120505
CREATED:20250418T204251Z
LAST-MODIFIED:20250508T101014Z
UID:10001615-1745625600-1745711999@scholarcomp-aygcdxdhc8b9cwa7.westus-01.azurewebsites.net
SUMMARY:Math League - Elementary South Korea National Championship
DESCRIPTION:Math League is the largest network of local\, state\, and international math competitions for elementary\, middle\, and high school students. The competition helps students improve their problem-solving skills.
URL:https://scholarcomp-aygcdxdhc8b9cwa7.westus-01.azurewebsites.net/event/math-league-elementary-south-korea-national-championship-2/
LOCATION:Incheon\, Incheon\, KOR\, Korea
CATEGORIES:Mathematics
ORGANIZER;CN="Math League":MAILTO:mathleague@mathleague.org
END:VEVENT
BEGIN:VEVENT
DTSTART;VALUE=DATE:20250426
DTEND;VALUE=DATE:20250427
DTSTAMP:20260425T120505
CREATED:20250418T204438Z
LAST-MODIFIED:20250508T101801Z
UID:10001657-1745625600-1745711999@scholarcomp-aygcdxdhc8b9cwa7.westus-01.azurewebsites.net
SUMMARY:Math League - High School South Korea National Championship
DESCRIPTION:Math League is the largest network of local\, state\, and international math competitions for elementary\, middle\, and high school students. The competition helps students improve their problem-solving skills.
URL:https://scholarcomp-aygcdxdhc8b9cwa7.westus-01.azurewebsites.net/event/math-league-high-school-south-korea-national-championship-2/
LOCATION:Incheon\, Incheon\, KOR\, Korea
CATEGORIES:Mathematics
ORGANIZER;CN="Math League":MAILTO:mathleague@mathleague.org
END:VEVENT
BEGIN:VEVENT
DTSTART;VALUE=DATE:20250426
DTEND;VALUE=DATE:20250427
DTSTAMP:20260425T120505
CREATED:20250418T204453Z
LAST-MODIFIED:20250508T101957Z
UID:10001658-1745625600-1745711999@scholarcomp-aygcdxdhc8b9cwa7.westus-01.azurewebsites.net
SUMMARY:Math League - High School Iowa State Championship
DESCRIPTION:Math League is the largest network of local\, state\, and international math competitions for elementary\, middle\, and high school students. The competition helps students improve their problem-solving skills.
URL:https://scholarcomp-aygcdxdhc8b9cwa7.westus-01.azurewebsites.net/event/math-league-high-school-iowa-state-championship-2/
LOCATION:Iowa City\, Iowa City\, IA\, United States
CATEGORIES:Mathematics
ORGANIZER;CN="Math League":MAILTO:mathleague@mathleague.org
END:VEVENT
BEGIN:VEVENT
DTSTART;VALUE=DATE:20250426
DTEND;VALUE=DATE:20250427
DTSTAMP:20260425T120505
CREATED:20250418T204454Z
LAST-MODIFIED:20250508T101959Z
UID:10001659-1745625600-1745711999@scholarcomp-aygcdxdhc8b9cwa7.westus-01.azurewebsites.net
SUMMARY:Math League - High School Brazil National Championship
DESCRIPTION:Math League is the largest network of local\, state\, and international math competitions for elementary\, middle\, and high school students. The competition helps students improve their problem-solving skills.
URL:https://scholarcomp-aygcdxdhc8b9cwa7.westus-01.azurewebsites.net/event/math-league-high-school-brazil-national-championship-2/
LOCATION:Online
CATEGORIES:Mathematics
ORGANIZER;CN="Math League":MAILTO:mathleague@mathleague.org
END:VEVENT
BEGIN:VEVENT
DTSTART;VALUE=DATE:20250426
DTEND;VALUE=DATE:20250427
DTSTAMP:20260425T120505
CREATED:20250418T204456Z
LAST-MODIFIED:20250508T102000Z
UID:10001660-1745625600-1745711999@scholarcomp-aygcdxdhc8b9cwa7.westus-01.azurewebsites.net
SUMMARY:Math League - High School Canada National Championship
DESCRIPTION:Math League is the largest network of local\, state\, and international math competitions for elementary\, middle\, and high school students. The competition helps students improve their problem-solving skills.
URL:https://scholarcomp-aygcdxdhc8b9cwa7.westus-01.azurewebsites.net/event/math-league-high-school-canada-national-championship-2/
LOCATION:Online
CATEGORIES:Mathematics
ORGANIZER;CN="Math League":MAILTO:mathleague@mathleague.org
END:VEVENT
BEGIN:VEVENT
DTSTART;VALUE=DATE:20250426
DTEND;VALUE=DATE:20250427
DTSTAMP:20260425T120505
CREATED:20250418T204457Z
LAST-MODIFIED:20250508T102001Z
UID:10001661-1745625600-1745711999@scholarcomp-aygcdxdhc8b9cwa7.westus-01.azurewebsites.net
SUMMARY:Math League - High School Kansas State Championship
DESCRIPTION:Math League is the largest network of local\, state\, and international math competitions for elementary\, middle\, and high school students. The competition helps students improve their problem-solving skills.
URL:https://scholarcomp-aygcdxdhc8b9cwa7.westus-01.azurewebsites.net/event/math-league-high-school-kansas-state-championship-2/
LOCATION:Online
CATEGORIES:Mathematics
ORGANIZER;CN="Math League":MAILTO:mathleague@mathleague.org
END:VEVENT
BEGIN:VEVENT
DTSTART;VALUE=DATE:20250426
DTEND;VALUE=DATE:20250427
DTSTAMP:20260425T120505
CREATED:20250418T204459Z
LAST-MODIFIED:20250508T102002Z
UID:10001662-1745625600-1745711999@scholarcomp-aygcdxdhc8b9cwa7.westus-01.azurewebsites.net
SUMMARY:Math League - High School Illinois State Championship
DESCRIPTION:Math League is the largest network of local\, state\, and international math competitions for elementary\, middle\, and high school students. The competition helps students improve their problem-solving skills.
URL:https://scholarcomp-aygcdxdhc8b9cwa7.westus-01.azurewebsites.net/event/math-league-high-school-illinois-state-championship-2/
LOCATION:Online
CATEGORIES:Mathematics
ORGANIZER;CN="Math League":MAILTO:mathleague@mathleague.org
END:VEVENT
BEGIN:VEVENT
DTSTART;VALUE=DATE:20250426
DTEND;VALUE=DATE:20250427
DTSTAMP:20260425T120505
CREATED:20250418T204517Z
LAST-MODIFIED:20250508T102147Z
UID:10001663-1745625600-1745711999@scholarcomp-aygcdxdhc8b9cwa7.westus-01.azurewebsites.net
SUMMARY:Math League - High School Texas State Championship
DESCRIPTION:Math League is the largest network of local\, state\, and international math competitions for elementary\, middle\, and high school students. The competition helps students improve their problem-solving skills.
URL:https://scholarcomp-aygcdxdhc8b9cwa7.westus-01.azurewebsites.net/event/math-league-high-school-texas-state-championship-2/
LOCATION:Online
CATEGORIES:Mathematics
ORGANIZER;CN="Math League":MAILTO:mathleague@mathleague.org
END:VEVENT
BEGIN:VEVENT
DTSTART;VALUE=DATE:20250426
DTEND;VALUE=DATE:20250427
DTSTAMP:20260425T120505
CREATED:20250418T204518Z
LAST-MODIFIED:20250508T102149Z
UID:10001664-1745625600-1745711999@scholarcomp-aygcdxdhc8b9cwa7.westus-01.azurewebsites.net
SUMMARY:Math League - High School Tennessee State Championship
DESCRIPTION:Math League is the largest network of local\, state\, and international math competitions for elementary\, middle\, and high school students. The competition helps students improve their problem-solving skills.
URL:https://scholarcomp-aygcdxdhc8b9cwa7.westus-01.azurewebsites.net/event/math-league-high-school-tennessee-state-championship-2/
LOCATION:Online
CATEGORIES:Mathematics
ORGANIZER;CN="Math League":MAILTO:mathleague@mathleague.org
END:VEVENT
BEGIN:VEVENT
DTSTART;VALUE=DATE:20250426
DTEND;VALUE=DATE:20250427
DTSTAMP:20260425T120505
CREATED:20250418T204520Z
LAST-MODIFIED:20250508T102150Z
UID:10001665-1745625600-1745711999@scholarcomp-aygcdxdhc8b9cwa7.westus-01.azurewebsites.net
SUMMARY:Math League - High School Wisconsin State Championship
DESCRIPTION:Math League is the largest network of local\, state\, and international math competitions for elementary\, middle\, and high school students. The competition helps students improve their problem-solving skills.
URL:https://scholarcomp-aygcdxdhc8b9cwa7.westus-01.azurewebsites.net/event/math-league-high-school-wisconsin-state-championship-2/
LOCATION:Online
CATEGORIES:Mathematics
ORGANIZER;CN="Math League":MAILTO:mathleague@mathleague.org
END:VEVENT
BEGIN:VEVENT
DTSTART;VALUE=DATE:20250426
DTEND;VALUE=DATE:20250427
DTSTAMP:20260425T120505
CREATED:20250418T204521Z
LAST-MODIFIED:20250508T102150Z
UID:10001666-1745625600-1745711999@scholarcomp-aygcdxdhc8b9cwa7.westus-01.azurewebsites.net
SUMMARY:Math League - High School Virginia State Championship
DESCRIPTION:Math League is the largest network of local\, state\, and international math competitions for elementary\, middle\, and high school students. The competition helps students improve their problem-solving skills.
URL:https://scholarcomp-aygcdxdhc8b9cwa7.westus-01.azurewebsites.net/event/math-league-high-school-virginia-state-championship-2/
LOCATION:Online
CATEGORIES:Mathematics
ORGANIZER;CN="Math League":MAILTO:mathleague@mathleague.org
END:VEVENT
BEGIN:VEVENT
DTSTART;VALUE=DATE:20250426
DTEND;VALUE=DATE:20250427
DTSTAMP:20260425T120505
CREATED:20250418T204523Z
LAST-MODIFIED:20250508T102151Z
UID:10001667-1745625600-1745711999@scholarcomp-aygcdxdhc8b9cwa7.westus-01.azurewebsites.net
SUMMARY:Math League - High School Pennsylvania State Championship
DESCRIPTION:Math League is the largest network of local\, state\, and international math competitions for elementary\, middle\, and high school students. The competition helps students improve their problem-solving skills.
URL:https://scholarcomp-aygcdxdhc8b9cwa7.westus-01.azurewebsites.net/event/math-league-high-school-pennsylvania-state-championship-2/
LOCATION:Online
CATEGORIES:Mathematics
ORGANIZER;CN="Math League":MAILTO:mathleague@mathleague.org
END:VEVENT
BEGIN:VEVENT
DTSTART;VALUE=DATE:20250426
DTEND;VALUE=DATE:20250427
DTSTAMP:20260425T120505
CREATED:20250418T204531Z
LAST-MODIFIED:20250508T102203Z
UID:10001668-1745625600-1745711999@scholarcomp-aygcdxdhc8b9cwa7.westus-01.azurewebsites.net
SUMMARY:Math League - High School Ohio State Championship
DESCRIPTION:Math League is the largest network of local\, state\, and international math competitions for elementary\, middle\, and high school students. The competition helps students improve their problem-solving skills.
URL:https://scholarcomp-aygcdxdhc8b9cwa7.westus-01.azurewebsites.net/event/math-league-high-school-ohio-state-championship-2/
LOCATION:Online
CATEGORIES:Mathematics
ORGANIZER;CN="Math League":MAILTO:mathleague@mathleague.org
END:VEVENT
BEGIN:VEVENT
DTSTART;VALUE=DATE:20250426
DTEND;VALUE=DATE:20250427
DTSTAMP:20260425T120505
CREATED:20250418T204533Z
LAST-MODIFIED:20250508T102204Z
UID:10001669-1745625600-1745711999@scholarcomp-aygcdxdhc8b9cwa7.westus-01.azurewebsites.net
SUMMARY:Math League - High School New York State Championship
DESCRIPTION:Math League is the largest network of local\, state\, and international math competitions for elementary\, middle\, and high school students. The competition helps students improve their problem-solving skills.
URL:https://scholarcomp-aygcdxdhc8b9cwa7.westus-01.azurewebsites.net/event/math-league-high-school-new-york-state-championship-2/
LOCATION:Online
CATEGORIES:Mathematics
ORGANIZER;CN="Math League":MAILTO:mathleague@mathleague.org
END:VEVENT
BEGIN:VEVENT
DTSTART;VALUE=DATE:20250426
DTEND;VALUE=DATE:20250427
DTSTAMP:20260425T120505
CREATED:20250418T204535Z
LAST-MODIFIED:20250508T102205Z
UID:10001670-1745625600-1745711999@scholarcomp-aygcdxdhc8b9cwa7.westus-01.azurewebsites.net
SUMMARY:Math League - High School New Jersey State Championship
DESCRIPTION:Math League is the largest network of local\, state\, and international math competitions for elementary\, middle\, and high school students. The competition helps students improve their problem-solving skills.
URL:https://scholarcomp-aygcdxdhc8b9cwa7.westus-01.azurewebsites.net/event/math-league-high-school-new-jersey-state-championship-2/
LOCATION:Online
CATEGORIES:Mathematics
ORGANIZER;CN="Math League":MAILTO:mathleague@mathleague.org
END:VEVENT
BEGIN:VEVENT
DTSTART;VALUE=DATE:20250426
DTEND;VALUE=DATE:20250427
DTSTAMP:20260425T120505
CREATED:20250418T204536Z
LAST-MODIFIED:20250508T102206Z
UID:10001671-1745625600-1745711999@scholarcomp-aygcdxdhc8b9cwa7.westus-01.azurewebsites.net
SUMMARY:Math League - High School North Carolina State Championship
DESCRIPTION:Math League is the largest network of local\, state\, and international math competitions for elementary\, middle\, and high school students. The competition helps students improve their problem-solving skills.
URL:https://scholarcomp-aygcdxdhc8b9cwa7.westus-01.azurewebsites.net/event/math-league-high-school-north-carolina-state-championship-2/
LOCATION:Online
CATEGORIES:Mathematics
ORGANIZER;CN="Math League":MAILTO:mathleague@mathleague.org
END:VEVENT
BEGIN:VEVENT
DTSTART;VALUE=DATE:20250426
DTEND;VALUE=DATE:20250427
DTSTAMP:20260425T120505
CREATED:20250418T204538Z
LAST-MODIFIED:20250508T102207Z
UID:10001672-1745625600-1745711999@scholarcomp-aygcdxdhc8b9cwa7.westus-01.azurewebsites.net
SUMMARY:Math League - High School Maryland State Championship
DESCRIPTION:Math League is the largest network of local\, state\, and international math competitions for elementary\, middle\, and high school students. The competition helps students improve their problem-solving skills.
URL:https://scholarcomp-aygcdxdhc8b9cwa7.westus-01.azurewebsites.net/event/math-league-high-school-maryland-state-championship-2/
LOCATION:Online
CATEGORIES:Mathematics
ORGANIZER;CN="Math League":MAILTO:mathleague@mathleague.org
END:VEVENT
BEGIN:VEVENT
DTSTART;VALUE=DATE:20250426
DTEND;VALUE=DATE:20250427
DTSTAMP:20260425T120505
CREATED:20250418T204545Z
LAST-MODIFIED:20250508T102217Z
UID:10001673-1745625600-1745711999@scholarcomp-aygcdxdhc8b9cwa7.westus-01.azurewebsites.net
SUMMARY:Math League - High School Massachusetts State Championship
DESCRIPTION:Math League is the largest network of local\, state\, and international math competitions for elementary\, middle\, and high school students. The competition helps students improve their problem-solving skills.
URL:https://scholarcomp-aygcdxdhc8b9cwa7.westus-01.azurewebsites.net/event/math-league-high-school-massachusetts-state-championship-2/
LOCATION:Online
CATEGORIES:Mathematics
ORGANIZER;CN="Math League":MAILTO:mathleague@mathleague.org
END:VEVENT
BEGIN:VEVENT
DTSTART;VALUE=DATE:20250426
DTEND;VALUE=DATE:20250427
DTSTAMP:20260425T120505
CREATED:20250418T204546Z
LAST-MODIFIED:20250508T102218Z
UID:10001674-1745625600-1745711999@scholarcomp-aygcdxdhc8b9cwa7.westus-01.azurewebsites.net
SUMMARY:Math League - High School Georgia State Championship
DESCRIPTION:Math League is the largest network of local\, state\, and international math competitions for elementary\, middle\, and high school students. The competition helps students improve their problem-solving skills.
URL:https://scholarcomp-aygcdxdhc8b9cwa7.westus-01.azurewebsites.net/event/math-league-high-school-georgia-state-championship-2/
LOCATION:Online
CATEGORIES:Mathematics
ORGANIZER;CN="Math League":MAILTO:mathleague@mathleague.org
END:VEVENT
BEGIN:VEVENT
DTSTART;VALUE=DATE:20250426
DTEND;VALUE=DATE:20250427
DTSTAMP:20260425T120505
CREATED:20250418T204548Z
LAST-MODIFIED:20250508T102219Z
UID:10001675-1745625600-1745711999@scholarcomp-aygcdxdhc8b9cwa7.westus-01.azurewebsites.net
SUMMARY:Math League - High School Florida State Championship
DESCRIPTION:Math League is the largest network of local\, state\, and international math competitions for elementary\, middle\, and high school students. The competition helps students improve their problem-solving skills.
URL:https://scholarcomp-aygcdxdhc8b9cwa7.westus-01.azurewebsites.net/event/math-league-high-school-florida-state-championship-2/
LOCATION:Online
CATEGORIES:Mathematics
ORGANIZER;CN="Math League":MAILTO:mathleague@mathleague.org
END:VEVENT
BEGIN:VEVENT
DTSTART;VALUE=DATE:20250426
DTEND;VALUE=DATE:20250427
DTSTAMP:20260425T120505
CREATED:20250418T204550Z
LAST-MODIFIED:20250508T102220Z
UID:10001676-1745625600-1745711999@scholarcomp-aygcdxdhc8b9cwa7.westus-01.azurewebsites.net
SUMMARY:Math League - High School Connecticut State Championship
DESCRIPTION:Math League is the largest network of local\, state\, and international math competitions for elementary\, middle\, and high school students. The competition helps students improve their problem-solving skills.
URL:https://scholarcomp-aygcdxdhc8b9cwa7.westus-01.azurewebsites.net/event/math-league-high-school-connecticut-state-championship-2/
LOCATION:Online
CATEGORIES:Mathematics
ORGANIZER;CN="Math League":MAILTO:mathleague@mathleague.org
END:VEVENT
BEGIN:VEVENT
DTSTART;VALUE=DATE:20250426
DTEND;VALUE=DATE:20250427
DTSTAMP:20260425T120505
CREATED:20250418T204551Z
LAST-MODIFIED:20250508T102221Z
UID:10001677-1745625600-1745711999@scholarcomp-aygcdxdhc8b9cwa7.westus-01.azurewebsites.net
SUMMARY:Math League - High School Nevada State Championship
DESCRIPTION:Math League is the largest network of local\, state\, and international math competitions for elementary\, middle\, and high school students. The competition helps students improve their problem-solving skills.
URL:https://scholarcomp-aygcdxdhc8b9cwa7.westus-01.azurewebsites.net/event/math-league-high-school-nevada-state-championship-2/
LOCATION:Online
CATEGORIES:Mathematics
ORGANIZER;CN="Math League":MAILTO:mathleague@mathleague.org
END:VEVENT
BEGIN:VEVENT
DTSTART;VALUE=DATE:20250426
DTEND;VALUE=DATE:20250427
DTSTAMP:20260425T120505
CREATED:20250418T204605Z
LAST-MODIFIED:20250508T102232Z
UID:10001678-1745625600-1745711999@scholarcomp-aygcdxdhc8b9cwa7.westus-01.azurewebsites.net
SUMMARY:Math League - High School Southern California State Championship
DESCRIPTION:Math League is the largest network of local\, state\, and international math competitions for elementary\, middle\, and high school students. The competition helps students improve their problem-solving skills.
URL:https://scholarcomp-aygcdxdhc8b9cwa7.westus-01.azurewebsites.net/event/math-league-high-school-southern-california-state-championship-2/
LOCATION:Online
CATEGORIES:Mathematics
ORGANIZER;CN="Math League":MAILTO:mathleague@mathleague.org
END:VEVENT
BEGIN:VEVENT
DTSTART;VALUE=DATE:20250426
DTEND;VALUE=DATE:20250427
DTSTAMP:20260425T120505
CREATED:20250418T204606Z
LAST-MODIFIED:20250508T102233Z
UID:10001679-1745625600-1745711999@scholarcomp-aygcdxdhc8b9cwa7.westus-01.azurewebsites.net
SUMMARY:Math League - High School Washington State Championship
DESCRIPTION:Math League is the largest network of local\, state\, and international math competitions for elementary\, middle\, and high school students. The competition helps students improve their problem-solving skills.
URL:https://scholarcomp-aygcdxdhc8b9cwa7.westus-01.azurewebsites.net/event/math-league-high-school-washington-state-championship-2/
LOCATION:Olympia\, Olympia\, WA\, United States
CATEGORIES:Mathematics
ORGANIZER;CN="Math League":MAILTO:mathleague@mathleague.org
END:VEVENT
BEGIN:VEVENT
DTSTART;VALUE=DATE:20250426
DTEND;VALUE=DATE:20250427
DTSTAMP:20260425T120505
CREATED:20250418T204608Z
LAST-MODIFIED:20250508T102235Z
UID:10001680-1745625600-1745711999@scholarcomp-aygcdxdhc8b9cwa7.westus-01.azurewebsites.net
SUMMARY:Math League - High School Missouri State Championship
DESCRIPTION:Math League is the largest network of local\, state\, and international math competitions for elementary\, middle\, and high school students. The competition helps students improve their problem-solving skills.
URL:https://scholarcomp-aygcdxdhc8b9cwa7.westus-01.azurewebsites.net/event/math-league-high-school-missouri-state-championship-2/
LOCATION:Columbia\, Columbia\, MO\, United States
CATEGORIES:Mathematics
ORGANIZER;CN="Math League":MAILTO:mathleague@mathleague.org
END:VEVENT
BEGIN:VEVENT
DTSTART;VALUE=DATE:20250426
DTEND;VALUE=DATE:20250427
DTSTAMP:20260425T120505
CREATED:20250418T204733Z
LAST-MODIFIED:20250508T102347Z
UID:10001704-1745625600-1745711999@scholarcomp-aygcdxdhc8b9cwa7.westus-01.azurewebsites.net
SUMMARY:Aerial Drone Competition - NJROTC Blue & Gold Aerial Classic
DESCRIPTION:A STEM-focused competition where students learn drone piloting\, programming\, and teamwork through hands-on missions including piloting\, autonomous flight\, and communication.
URL:https://scholarcomp-aygcdxdhc8b9cwa7.westus-01.azurewebsites.net/event/aerial-drone-competition-njrotc-blue-gold-aerial-classic-2/
CATEGORIES:Technology
ORGANIZER;CN="Robotics Education &amp%3B Competition Foundation":MAILTO:info@roboticseducation.org
END:VEVENT
BEGIN:VEVENT
DTSTART;VALUE=DATE:20250426
DTEND;VALUE=DATE:20250427
DTSTAMP:20260425T120505
CREATED:20250418T204800Z
LAST-MODIFIED:20250508T102418Z
UID:10001715-1745625600-1745711999@scholarcomp-aygcdxdhc8b9cwa7.westus-01.azurewebsites.net
SUMMARY:DRC / Robolabs VEX V5 Robotics Competition - Invitational HS & MS\, Remote Engineering Notebooks
DESCRIPTION:An international competition for students to design and build robots for specific challenges.
URL:https://scholarcomp-aygcdxdhc8b9cwa7.westus-01.azurewebsites.net/event/drc-robolabs-vex-v5-robotics-competition-invitational-hs-ms-remote-engineering-notebooks-2/
CATEGORIES:Robotics
ORGANIZER;CN="Robotics Education &amp%3B Competition Foundation (RECF)":MAILTO:support@robotevents.com
END:VEVENT
BEGIN:VEVENT
DTSTART;VALUE=DATE:20250426
DTEND;VALUE=DATE:20250427
DTSTAMP:20260425T120505
CREATED:20250418T204823Z
LAST-MODIFIED:20250508T102448Z
UID:10001725-1745625600-1745711999@scholarcomp-aygcdxdhc8b9cwa7.westus-01.azurewebsites.net
SUMMARY:VEX V5 Robotics Competition - SC Worlds Bound Teams Scrimmage
DESCRIPTION:An international competition for students to design and build robots for specific challenges.
URL:https://scholarcomp-aygcdxdhc8b9cwa7.westus-01.azurewebsites.net/event/vex-v5-robotics-competition-sc-worlds-bound-teams-scrimmage-2/
CATEGORIES:Robotics
ORGANIZER;CN="Robotics Education &amp%3B Competition Foundation (RECF)":MAILTO:support@robotevents.com
END:VEVENT
BEGIN:VEVENT
DTSTART;VALUE=DATE:20250426
DTEND;VALUE=DATE:20250427
DTSTAMP:20260425T120505
CREATED:20250418T204825Z
LAST-MODIFIED:20250508T102449Z
UID:10001726-1745625600-1745711999@scholarcomp-aygcdxdhc8b9cwa7.westus-01.azurewebsites.net
SUMMARY:VEX V5 Robotics Competition - Auburn Robotics Club - V5RC Scrimmage
DESCRIPTION:An international competition for students to design and build robots for specific challenges.
URL:https://scholarcomp-aygcdxdhc8b9cwa7.westus-01.azurewebsites.net/event/vex-v5-robotics-competition-auburn-robotics-club-v5rc-scrimmage-2/
CATEGORIES:Robotics
ORGANIZER;CN="Robotics Education &amp%3B Competition Foundation (RECF)":MAILTO:support@robotevents.com
END:VEVENT
END:VCALENDAR