BEGIN:VCALENDAR
VERSION:2.0
PRODID:-//ScholarComp Inc. - ECPv6.11.2.1//NONSGML v1.0//EN
CALSCALE:GREGORIAN
METHOD:PUBLISH
X-ORIGINAL-URL:https://scholarcomp-aygcdxdhc8b9cwa7.westus-01.azurewebsites.net
X-WR-CALDESC:Events for ScholarComp Inc.
REFRESH-INTERVAL;VALUE=DURATION:PT1H
X-Robots-Tag:noindex
X-PUBLISHED-TTL:PT1H
BEGIN:VTIMEZONE
TZID:America/New_York
BEGIN:DAYLIGHT
TZOFFSETFROM:-0500
TZOFFSETTO:-0400
TZNAME:EDT
DTSTART:20250309T070000
END:DAYLIGHT
BEGIN:STANDARD
TZOFFSETFROM:-0400
TZOFFSETTO:-0500
TZNAME:EST
DTSTART:20251102T060000
END:STANDARD
END:VTIMEZONE
BEGIN:VTIMEZONE
TZID:America/Chicago
BEGIN:DAYLIGHT
TZOFFSETFROM:-0600
TZOFFSETTO:-0500
TZNAME:CDT
DTSTART:20250309T080000
END:DAYLIGHT
BEGIN:STANDARD
TZOFFSETFROM:-0500
TZOFFSETTO:-0600
TZNAME:CST
DTSTART:20251102T070000
END:STANDARD
END:VTIMEZONE
BEGIN:VTIMEZONE
TZID:UTC
BEGIN:STANDARD
TZOFFSETFROM:+0000
TZOFFSETTO:+0000
TZNAME:UTC
DTSTART:20250101T000000
END:STANDARD
END:VTIMEZONE
BEGIN:VTIMEZONE
TZID:America/Los_Angeles
BEGIN:DAYLIGHT
TZOFFSETFROM:-0800
TZOFFSETTO:-0700
TZNAME:PDT
DTSTART:20250309T100000
END:DAYLIGHT
BEGIN:STANDARD
TZOFFSETFROM:-0700
TZOFFSETTO:-0800
TZNAME:PST
DTSTART:20251102T090000
END:STANDARD
END:VTIMEZONE
BEGIN:VTIMEZONE
TZID:America/Phoenix
BEGIN:STANDARD
TZOFFSETFROM:-0700
TZOFFSETTO:-0700
TZNAME:MST
DTSTART:20250101T000000
END:STANDARD
END:VTIMEZONE
BEGIN:VEVENT
DTSTART;VALUE=DATE:20250421
DTEND;VALUE=DATE:20250503
DTSTAMP:20260424T083216
CREATED:20250418T211425Z
LAST-MODIFIED:20250508T102606Z
UID:10001816-1745193600-1746230399@scholarcomp-aygcdxdhc8b9cwa7.westus-01.azurewebsites.net
SUMMARY:National Science League - Contest Administration Window
DESCRIPTION:A science competition for students in grades 2 through 12\, testing knowledge in various scientific disciplines through multiple-choice questions.
URL:https://scholarcomp-aygcdxdhc8b9cwa7.westus-01.azurewebsites.net/event/national-science-league-contest-administration-window-2/
LOCATION:MA
CATEGORIES:Science
ORGANIZER;CN="Continental Mathematics League":MAILTO:hello@cmleague.com
END:VEVENT
BEGIN:VEVENT
DTSTART;VALUE=DATE:20250422
DTEND;VALUE=DATE:20250423
DTSTAMP:20260424T083216
CREATED:20250418T203328Z
LAST-MODIFIED:20250508T100136Z
UID:10001473-1745280000-1745366399@scholarcomp-aygcdxdhc8b9cwa7.westus-01.azurewebsites.net
SUMMARY:Sea\, Air\, and Land Challenge - PA - South Central Region
DESCRIPTION:A STEM initiative where students design and build robotic systems for challenges that mimic missions encountered by the military\, national security agencies\, and first responders.
URL:https://scholarcomp-aygcdxdhc8b9cwa7.westus-01.azurewebsites.net/event/sea-air-and-land-challenge-pa-south-central-region-2/
LOCATION:Millersville University\, 21 South George Street\, Millersville\, PA\, 17551\, United States
CATEGORIES:Robotics
ORGANIZER;CN="Penn State Applied Research Laboratory":MAILTO:seaairland@arl.psu.edu
END:VEVENT
BEGIN:VEVENT
DTSTART;VALUE=DATE:20250422
DTEND;VALUE=DATE:20250423
DTSTAMP:20260424T083216
CREATED:20250418T203818Z
LAST-MODIFIED:20250508T100612Z
UID:10001561-1745280000-1745366399@scholarcomp-aygcdxdhc8b9cwa7.westus-01.azurewebsites.net
SUMMARY:Math Masters MN - 4th Grade Competition
DESCRIPTION:A Minnesota-based competition for grades 5-6\, encouraging teamwork and problem-solving.
URL:https://scholarcomp-aygcdxdhc8b9cwa7.westus-01.azurewebsites.net/event/math-masters-mn-4th-grade-competition-11/
LOCATION:MA
CATEGORIES:Mathematics
ORGANIZER;CN="Math Masters of Minnesota":MAILTO:mary@math-masters.org
END:VEVENT
BEGIN:VEVENT
DTSTART;VALUE=DATE:20250422
DTEND;VALUE=DATE:20250502
DTSTAMP:20260424T083216
CREATED:20250418T203631Z
LAST-MODIFIED:20250508T100415Z
UID:10001526-1745280000-1746143999@scholarcomp-aygcdxdhc8b9cwa7.westus-01.azurewebsites.net
SUMMARY:Purple Comet! Math Contest - Contest Window
DESCRIPTION:A global team-based math competition for middle and high school students\, running annually since 2003.
URL:https://scholarcomp-aygcdxdhc8b9cwa7.westus-01.azurewebsites.net/event/purple-comet-math-contest-contest-window-2/
LOCATION:Virtual
CATEGORIES:Mathematics
ORGANIZER;CN="Purple Comet Team":MAILTO:webmaster@purplecomet.org
END:VEVENT
BEGIN:VEVENT
DTSTART;VALUE=DATE:20250422
DTEND;VALUE=DATE:20250502
DTSTAMP:20260424T083216
CREATED:20250418T204658Z
LAST-MODIFIED:20250508T102319Z
UID:10001695-1745280000-1746143999@scholarcomp-aygcdxdhc8b9cwa7.westus-01.azurewebsites.net
SUMMARY:Purple Comet! Math Contest - 2025 Purple Comet! Math Meet
DESCRIPTION:A global team-based math competition for middle and high school students\, running annually since 2003.
URL:https://scholarcomp-aygcdxdhc8b9cwa7.westus-01.azurewebsites.net/event/purple-comet-math-contest-2025-purple-comet-math-meet-2/
LOCATION:MA
CATEGORIES:Mathematics
ORGANIZER;CN="Purple Comet Team":MAILTO:webmaster@purplecomet.org
END:VEVENT
BEGIN:VEVENT
DTSTART;VALUE=DATE:20250423
DTEND;VALUE=DATE:20250424
DTSTAMP:20260424T083216
CREATED:20250418T203820Z
LAST-MODIFIED:20250508T100613Z
UID:10001562-1745366400-1745452799@scholarcomp-aygcdxdhc8b9cwa7.westus-01.azurewebsites.net
SUMMARY:Math Masters MN - 4th Grade Competition
DESCRIPTION:A Minnesota-based competition for grades 5-6\, encouraging teamwork and problem-solving.
URL:https://scholarcomp-aygcdxdhc8b9cwa7.westus-01.azurewebsites.net/event/math-masters-mn-4th-grade-competition-12/
LOCATION:MA
CATEGORIES:Mathematics
ORGANIZER;CN="Math Masters of Minnesota":MAILTO:mary@math-masters.org
END:VEVENT
BEGIN:VEVENT
DTSTART;VALUE=DATE:20250423
DTEND;VALUE=DATE:20250424
DTSTAMP:20260424T083216
CREATED:20250418T212746Z
LAST-MODIFIED:20250508T102619Z
UID:10001819-1745366400-1745452799@scholarcomp-aygcdxdhc8b9cwa7.westus-01.azurewebsites.net
SUMMARY:FIRST Tech Challenge - Scotland Qualifier 2 - EDI
DESCRIPTION:FIRST Tech Challenge is a global competition where teams of students design\, build\, and program robots to compete in an alliance format. Teams use Android technology and Java-based programming languages.
URL:https://scholarcomp-aygcdxdhc8b9cwa7.westus-01.azurewebsites.net/event/first-tech-challenge-scotland-qualifier-2-edi-2/
LOCATION:The National Robotarium\, Boundary Rd N\, Third Gait\, Edinburgh\, SCT\, EH14 4AS\, United Kingdom
CATEGORIES:Robotics
ORGANIZER;CN="FIRST":MAILTO:info@firstinspires.org
END:VEVENT
BEGIN:VEVENT
DTSTART;VALUE=DATE:20250424
DTEND;VALUE=DATE:20250425
DTSTAMP:20260424T083216
CREATED:20250418T203330Z
LAST-MODIFIED:20250508T100137Z
UID:10001474-1745452800-1745539199@scholarcomp-aygcdxdhc8b9cwa7.westus-01.azurewebsites.net
SUMMARY:Sea\, Air\, and Land Challenge - PA - Northern Region
DESCRIPTION:A STEM initiative where students design and build robotic systems for challenges that mimic missions encountered by the military\, national security agencies\, and first responders.
URL:https://scholarcomp-aygcdxdhc8b9cwa7.westus-01.azurewebsites.net/event/sea-air-and-land-challenge-pa-northern-region-2/
LOCATION:To Be Announced
CATEGORIES:Robotics
ORGANIZER;CN="Penn State Applied Research Laboratory":MAILTO:seaairland@arl.psu.edu
END:VEVENT
BEGIN:VEVENT
DTSTART;VALUE=DATE:20250424
DTEND;VALUE=DATE:20250425
DTSTAMP:20260424T083216
CREATED:20250418T203544Z
LAST-MODIFIED:20250508T100330Z
UID:10001513-1745452800-1745539199@scholarcomp-aygcdxdhc8b9cwa7.westus-01.azurewebsites.net
SUMMARY:National Political Science Bee - National Championships
DESCRIPTION:A quiz competition testing knowledge of US & foreign politics\, current events\, political theory\, political economy\, and more.
URL:https://scholarcomp-aygcdxdhc8b9cwa7.westus-01.azurewebsites.net/event/national-political-science-bee-national-championships-2/
LOCATION:Arlington\, Arlington\, VA\, United States
CATEGORIES:Civics and Government
ORGANIZER;CN="International Academic Competitions":MAILTO:hs-info@iacompetitions.com
END:VEVENT
BEGIN:VEVENT
DTSTART;VALUE=DATE:20250424
DTEND;VALUE=DATE:20250425
DTSTAMP:20260424T083216
CREATED:20250418T203800Z
LAST-MODIFIED:20250508T100557Z
UID:10001557-1745452800-1745539199@scholarcomp-aygcdxdhc8b9cwa7.westus-01.azurewebsites.net
SUMMARY:WSU Business Plan Competition: High School League - Final Presentations
DESCRIPTION:A business plan competition for Washington State high school students where teams create and present business plans\, competing for cash prizes and recognition.
URL:https://scholarcomp-aygcdxdhc8b9cwa7.westus-01.azurewebsites.net/event/wsu-business-plan-competition-high-school-league-final-presentations-2/
LOCATION:Washington State University\, Pullman\, WA\, 99164\, United States
CATEGORIES:Business Plan
ORGANIZER;CN="Center for Entrepreneurship%2C WSU":MAILTO:entrepreneurship@wsu.edu
END:VEVENT
BEGIN:VEVENT
DTSTART;VALUE=DATE:20250424
DTEND;VALUE=DATE:20250425
DTSTAMP:20260424T083216
CREATED:20250418T203823Z
LAST-MODIFIED:20250508T100628Z
UID:10001564-1745452800-1745539199@scholarcomp-aygcdxdhc8b9cwa7.westus-01.azurewebsites.net
SUMMARY:Math Masters MN - 4th Grade Competition
DESCRIPTION:A Minnesota-based competition for grades 5-6\, encouraging teamwork and problem-solving.
URL:https://scholarcomp-aygcdxdhc8b9cwa7.westus-01.azurewebsites.net/event/math-masters-mn-4th-grade-competition-14/
LOCATION:MA
CATEGORIES:Mathematics
ORGANIZER;CN="Math Masters of Minnesota":MAILTO:mary@math-masters.org
END:VEVENT
BEGIN:VEVENT
DTSTART;VALUE=DATE:20250424
DTEND;VALUE=DATE:20250425
DTSTAMP:20260424T083216
CREATED:20250418T203853Z
LAST-MODIFIED:20250508T100715Z
UID:10001571-1745452800-1745539199@scholarcomp-aygcdxdhc8b9cwa7.westus-01.azurewebsites.net
SUMMARY:Math Masters MN - 5th Grade Competition
DESCRIPTION:A Minnesota-based competition for grades 5-6\, encouraging teamwork and problem-solving.
URL:https://scholarcomp-aygcdxdhc8b9cwa7.westus-01.azurewebsites.net/event/math-masters-mn-5th-grade-competition-8/
LOCATION:MA
CATEGORIES:Mathematics
ORGANIZER;CN="Math Masters of Minnesota":MAILTO:mary@math-masters.org
END:VEVENT
BEGIN:VEVENT
DTSTART;VALUE=DATE:20250424
DTEND;VALUE=DATE:20250429
DTSTAMP:20260424T083216
CREATED:20250418T203549Z
LAST-MODIFIED:20250508T100341Z
UID:10001514-1745452800-1745884799@scholarcomp-aygcdxdhc8b9cwa7.westus-01.azurewebsites.net
SUMMARY:National Science Bowl - 2025 National Finals
DESCRIPTION:A nationwide academic competition testing students’ knowledge in various areas of science and mathematics\, including biology\, chemistry\, Earth science\, physics\, energy\, and math.
URL:https://scholarcomp-aygcdxdhc8b9cwa7.westus-01.azurewebsites.net/event/national-science-bowl-2025-national-finals-3/
LOCATION:MA
CATEGORIES:Science
ORGANIZER;CN="U.S. Department of Energy (DOE)":MAILTO:National.Science.Bowl@science.doe.gov
END:VEVENT
BEGIN:VEVENT
DTSTART;VALUE=DATE:20250424
DTEND;VALUE=DATE:20250429
DTSTAMP:20260424T083216
CREATED:20250418T204639Z
LAST-MODIFIED:20250508T102304Z
UID:10001690-1745452800-1745884799@scholarcomp-aygcdxdhc8b9cwa7.westus-01.azurewebsites.net
SUMMARY:National Science Bowl 2025 National Finals
DESCRIPTION:A nationwide academic competition testing students’ knowledge in various areas of science and mathematics\, including biology\, chemistry\, Earth science\, physics\, energy\, and math.
URL:https://scholarcomp-aygcdxdhc8b9cwa7.westus-01.azurewebsites.net/event/national-science-bowl-2025-national-finals-4/
LOCATION:U.S. Department of Energy\, 1000 Independence Ave SW\, Washington\, DC\, 20585\, United States
CATEGORIES:Science
ORGANIZER;CN="U.S. Department of Energy (DOE)":MAILTO:National.Science.Bowl@science.doe.gov
END:VEVENT
BEGIN:VEVENT
DTSTART;VALUE=DATE:20250425
DTEND;VALUE=DATE:20250426
DTSTAMP:20260424T083216
CREATED:20250418T203831Z
LAST-MODIFIED:20250508T100643Z
UID:10001566-1745539200-1745625599@scholarcomp-aygcdxdhc8b9cwa7.westus-01.azurewebsites.net
SUMMARY:Math Masters MN - 4th Grade Competition
DESCRIPTION:A Minnesota-based competition for grades 5-6\, encouraging teamwork and problem-solving.
URL:https://scholarcomp-aygcdxdhc8b9cwa7.westus-01.azurewebsites.net/event/math-masters-mn-4th-grade-competition-16/
LOCATION:MA
CATEGORIES:Mathematics
ORGANIZER;CN="Math Masters of Minnesota":MAILTO:mary@math-masters.org
END:VEVENT
BEGIN:VEVENT
DTSTART;VALUE=DATE:20250425
DTEND;VALUE=DATE:20250426
DTSTAMP:20260424T083216
CREATED:20250418T203908Z
LAST-MODIFIED:20250508T100730Z
UID:10001572-1745539200-1745625599@scholarcomp-aygcdxdhc8b9cwa7.westus-01.azurewebsites.net
SUMMARY:Math Masters MN - 5th Grade Competition
DESCRIPTION:A Minnesota-based competition for grades 5-6\, encouraging teamwork and problem-solving.
URL:https://scholarcomp-aygcdxdhc8b9cwa7.westus-01.azurewebsites.net/event/math-masters-mn-5th-grade-competition-9/
LOCATION:MA
CATEGORIES:Mathematics
ORGANIZER;CN="Math Masters of Minnesota":MAILTO:mary@math-masters.org
END:VEVENT
BEGIN:VEVENT
DTSTART;VALUE=DATE:20250425
DTEND;VALUE=DATE:20250426
DTSTAMP:20260424T083216
CREATED:20250418T203945Z
LAST-MODIFIED:20250508T100745Z
UID:10001576-1745539200-1745625599@scholarcomp-aygcdxdhc8b9cwa7.westus-01.azurewebsites.net
SUMMARY:Math Masters MN - 6th Grade Competition
DESCRIPTION:A Minnesota-based competition for grades 5-6\, encouraging teamwork and problem-solving.
URL:https://scholarcomp-aygcdxdhc8b9cwa7.westus-01.azurewebsites.net/event/math-masters-mn-6th-grade-competition-5/
LOCATION:MA
CATEGORIES:Mathematics
ORGANIZER;CN="Math Masters of Minnesota":MAILTO:mary@math-masters.org
END:VEVENT
BEGIN:VEVENT
DTSTART;VALUE=DATE:20250425
DTEND;VALUE=DATE:20250426
DTSTAMP:20260424T083216
CREATED:20250418T212750Z
LAST-MODIFIED:20250508T102621Z
UID:10001821-1745539200-1745625599@scholarcomp-aygcdxdhc8b9cwa7.westus-01.azurewebsites.net
SUMMARY:FIRST Tech Challenge - South West Qualifier 2 - BSG
DESCRIPTION:FIRST Tech Challenge is a global competition where teams of students design\, build\, and program robots to compete in an alliance format. Teams use Android technology and Java-based programming languages.
URL:https://scholarcomp-aygcdxdhc8b9cwa7.westus-01.azurewebsites.net/event/first-tech-challenge-south-west-qualifier-2-bsg-2/
LOCATION:Bournemouth University\, Studland House\, Bournemouth\, ENG\, BH1 3NA\, United Kingdom
CATEGORIES:Robotics
ORGANIZER;CN="FIRST":MAILTO:info@firstinspires.org
END:VEVENT
BEGIN:VEVENT
DTSTART;VALUE=DATE:20250425
DTEND;VALUE=DATE:20250427
DTSTAMP:20260424T083216
CREATED:20250418T203754Z
LAST-MODIFIED:20250508T100545Z
UID:10001555-1745539200-1745711999@scholarcomp-aygcdxdhc8b9cwa7.westus-01.azurewebsites.net
SUMMARY:We the People - National Invitational
DESCRIPTION:A civic education competition where students participate in simulated congressional hearings to demonstrate their knowledge of the U.S. Constitution and civic principles.
URL:https://scholarcomp-aygcdxdhc8b9cwa7.westus-01.azurewebsites.net/event/we-the-people-national-invitational-2/
LOCATION:Remote
CATEGORIES:Social Studies and Sciences
ORGANIZER;CN="Center for Civic Education":MAILTO:web@civiced.org
END:VEVENT
BEGIN:VEVENT
DTSTART;VALUE=DATE:20250425
DTEND;VALUE=DATE:20250428
DTSTAMP:20260424T083216
CREATED:20250418T203512Z
LAST-MODIFIED:20250508T100300Z
UID:10001503-1745539200-1745798399@scholarcomp-aygcdxdhc8b9cwa7.westus-01.azurewebsites.net
SUMMARY:National Cyber League (NCL) - Team Game
DESCRIPTION:NCL is a cybersecurity competition designed to help students develop and test their skills in real-world cybersecurity scenarios. Students participate in a series of challenges across areas like network security\, password cracking\, cryptography\, and ethical hacking.
URL:https://scholarcomp-aygcdxdhc8b9cwa7.westus-01.azurewebsites.net/event/national-cyber-league-ncl-team-game-2/
LOCATION:MA
CATEGORIES:Technology
ORGANIZER;CN="Cyber Skyline%2C NCL":MAILTO:info@nationalcyberleague.org
END:VEVENT
BEGIN:VEVENT
DTSTART;VALUE=DATE:20250425
DTEND;VALUE=DATE:20250428
DTSTAMP:20260424T083216
CREATED:20250418T203525Z
LAST-MODIFIED:20250508T100315Z
UID:10001508-1745539200-1745798399@scholarcomp-aygcdxdhc8b9cwa7.westus-01.azurewebsites.net
SUMMARY:National History Bee - National Championships
DESCRIPTION:The National History Bee is a quiz-based competition where students answer questions related to history from all eras and regions of the world. The competition promotes historical knowledge and critical thinking.
URL:https://scholarcomp-aygcdxdhc8b9cwa7.westus-01.azurewebsites.net/event/national-history-bee-national-championships-2/
LOCATION:Crystal Gateway Marriott\, 1700 Richmond Highway\, Arlington\, VA\, 22202\, United States
CATEGORIES:Social Studies and Sciences
ORGANIZER;CN="International Academic Competitions (IAC)":MAILTO:info@iacompetitions.com
END:VEVENT
BEGIN:VEVENT
DTSTART;VALUE=DATE:20250425
DTEND;VALUE=DATE:20250428
DTSTAMP:20260424T083216
CREATED:20250418T203536Z
LAST-MODIFIED:20250508T100326Z
UID:10001509-1745539200-1745798399@scholarcomp-aygcdxdhc8b9cwa7.westus-01.azurewebsites.net
SUMMARY:National History Bowl - National Championships
DESCRIPTION:The National History Bowl is a team-based quiz competition that tests students on various aspects of history\, including U.S. and world history. Teams answer questions in a buzzer-based format to score points.
URL:https://scholarcomp-aygcdxdhc8b9cwa7.westus-01.azurewebsites.net/event/national-history-bowl-national-championships-2/
LOCATION:Crystal Gateway Marriott\, 1700 Richmond Highway\, Arlington\, VA\, 22202\, United States
CATEGORIES:Social Studies and Sciences
ORGANIZER;CN="International Academic Competitions (IAC)":MAILTO:info@iacompetitions.com
END:VEVENT
BEGIN:VEVENT
DTSTART;VALUE=DATE:20250425
DTEND;VALUE=DATE:20250428
DTSTAMP:20260424T083216
CREATED:20250418T203723Z
LAST-MODIFIED:20250508T100526Z
UID:10001546-1745539200-1745798399@scholarcomp-aygcdxdhc8b9cwa7.westus-01.azurewebsites.net
SUMMARY:Solar Decathlon - Final Competition Event
DESCRIPTION:A collegiate competition challenging students to design and build high-performance\, low-carbon buildings that prioritize energy efficiency\, resilience\, and affordability.
URL:https://scholarcomp-aygcdxdhc8b9cwa7.westus-01.azurewebsites.net/event/solar-decathlon-final-competition-event-2/
LOCATION:National Renewable Energy Laboratory\, 15013 Denver West Pkwy\, Golden\, CO\, 80401\, United States
CATEGORIES:Engineering
ORGANIZER;CN="U.S. Department of Energy":MAILTO:SolarDecathlon@nrel.gov
END:VEVENT
BEGIN:VEVENT
DTSTART;VALUE=DATE:20250425
DTEND;VALUE=DATE:20250429
DTSTAMP:20260424T083217
CREATED:20250418T204036Z
LAST-MODIFIED:20250508T100757Z
UID:10001577-1745539200-1745884799@scholarcomp-aygcdxdhc8b9cwa7.westus-01.azurewebsites.net
SUMMARY:Academic Games Leagues of America National Tournament - 2025 AGLOA National Tournament
DESCRIPTION:This competition aims to challenge and reward outstanding knowledge and performance in mathematics\, language arts\, and social studies.
URL:https://scholarcomp-aygcdxdhc8b9cwa7.westus-01.azurewebsites.net/event/academic-games-leagues-of-america-national-tournament-2025-agloa-national-tournament-2/
LOCATION:Hyatt Regency Crystal City at Reagan National Airport\, Arlington\, VA\, United States
CATEGORIES:Mathematics
ORGANIZER;CN="Academic Games Leagues of America%2C Inc.":MAILTO:Currently Unavailable
END:VEVENT
BEGIN:VEVENT
DTSTART;VALUE=DATE:20250426
DTEND;VALUE=DATE:20250427
DTSTAMP:20260424T083217
CREATED:20250418T203327Z
LAST-MODIFIED:20250508T100135Z
UID:10001472-1745625600-1745711999@scholarcomp-aygcdxdhc8b9cwa7.westus-01.azurewebsites.net
SUMMARY:Sea\, Air\, and Land Challenge - PA - Columbia Montour Region
DESCRIPTION:A STEM initiative where students design and build robotic systems for challenges that mimic missions encountered by the military\, national security agencies\, and first responders.
URL:https://scholarcomp-aygcdxdhc8b9cwa7.westus-01.azurewebsites.net/event/sea-air-and-land-challenge-pa-columbia-montour-region-2/
LOCATION:Montour Preserve\, 374 Preserve Road\, Danville\, PA\, 17821\, United States
CATEGORIES:Robotics
ORGANIZER;CN="Penn State Applied Research Laboratory":MAILTO:seaairland@arl.psu.edu
END:VEVENT
BEGIN:VEVENT
DTSTART;VALUE=DATE:20250426
DTEND;VALUE=DATE:20250427
DTSTAMP:20260424T083217
CREATED:20250418T203352Z
LAST-MODIFIED:20250508T100158Z
UID:10001481-1745625600-1745711999@scholarcomp-aygcdxdhc8b9cwa7.westus-01.azurewebsites.net
SUMMARY:Botball Robotics - Greater DC Botball Tournament
DESCRIPTION:Botball is an educational robotics competition that challenges students to design\, build\, and program autonomous robots to complete specific tasks. The competition emphasizes teamwork\, engineering\, and problem-solving skills.
URL:https://scholarcomp-aygcdxdhc8b9cwa7.westus-01.azurewebsites.net/event/botball-robotics-greater-dc-botball-tournament-3/
LOCATION:Great Mills High SchoolGreat Mills\,\, Maryland
CATEGORIES:Robotics
ORGANIZER;CN="KISS Institute for Practical Robotics":MAILTO:Info@KIPR.org
GEO:NULL;NULL
END:VEVENT
BEGIN:VEVENT
DTSTART;VALUE=DATE:20250426
DTEND;VALUE=DATE:20250427
DTSTAMP:20260424T083217
CREATED:20250418T203354Z
LAST-MODIFIED:20250508T100159Z
UID:10001482-1745625600-1745711999@scholarcomp-aygcdxdhc8b9cwa7.westus-01.azurewebsites.net
SUMMARY:Botball Robotics - New Mexico Botball Tournament
DESCRIPTION:Botball is an educational robotics competition that challenges students to design\, build\, and program autonomous robots to complete specific tasks. The competition emphasizes teamwork\, engineering\, and problem-solving skills.
URL:https://scholarcomp-aygcdxdhc8b9cwa7.westus-01.azurewebsites.net/event/botball-robotics-new-mexico-botball-tournament-3/
LOCATION:Valencia Middle School\, Los Lunas\, New Mexico
CATEGORIES:Robotics
ORGANIZER;CN="KISS Institute for Practical Robotics":MAILTO:Info@KIPR.org
END:VEVENT
BEGIN:VEVENT
DTSTART;VALUE=DATE:20250426
DTEND;VALUE=DATE:20250427
DTSTAMP:20260424T083217
CREATED:20250418T203439Z
LAST-MODIFIED:20250508T100228Z
UID:10001490-1745625600-1745711999@scholarcomp-aygcdxdhc8b9cwa7.westus-01.azurewebsites.net
SUMMARY:VEX IQ Challenge - DRC / Robolabs VEX IQ Tournament - Invitational
DESCRIPTION:The VEX IQ Challenge is an elementary and middle school robotics competition where students design and program robots to solve specific challenges. The competition fosters teamwork\, problem-solving\, and STEM skills.
URL:https://scholarcomp-aygcdxdhc8b9cwa7.westus-01.azurewebsites.net/event/vex-iq-challenge-drc-robolabs-vex-iq-tournament-invitational-2/
LOCATION:Dublin Robotics Club\, 6500 Dublin Boulevard\, Dublin\, California\, 94568\, United States
CATEGORIES:Robotics
ORGANIZER;CN="Robotics Education &amp%3B Competition Foundation":MAILTO:info@roboticseducation.org
GEO:NULL;NULL
X-APPLE-STRUCTURED-LOCATION;VALUE=URI;X-ADDRESS=Dublin Robotics Club 6500 Dublin Boulevard Dublin California 94568 United States;X-APPLE-RADIUS=500;X-TITLE=6500 Dublin Boulevard:geo:NULL,NULL
END:VEVENT
BEGIN:VEVENT
DTSTART;VALUE=DATE:20250426
DTEND;VALUE=DATE:20250427
DTSTAMP:20260424T083217
CREATED:20250418T203842Z
LAST-MODIFIED:20250508T100656Z
UID:10001568-1745625600-1745711999@scholarcomp-aygcdxdhc8b9cwa7.westus-01.azurewebsites.net
SUMMARY:Math Masters MN - 4th Grade Competition
DESCRIPTION:A Minnesota-based competition for grades 5-6\, encouraging teamwork and problem-solving.
URL:https://scholarcomp-aygcdxdhc8b9cwa7.westus-01.azurewebsites.net/event/math-masters-mn-4th-grade-competition-18/
LOCATION:MA
CATEGORIES:Mathematics
ORGANIZER;CN="Math Masters of Minnesota":MAILTO:mary@math-masters.org
END:VEVENT
BEGIN:VEVENT
DTSTART;VALUE=DATE:20250426
DTEND;VALUE=DATE:20250427
DTSTAMP:20260424T083217
CREATED:20250418T203938Z
LAST-MODIFIED:20250508T100741Z
UID:10001573-1745625600-1745711999@scholarcomp-aygcdxdhc8b9cwa7.westus-01.azurewebsites.net
SUMMARY:Math Masters MN - 5th Grade Competition
DESCRIPTION:A Minnesota-based competition for grades 5-6\, encouraging teamwork and problem-solving.
URL:https://scholarcomp-aygcdxdhc8b9cwa7.westus-01.azurewebsites.net/event/math-masters-mn-5th-grade-competition-10/
LOCATION:MA
CATEGORIES:Mathematics
ORGANIZER;CN="Math Masters of Minnesota":MAILTO:mary@math-masters.org
END:VEVENT
END:VCALENDAR