BEGIN:VCALENDAR
VERSION:2.0
PRODID:-//ScholarComp Inc. - ECPv6.11.2.1//NONSGML v1.0//EN
CALSCALE:GREGORIAN
METHOD:PUBLISH
X-WR-CALNAME:ScholarComp Inc.
X-ORIGINAL-URL:https://scholarcomp-aygcdxdhc8b9cwa7.westus-01.azurewebsites.net
X-WR-CALDESC:Events for ScholarComp Inc.
REFRESH-INTERVAL;VALUE=DURATION:PT1H
X-Robots-Tag:noindex
X-PUBLISHED-TTL:PT1H
BEGIN:VTIMEZONE
TZID:America/New_York
BEGIN:DAYLIGHT
TZOFFSETFROM:-0500
TZOFFSETTO:-0400
TZNAME:EDT
DTSTART:20250309T070000
END:DAYLIGHT
BEGIN:STANDARD
TZOFFSETFROM:-0400
TZOFFSETTO:-0500
TZNAME:EST
DTSTART:20251102T060000
END:STANDARD
END:VTIMEZONE
BEGIN:VTIMEZONE
TZID:America/Detroit
BEGIN:DAYLIGHT
TZOFFSETFROM:-0500
TZOFFSETTO:-0400
TZNAME:EDT
DTSTART:20250309T070000
END:DAYLIGHT
BEGIN:STANDARD
TZOFFSETFROM:-0400
TZOFFSETTO:-0500
TZNAME:EST
DTSTART:20251102T060000
END:STANDARD
END:VTIMEZONE
BEGIN:VTIMEZONE
TZID:CET
END:VTIMEZONE
BEGIN:VTIMEZONE
TZID:America/Los_Angeles
BEGIN:DAYLIGHT
TZOFFSETFROM:-0800
TZOFFSETTO:-0700
TZNAME:PDT
DTSTART:20250309T100000
END:DAYLIGHT
BEGIN:STANDARD
TZOFFSETFROM:-0700
TZOFFSETTO:-0800
TZNAME:PST
DTSTART:20251102T090000
END:STANDARD
END:VTIMEZONE
BEGIN:VTIMEZONE
TZID:America/Phoenix
BEGIN:STANDARD
TZOFFSETFROM:-0700
TZOFFSETTO:-0700
TZNAME:MST
DTSTART:20250101T000000
END:STANDARD
END:VTIMEZONE
BEGIN:VTIMEZONE
TZID:America/Chicago
BEGIN:DAYLIGHT
TZOFFSETFROM:-0600
TZOFFSETTO:-0500
TZNAME:CDT
DTSTART:20250309T080000
END:DAYLIGHT
BEGIN:STANDARD
TZOFFSETFROM:-0500
TZOFFSETTO:-0600
TZNAME:CST
DTSTART:20251102T070000
END:STANDARD
END:VTIMEZONE
BEGIN:VEVENT
DTSTART;VALUE=DATE:20250511
DTEND;VALUE=DATE:20250512
DTSTAMP:20260425T124956
CREATED:20250418T204403Z
LAST-MODIFIED:20250508T101357Z
UID:10001645-1746921600-1747007999@scholarcomp-aygcdxdhc8b9cwa7.westus-01.azurewebsites.net
SUMMARY:Math League - Elementary New Zealand National Championship
DESCRIPTION:Math League is the largest network of local\, state\, and international math competitions for elementary\, middle\, and high school students. The competition helps students improve their problem-solving skills.
URL:https://scholarcomp-aygcdxdhc8b9cwa7.westus-01.azurewebsites.net/event/math-league-elementary-new-zealand-national-championship-2/
LOCATION:Online
CATEGORIES:Mathematics
ORGANIZER;CN="Math League":MAILTO:mathleague@mathleague.org
END:VEVENT
BEGIN:VEVENT
DTSTART;VALUE=DATE:20250511
DTEND;VALUE=DATE:20250512
DTSTAMP:20260425T124956
CREATED:20250418T204405Z
LAST-MODIFIED:20250508T101358Z
UID:10001646-1746921600-1747007999@scholarcomp-aygcdxdhc8b9cwa7.westus-01.azurewebsites.net
SUMMARY:Math League - Elementary Uzbekistan National Championship
DESCRIPTION:Math League is the largest network of local\, state\, and international math competitions for elementary\, middle\, and high school students. The competition helps students improve their problem-solving skills.
URL:https://scholarcomp-aygcdxdhc8b9cwa7.westus-01.azurewebsites.net/event/math-league-elementary-uzbekistan-national-championship-2/
LOCATION:Online
CATEGORIES:Mathematics
ORGANIZER;CN="Math League":MAILTO:mathleague@mathleague.org
END:VEVENT
BEGIN:VEVENT
DTSTART;VALUE=DATE:20250511
DTEND;VALUE=DATE:20250512
DTSTAMP:20260425T124956
CREATED:20250418T204406Z
LAST-MODIFIED:20250508T101359Z
UID:10001647-1746921600-1747007999@scholarcomp-aygcdxdhc8b9cwa7.westus-01.azurewebsites.net
SUMMARY:Math League - Elementary UAE National Championship
DESCRIPTION:Math League is the largest network of local\, state\, and international math competitions for elementary\, middle\, and high school students. The competition helps students improve their problem-solving skills.
URL:https://scholarcomp-aygcdxdhc8b9cwa7.westus-01.azurewebsites.net/event/math-league-elementary-uae-national-championship-2/
LOCATION:Online
CATEGORIES:Mathematics
ORGANIZER;CN="Math League":MAILTO:mathleague@mathleague.org
END:VEVENT
BEGIN:VEVENT
DTSTART;VALUE=DATE:20250511
DTEND;VALUE=DATE:20250512
DTSTAMP:20260425T124956
CREATED:20250418T204411Z
LAST-MODIFIED:20250508T101555Z
UID:10001648-1746921600-1747007999@scholarcomp-aygcdxdhc8b9cwa7.westus-01.azurewebsites.net
SUMMARY:Math League - Elementary Japan National Championship
DESCRIPTION:Math League is the largest network of local\, state\, and international math competitions for elementary\, middle\, and high school students. The competition helps students improve their problem-solving skills.
URL:https://scholarcomp-aygcdxdhc8b9cwa7.westus-01.azurewebsites.net/event/math-league-elementary-japan-national-championship-2/
LOCATION:Online
CATEGORIES:Mathematics
ORGANIZER;CN="Math League":MAILTO:mathleague@mathleague.org
END:VEVENT
BEGIN:VEVENT
DTSTART;VALUE=DATE:20250511
DTEND;VALUE=DATE:20250513
DTSTAMP:20260425T124956
CREATED:20250418T204631Z
LAST-MODIFIED:20250508T102250Z
UID:10001686-1746921600-1747094399@scholarcomp-aygcdxdhc8b9cwa7.westus-01.azurewebsites.net
SUMMARY:MATHCOUNTS Competition Series - MATHCOUNTS 2025 - National Finals
DESCRIPTION:The MATHCOUNTS Competition Series is a national math competition that engages middle school students in solving advanced math problems. The competition consists of four levels: school\, chapter\, state\, and national.
URL:https://scholarcomp-aygcdxdhc8b9cwa7.westus-01.azurewebsites.net/event/mathcounts-competition-series-mathcounts-2025-national-finals-2/
LOCATION:National-level (RTX-sponsored)\, Washington D.C.\, United States
CATEGORIES:Mathematics
ORGANIZER;CN="MATHCOUNTS Foundation":MAILTO:info@mathcounts.org
END:VEVENT
BEGIN:VEVENT
DTSTART;VALUE=DATE:20250512
DTEND;VALUE=DATE:20250515
DTSTAMP:20260425T124956
CREATED:20250418T204844Z
LAST-MODIFIED:20250508T102518Z
UID:10001735-1747008000-1747267199@scholarcomp-aygcdxdhc8b9cwa7.westus-01.azurewebsites.net
SUMMARY:VEX IQ Challenge - 2025 VEX Robotics World Championship VEX IQ Robotics Competition Middle School Event
DESCRIPTION:The VEX IQ Challenge is an elementary and middle school robotics competition where students design and program robots to solve specific challenges. The competition fosters teamwork\, problem-solving\, and STEM skills.
URL:https://scholarcomp-aygcdxdhc8b9cwa7.westus-01.azurewebsites.net/event/vex-iq-challenge-2025-vex-robotics-world-championship-vex-iq-robotics-competition-middle-school-event-2/
CATEGORIES:Robotics
ORGANIZER;CN="Robotics Education &amp%3B Competition Foundation":MAILTO:info@roboticseducation.org
END:VEVENT
BEGIN:VEVENT
DTSTART;VALUE=DATE:20250512
DTEND;VALUE=DATE:20250515
DTSTAMP:20260425T124956
CREATED:20250418T204846Z
LAST-MODIFIED:20250508T102519Z
UID:10001736-1747008000-1747267199@scholarcomp-aygcdxdhc8b9cwa7.westus-01.azurewebsites.net
SUMMARY:VEX IQ Challenge - 2025 VEX Robotics World Championship VEX IQ Robotics Competition Elementary School Event
DESCRIPTION:The VEX IQ Challenge is an elementary and middle school robotics competition where students design and program robots to solve specific challenges. The competition fosters teamwork\, problem-solving\, and STEM skills.
URL:https://scholarcomp-aygcdxdhc8b9cwa7.westus-01.azurewebsites.net/event/vex-iq-challenge-2025-vex-robotics-world-championship-vex-iq-robotics-competition-elementary-school-event-2/
CATEGORIES:Robotics
ORGANIZER;CN="Robotics Education &amp%3B Competition Foundation":MAILTO:info@roboticseducation.org
END:VEVENT
BEGIN:VEVENT
DTSTART;VALUE=DATE:20250513
DTEND;VALUE=DATE:20250514
DTSTAMP:20260425T124956
CREATED:20250418T203338Z
LAST-MODIFIED:20250508T100143Z
UID:10001478-1747094400-1747180799@scholarcomp-aygcdxdhc8b9cwa7.westus-01.azurewebsites.net
SUMMARY:Sea\, Air\, and Land Challenge - PA - Altoona Region
DESCRIPTION:A STEM initiative where students design and build robotic systems for challenges that mimic missions encountered by the military\, national security agencies\, and first responders.
URL:https://scholarcomp-aygcdxdhc8b9cwa7.westus-01.azurewebsites.net/event/sea-air-and-land-challenge-pa-altoona-region-2/
LOCATION:Penn State Altoona\, 3000 Ivyside Park\, Altoona\, PA\, 16601\, United States
CATEGORIES:Robotics
ORGANIZER;CN="Penn State Applied Research Laboratory":MAILTO:seaairland@arl.psu.edu
END:VEVENT
BEGIN:VEVENT
DTSTART;VALUE=DATE:20250513
DTEND;VALUE=DATE:20250514
DTSTAMP:20260425T124956
CREATED:20250418T204815Z
LAST-MODIFIED:20250508T102435Z
UID:10001722-1747094400-1747180799@scholarcomp-aygcdxdhc8b9cwa7.westus-01.azurewebsites.net
SUMMARY:BLENDED WITH HS EVENT VEX V5 Automate Middle School Challenge (Canceled) VEX V5 Robotics Competition High Stakes
DESCRIPTION:An international competition for students to design and build robots for specific challenges.
URL:https://scholarcomp-aygcdxdhc8b9cwa7.westus-01.azurewebsites.net/event/blended-with-hs-event-vex-v5-automate-middle-school-challenge-canceled-vex-v5-robotics-competition-high-stakes-2/
CATEGORIES:Robotics
ORGANIZER;CN="Robotics Education &amp%3B Competition Foundation (RECF)":MAILTO:support@robotevents.com
END:VEVENT
BEGIN:VEVENT
DTSTART;VALUE=DATE:20250514
DTEND;VALUE=DATE:20250515
DTSTAMP:20260425T124956
CREATED:20250418T204814Z
LAST-MODIFIED:20250508T102434Z
UID:10001721-1747180800-1747267199@scholarcomp-aygcdxdhc8b9cwa7.westus-01.azurewebsites.net
SUMMARY:VEX V5 Automate Blended HS / MS Challenge 2025 Sponsored by A3 VEX V5 Robotics Competition High Stakes Blended
DESCRIPTION:An international competition for students to design and build robots for specific challenges.
URL:https://scholarcomp-aygcdxdhc8b9cwa7.westus-01.azurewebsites.net/event/vex-v5-automate-blended-hs-ms-challenge-2025-sponsored-by-a3-vex-v5-robotics-competition-high-stakes-blended-2/
CATEGORIES:Robotics
ORGANIZER;CN="Robotics Education &amp%3B Competition Foundation (RECF)":MAILTO:support@robotevents.com
END:VEVENT
BEGIN:VEVENT
DTSTART;VALUE=DATE:20250514
DTEND;VALUE=DATE:20250518
DTSTAMP:20260425T124956
CREATED:20250418T203653Z
LAST-MODIFIED:20250508T100441Z
UID:10001532-1747180800-1747526399@scholarcomp-aygcdxdhc8b9cwa7.westus-01.azurewebsites.net
SUMMARY:SAE International's Collegiate Design Series - Formula SAE Michigan
DESCRIPTION:A global series of design competitions for college students to develop and test real-world engineering solutions\, including autonomous driving\, off-road vehicles\, aircraft\, and more.
URL:https://scholarcomp-aygcdxdhc8b9cwa7.westus-01.azurewebsites.net/event/sae-internationals-collegiate-design-series-formula-sae-michigan-2/
LOCATION:Michigan International Speedway\, 12626 US-12\, Brooklyn\, MI\, 49230\, United States
CATEGORIES:Engineering
ORGANIZER;CN="SAE International":MAILTO:customerservice@sae.org
END:VEVENT
BEGIN:VEVENT
DTSTART;VALUE=DATE:20250515
DTEND;VALUE=DATE:20250516
DTSTAMP:20260425T124956
CREATED:20250418T204759Z
LAST-MODIFIED:20250508T102417Z
UID:10001714-1747267200-1747353599@scholarcomp-aygcdxdhc8b9cwa7.westus-01.azurewebsites.net
SUMMARY:VEX V5 Robotics Competition - Oakmont VEX V5 High Stakes
DESCRIPTION:An international competition for students to design and build robots for specific challenges.
URL:https://scholarcomp-aygcdxdhc8b9cwa7.westus-01.azurewebsites.net/event/vex-v5-robotics-competition-oakmont-vex-v5-high-stakes-2/
CATEGORIES:Robotics
ORGANIZER;CN="Robotics Education &amp%3B Competition Foundation (RECF)":MAILTO:support@robotevents.com
END:VEVENT
BEGIN:VEVENT
DTSTART;VALUE=DATE:20250515
DTEND;VALUE=DATE:20250519
DTSTAMP:20260425T124956
CREATED:20250418T204230Z
LAST-MODIFIED:20250508T100958Z
UID:10001611-1747267200-1747612799@scholarcomp-aygcdxdhc8b9cwa7.westus-01.azurewebsites.net
SUMMARY:International Philosophy Olympiad (IPO) - XXXIII IPO 2025
DESCRIPTION:The IPO is an international competition where high school students submit philosophical essays\, tackling complex philosophical problems\, fostering critical thinking and analytical skills.
URL:https://scholarcomp-aygcdxdhc8b9cwa7.westus-01.azurewebsites.net/event/international-philosophy-olympiad-ipo-xxxiii-ipo-2025-2/
CATEGORIES:Social Studies and Sciences
ORGANIZER;CN="International Philosophy Olympiad":MAILTO:philosophy.olympiad@gmail.com
END:VEVENT
BEGIN:VEVENT
DTSTART;VALUE=DATE:20250517
DTEND;VALUE=DATE:20250518
DTSTAMP:20260425T124956
CREATED:20250418T203414Z
LAST-MODIFIED:20250508T100214Z
UID:10001486-1747440000-1747526399@scholarcomp-aygcdxdhc8b9cwa7.westus-01.azurewebsites.net
SUMMARY:Botball Robotics - NY/NJ Botball Tournament
DESCRIPTION:Botball is an educational robotics competition that challenges students to design\, build\, and program autonomous robots to complete specific tasks. The competition emphasizes teamwork\, engineering\, and problem-solving skills.
URL:https://scholarcomp-aygcdxdhc8b9cwa7.westus-01.azurewebsites.net/event/botball-robotics-ny-nj-botball-tournament-3/
LOCATION:Rahway Recreation Center\, Rahway\, New Jersey
CATEGORIES:Robotics
ORGANIZER;CN="KISS Institute for Practical Robotics":MAILTO:Info@KIPR.org
END:VEVENT
BEGIN:VEVENT
DTSTART;VALUE=DATE:20250517
DTEND;VALUE=DATE:20250518
DTSTAMP:20260425T124956
CREATED:20250418T204610Z
LAST-MODIFIED:20250508T102236Z
UID:10001681-1747440000-1747526399@scholarcomp-aygcdxdhc8b9cwa7.westus-01.azurewebsites.net
SUMMARY:Math League - High School US National Championship
DESCRIPTION:Math League is the largest network of local\, state\, and international math competitions for elementary\, middle\, and high school students. The competition helps students improve their problem-solving skills.
URL:https://scholarcomp-aygcdxdhc8b9cwa7.westus-01.azurewebsites.net/event/math-league-high-school-us-national-championship-2/
CATEGORIES:Mathematics
ORGANIZER;CN="Math League":MAILTO:mathleague@mathleague.org
END:VEVENT
BEGIN:VEVENT
DTSTART;VALUE=DATE:20250517
DTEND;VALUE=DATE:20250518
DTSTAMP:20260425T124956
CREATED:20250418T204737Z
LAST-MODIFIED:20250508T102349Z
UID:10001706-1747440000-1747526399@scholarcomp-aygcdxdhc8b9cwa7.westus-01.azurewebsites.net
SUMMARY:Sky-Party Scrimmage at the Dawg Pound Oak Lawn at Richards HS Aerial Drone Competition
DESCRIPTION:A STEM-focused competition where students learn drone piloting\, programming\, and teamwork through hands-on missions including piloting\, autonomous flight\, and communication.
URL:https://scholarcomp-aygcdxdhc8b9cwa7.westus-01.azurewebsites.net/event/sky-party-scrimmage-at-the-dawg-pound-oak-lawn-at-richards-hs-aerial-drone-competition-2/
CATEGORIES:Technology
ORGANIZER;CN="Robotics Education &amp%3B Competition Foundation":MAILTO:info@roboticseducation.org
END:VEVENT
BEGIN:VEVENT
DTSTART;VALUE=DATE:20250517
DTEND;VALUE=DATE:20250518
DTSTAMP:20260425T124956
CREATED:20250418T204741Z
LAST-MODIFIED:20250508T102351Z
UID:10001708-1747440000-1747526399@scholarcomp-aygcdxdhc8b9cwa7.westus-01.azurewebsites.net
SUMMARY:Aerial Drone Competition - Last Stop Before Dragonfly 2025 Open to high school and middle school teams and friends
DESCRIPTION:A STEM-focused competition where students learn drone piloting\, programming\, and teamwork through hands-on missions including piloting\, autonomous flight\, and communication.
URL:https://scholarcomp-aygcdxdhc8b9cwa7.westus-01.azurewebsites.net/event/aerial-drone-competition-last-stop-before-dragonfly-2025-open-to-high-school-and-middle-school-teams-and-friends-2/
CATEGORIES:Technology
ORGANIZER;CN="Robotics Education &amp%3B Competition Foundation":MAILTO:info@roboticseducation.org
END:VEVENT
BEGIN:VEVENT
DTSTART;VALUE=DATE:20250517
DTEND;VALUE=DATE:20250518
DTSTAMP:20260425T124956
CREATED:20250418T204827Z
LAST-MODIFIED:20250508T102451Z
UID:10001728-1747440000-1747526399@scholarcomp-aygcdxdhc8b9cwa7.westus-01.azurewebsites.net
SUMMARY:(Canceled) Great Lakes May VEX AI Robotics Competition (Canceled) High School Only VEX AI Robotics Competition
DESCRIPTION:A global contest promoting AI\, programming\, and robotics for middle and high school students.
URL:https://scholarcomp-aygcdxdhc8b9cwa7.westus-01.azurewebsites.net/event/canceled-great-lakes-may-vex-ai-robotics-competition-canceled-high-school-only-vex-ai-robotics-competition-2/
CATEGORIES:Robotics
ORGANIZER;CN="Robotics Education &amp%3B Competition Foundation (RECF)":MAILTO:support@robotevents.com
END:VEVENT
BEGIN:VEVENT
DTSTART;VALUE=DATE:20250517
DTEND;VALUE=DATE:20250518
DTSTAMP:20260425T124956
CREATED:20250418T204831Z
LAST-MODIFIED:20250508T102502Z
UID:10001729-1747440000-1747526399@scholarcomp-aygcdxdhc8b9cwa7.westus-01.azurewebsites.net
SUMMARY:Rolling Robots VEX AI Robotics Competition Tournament
DESCRIPTION:A global contest promoting AI\, programming\, and robotics for middle and high school students.
URL:https://scholarcomp-aygcdxdhc8b9cwa7.westus-01.azurewebsites.net/event/rolling-robots-vex-ai-robotics-competition-tournament-2/
CATEGORIES:Robotics
ORGANIZER;CN="Robotics Education &amp%3B Competition Foundation (RECF)":MAILTO:support@robotevents.com
END:VEVENT
BEGIN:VEVENT
DTSTART;VALUE=DATE:20250517
DTEND;VALUE=DATE:20250518
DTSTAMP:20260425T124956
CREATED:20250418T205012Z
LAST-MODIFIED:20250508T102548Z
UID:10001744-1747440000-1747526399@scholarcomp-aygcdxdhc8b9cwa7.westus-01.azurewebsites.net
SUMMARY:Winchester Math Competition
DESCRIPTION:A regional math competition promoting problem-solving and analytical thinking for high school students.
URL:https://scholarcomp-aygcdxdhc8b9cwa7.westus-01.azurewebsites.net/event/winchester-math-competition-2/
LOCATION:Winchester High School\, Winchester\, MA\, United States
CATEGORIES:Mathematics
ORGANIZER;CN="Winchester Math Organization":MAILTO:winchestermathcomp@gmail.com
END:VEVENT
BEGIN:VEVENT
DTSTART;VALUE=DATE:20250517
DTEND;VALUE=DATE:20250519
DTSTAMP:20260425T124956
CREATED:20250418T203542Z
LAST-MODIFIED:20250508T100329Z
UID:10001512-1747440000-1747612799@scholarcomp-aygcdxdhc8b9cwa7.westus-01.azurewebsites.net
SUMMARY:National Ocean Sciences Bowl - National Finals Competition
DESCRIPTION:A competition that engages high school students in ocean science and prepares them for STEM careers\, helping them become informed citizens and environmental stewards.
URL:https://scholarcomp-aygcdxdhc8b9cwa7.westus-01.azurewebsites.net/event/national-ocean-sciences-bowl-national-finals-competition-2/
LOCATION:Virtual
CATEGORIES:Science
ORGANIZER;CN="University Corporation for Atmospheric Research (UCAR)":MAILTO:nosb@ucar.edu
END:VEVENT
BEGIN:VEVENT
DTSTART;VALUE=DATE:20250517
DTEND;VALUE=DATE:20250519
DTSTAMP:20260425T124956
CREATED:20250418T204637Z
LAST-MODIFIED:20250508T102303Z
UID:10001689-1747440000-1747612799@scholarcomp-aygcdxdhc8b9cwa7.westus-01.azurewebsites.net
SUMMARY:National Ocean Sciences Bowl 2025 National Finals (Virtual)
DESCRIPTION:A competition that engages high school students in ocean science and prepares them for STEM careers\, helping them become informed citizens and environmental stewards.
URL:https://scholarcomp-aygcdxdhc8b9cwa7.westus-01.azurewebsites.net/event/national-ocean-sciences-bowl-2025-national-finals-virtual-2/
LOCATION:Online
CATEGORIES:Science
ORGANIZER;CN="University Corporation for Atmospheric Research (UCAR)":MAILTO:nosb@ucar.edu
END:VEVENT
BEGIN:VEVENT
DTSTART;VALUE=DATE:20250517
DTEND;VALUE=DATE:20250519
DTSTAMP:20260425T124956
CREATED:20250418T204723Z
LAST-MODIFIED:20250508T102334Z
UID:10001701-1747440000-1747612799@scholarcomp-aygcdxdhc8b9cwa7.westus-01.azurewebsites.net
SUMMARY:Aerial Drone Competition - 2025 South Central Aerial Drone Championship: Perseverance (HS) High School Championship at Cypress Falls High School in Houston\, Texas
DESCRIPTION:A STEM-focused competition where students learn drone piloting\, programming\, and teamwork through hands-on missions including piloting\, autonomous flight\, and communication.
URL:https://scholarcomp-aygcdxdhc8b9cwa7.westus-01.azurewebsites.net/event/aerial-drone-competition-2025-south-central-aerial-drone-championship-perseverance-hs-high-school-championship-at-cypress-falls-high-school-in-houston-texas-2/
CATEGORIES:Technology
ORGANIZER;CN="Robotics Education &amp%3B Competition Foundation":MAILTO:info@roboticseducation.org
END:VEVENT
BEGIN:VEVENT
DTSTART;VALUE=DATE:20250517
DTEND;VALUE=DATE:20250519
DTSTAMP:20260425T124956
CREATED:20250418T204725Z
LAST-MODIFIED:20250508T102335Z
UID:10001702-1747440000-1747612799@scholarcomp-aygcdxdhc8b9cwa7.westus-01.azurewebsites.net
SUMMARY:General Motors 2025 North Central ADC Championship Ingenuity Middle School Division at Kettering University in Flint\, Michigan
DESCRIPTION:A STEM-focused competition where students learn drone piloting\, programming\, and teamwork through hands-on missions including piloting\, autonomous flight\, and communication.
URL:https://scholarcomp-aygcdxdhc8b9cwa7.westus-01.azurewebsites.net/event/general-motors-2025-north-central-adc-championship-ingenuity-middle-school-division-at-kettering-university-in-flint-michigan-2/
CATEGORIES:Technology
ORGANIZER;CN="Robotics Education &amp%3B Competition Foundation":MAILTO:info@roboticseducation.org
END:VEVENT
BEGIN:VEVENT
DTSTART;TZID=America/New_York:20250517T080000
DTEND;TZID=America/New_York:20250517T170000
DTSTAMP:20260425T124956
CREATED:20250418T174715Z
LAST-MODIFIED:20250508T100826Z
UID:10001313-1747468800-1747501200@scholarcomp-aygcdxdhc8b9cwa7.westus-01.azurewebsites.net
SUMMARY:Botball Robotics - NY/NJ Botball Tournament
DESCRIPTION:Botball is an educational robotics competition that challenges students to design\, build\, and program autonomous robots to complete specific tasks. The competition emphasizes teamwork\, engineering\, and problem-solving skills.
URL:https://scholarcomp-aygcdxdhc8b9cwa7.westus-01.azurewebsites.net/event/botball-robotics-ny-nj-botball-tournament-2/
LOCATION:Rahway Recreation Center\, Rahway\, New Jersey
CATEGORIES:Robotics
ORGANIZER;CN="KISS Institute for Practical Robotics":MAILTO:Info@KIPR.org
END:VEVENT
BEGIN:VEVENT
DTSTART;TZID=America/Los_Angeles:20250517T080000
DTEND;TZID=America/Los_Angeles:20250517T170000
DTSTAMP:20260425T124956
CREATED:20250418T174717Z
LAST-MODIFIED:20250508T100827Z
UID:10001314-1747468800-1747501200@scholarcomp-aygcdxdhc8b9cwa7.westus-01.azurewebsites.net
SUMMARY:Botball Robotics - Northern California Botball Tournament
DESCRIPTION:Botball is an educational robotics competition that challenges students to design\, build\, and program autonomous robots to complete specific tasks. The competition emphasizes teamwork\, engineering\, and problem-solving skills.
URL:https://scholarcomp-aygcdxdhc8b9cwa7.westus-01.azurewebsites.net/event/botball-robotics-northern-california-botball-tournament/
LOCATION:Rancho Milpitas Middle School\, Milpitas\, CA\, United States
CATEGORIES:Robotics
ORGANIZER;CN="KISS Institute for Practical Robotics":MAILTO:Info@KIPR.org
END:VEVENT
BEGIN:VEVENT
DTSTART;VALUE=DATE:20250518
DTEND;VALUE=DATE:20250520
DTSTAMP:20260425T124956
CREATED:20250418T203730Z
LAST-MODIFIED:20250508T100530Z
UID:10001550-1747526400-1747699199@scholarcomp-aygcdxdhc8b9cwa7.westus-01.azurewebsites.net
SUMMARY:Prospects High School Business Plan & Pitch Competition - In-Person Pitch Competition
DESCRIPTION:A statewide virtual business pitch competition for Montana high school students with new business ideas or existing small businesses.
URL:https://scholarcomp-aygcdxdhc8b9cwa7.westus-01.azurewebsites.net/event/prospects-high-school-business-plan-pitch-competition-in-person-pitch-competition-2/
CATEGORIES:Entrepreneurship
ORGANIZER;CN="Montana Chamber Foundation":MAILTO:info@montanachamber.com
END:VEVENT
BEGIN:VEVENT
DTSTART;VALUE=DATE:20250519
DTEND;VALUE=DATE:20250521
DTSTAMP:20260425T124956
CREATED:20250418T204720Z
LAST-MODIFIED:20250508T102333Z
UID:10001700-1747612800-1747785599@scholarcomp-aygcdxdhc8b9cwa7.westus-01.azurewebsites.net
SUMMARY:General Motors 2025 North Central ADC Championship Ingenuity High School Division at Kettering University in Flint\, Michigan
DESCRIPTION:A STEM-focused competition where students learn drone piloting\, programming\, and teamwork through hands-on missions including piloting\, autonomous flight\, and communication.
URL:https://scholarcomp-aygcdxdhc8b9cwa7.westus-01.azurewebsites.net/event/general-motors-2025-north-central-adc-championship-ingenuity-high-school-division-at-kettering-university-in-flint-michigan-2/
CATEGORIES:Technology
ORGANIZER;CN="Robotics Education &amp%3B Competition Foundation":MAILTO:info@roboticseducation.org
END:VEVENT
BEGIN:VEVENT
DTSTART;VALUE=DATE:20250520
DTEND;VALUE=DATE:20250522
DTSTAMP:20260425T124956
CREATED:20250418T203442Z
LAST-MODIFIED:20250508T100230Z
UID:10001492-1747699200-1747871999@scholarcomp-aygcdxdhc8b9cwa7.westus-01.azurewebsites.net
SUMMARY:NASA's Gateways to Blue Skies Competition: AgAir - Gateways to Blue Skies Forum
DESCRIPTION:AgAir challenges student teams to conceptualize novel aviation systems for agriculture that can improve efficiency\, environmental impact\, and climate resilience by 2035. Finalists present their concepts at NASA’s Armstrong Flight Research Center.
URL:https://scholarcomp-aygcdxdhc8b9cwa7.westus-01.azurewebsites.net/event/nasas-gateways-to-blue-skies-competition-agair-gateways-to-blue-skies-forum-2/
LOCATION:NASA Armstrong Flight Research Center\, Edwards Air Force Base\, Edwards\, CA\, 93523\, United States
CATEGORIES:Engineering
ORGANIZER;CN="NASA":MAILTO:jsc-reducedgravity@nasa.gov
END:VEVENT
BEGIN:VEVENT
DTSTART;VALUE=DATE:20250521
DTEND;VALUE=DATE:20250525
DTSTAMP:20260425T124956
CREATED:20250418T203605Z
LAST-MODIFIED:20250508T100357Z
UID:10001520-1747785600-1748131199@scholarcomp-aygcdxdhc8b9cwa7.westus-01.azurewebsites.net
SUMMARY:Odyssey of the Mind - World Finals 2025
DESCRIPTION:Odyssey of the Mind is a creative problem-solving competition where students team up to solve open-ended problems in various categories\, such as mechanical devices or literary-based tasks\, culminating in local\, regional\, and world championships.
URL:https://scholarcomp-aygcdxdhc8b9cwa7.westus-01.azurewebsites.net/event/odyssey-of-the-mind-world-finals-2025-2/
CATEGORIES:Problem Solving and Critical Thinking
ORGANIZER;CN="Creative Competitions%2C Inc.":MAILTO:info@odysseyofthemind.com
END:VEVENT
END:VCALENDAR