BEGIN:VCALENDAR
VERSION:2.0
PRODID:-//ScholarComp Inc. - ECPv6.11.2.1//NONSGML v1.0//EN
CALSCALE:GREGORIAN
METHOD:PUBLISH
X-ORIGINAL-URL:https://scholarcomp-aygcdxdhc8b9cwa7.westus-01.azurewebsites.net
X-WR-CALDESC:Events for ScholarComp Inc.
REFRESH-INTERVAL;VALUE=DURATION:PT1H
X-Robots-Tag:noindex
X-PUBLISHED-TTL:PT1H
BEGIN:VTIMEZONE
TZID:America/New_York
BEGIN:DAYLIGHT
TZOFFSETFROM:-0500
TZOFFSETTO:-0400
TZNAME:EDT
DTSTART:20250309T070000
END:DAYLIGHT
BEGIN:STANDARD
TZOFFSETFROM:-0400
TZOFFSETTO:-0500
TZNAME:EST
DTSTART:20251102T060000
END:STANDARD
END:VTIMEZONE
BEGIN:VTIMEZONE
TZID:America/Detroit
BEGIN:DAYLIGHT
TZOFFSETFROM:-0500
TZOFFSETTO:-0400
TZNAME:EDT
DTSTART:20250309T070000
END:DAYLIGHT
BEGIN:STANDARD
TZOFFSETFROM:-0400
TZOFFSETTO:-0500
TZNAME:EST
DTSTART:20251102T060000
END:STANDARD
END:VTIMEZONE
BEGIN:VTIMEZONE
TZID:America/New_York
BEGIN:DAYLIGHT
TZOFFSETFROM:-0500
TZOFFSETTO:-0400
TZNAME:EDT
DTSTART:20250309T070000
END:DAYLIGHT
BEGIN:STANDARD
TZOFFSETFROM:-0400
TZOFFSETTO:-0500
TZNAME:EST
DTSTART:20251102T060000
END:STANDARD
END:VTIMEZONE
BEGIN:VTIMEZONE
TZID:America/Chicago
BEGIN:DAYLIGHT
TZOFFSETFROM:-0600
TZOFFSETTO:-0500
TZNAME:CDT
DTSTART:20250309T080000
END:DAYLIGHT
BEGIN:STANDARD
TZOFFSETFROM:-0500
TZOFFSETTO:-0600
TZNAME:CST
DTSTART:20251102T070000
END:STANDARD
END:VTIMEZONE
BEGIN:VTIMEZONE
TZID:America/Los_Angeles
BEGIN:DAYLIGHT
TZOFFSETFROM:-0800
TZOFFSETTO:-0700
TZNAME:PDT
DTSTART:20250309T100000
END:DAYLIGHT
BEGIN:STANDARD
TZOFFSETFROM:-0700
TZOFFSETTO:-0800
TZNAME:PST
DTSTART:20251102T090000
END:STANDARD
END:VTIMEZONE
BEGIN:VEVENT
DTSTART;VALUE=DATE:20250501
DTEND;VALUE=DATE:20250602
DTSTAMP:20260423T200045
CREATED:20250418T204636Z
LAST-MODIFIED:20250508T102302Z
UID:10001688-1746057600-1748822399@scholarcomp-aygcdxdhc8b9cwa7.westus-01.azurewebsites.net
SUMMARY:NASA's Gateways to Blue Skies Competition: AgAir - 2025 Blue Skies: AgAir
DESCRIPTION:AgAir challenges student teams to conceptualize novel aviation systems for agriculture that can improve efficiency\, environmental impact\, and climate resilience by 2035. Finalists present their concepts at NASA’s Armstrong Flight Research Center.
URL:https://scholarcomp-aygcdxdhc8b9cwa7.westus-01.azurewebsites.net/event/nasas-gateways-to-blue-skies-competition-agair-2025-blue-skies-agair-2/
LOCATION:NASA Center ()\, United States
CATEGORIES:Engineering
ORGANIZER;CN="NASA":MAILTO:jsc-reducedgravity@nasa.gov
END:VEVENT
BEGIN:VEVENT
DTSTART;VALUE=DATE:20250530
DTEND;VALUE=DATE:20250602
DTSTAMP:20260423T200045
CREATED:20250418T204125Z
LAST-MODIFIED:20250508T100858Z
UID:10001590-1748563200-1748822399@scholarcomp-aygcdxdhc8b9cwa7.westus-01.azurewebsites.net
SUMMARY:FIRST LEGO League - Western Edge Open 2025 Challenge
DESCRIPTION:The FIRST LEGO League introduces students to STEM concepts through hands-on learning with LEGO robotics. Students design\, build\, and program robots to complete challenges in a competitive environment.
URL:https://scholarcomp-aygcdxdhc8b9cwa7.westus-01.azurewebsites.net/event/first-lego-league-western-edge-open-2025-challenge-2/
LOCATION:Long Beach Convention Center\, 300 Ocean Blvd\, Long Beach\, CA\, 90802\, United States
CATEGORIES:Robotics
ORGANIZER;CN="FIRST &amp%3B LEGO Education":MAILTO:info@firstinspires.org
END:VEVENT
BEGIN:VEVENT
DTSTART;VALUE=DATE:20250531
DTEND;VALUE=DATE:20250602
DTSTAMP:20260423T200045
CREATED:20250418T203437Z
LAST-MODIFIED:20250508T100226Z
UID:10001489-1748649600-1748822399@scholarcomp-aygcdxdhc8b9cwa7.westus-01.azurewebsites.net
SUMMARY:Aerial Drone Competition - 2025 Northeast Aerial Drone Championship: Dragonfly (HS)
DESCRIPTION:A STEM-focused competition where students learn drone piloting\, programming\, and teamwork through hands-on missions including piloting\, autonomous flight\, and communication.
URL:https://scholarcomp-aygcdxdhc8b9cwa7.westus-01.azurewebsites.net/event/aerial-drone-competition-2025-northeast-aerial-drone-championship-dragonfly-hs-2/
LOCATION:Fairmont State University Falcon Center\, 1201 Locust Avenue\, Fairmont\, West Virginia\, 26554\, United States
CATEGORIES:Technology
ORGANIZER;CN="Robotics Education &amp%3B Competition Foundation":MAILTO:info@roboticseducation.org
GEO:NULL;NULL
X-APPLE-STRUCTURED-LOCATION;VALUE=URI;X-ADDRESS=Fairmont State University Falcon Center 1201 Locust Avenue Fairmont West Virginia 26554 United States;X-APPLE-RADIUS=500;X-TITLE=1201 Locust Avenue:geo:NULL,NULL
END:VEVENT
BEGIN:VEVENT
DTSTART;VALUE=DATE:20250531
DTEND;VALUE=DATE:20250602
DTSTAMP:20260423T200045
CREATED:20250418T204717Z
LAST-MODIFIED:20250508T102332Z
UID:10001699-1748649600-1748822399@scholarcomp-aygcdxdhc8b9cwa7.westus-01.azurewebsites.net
SUMMARY:Aerial Drone Competition - 2025 Northeast Aerial Drone Championship: Dragonfly (HS) at Fairmont State University in Fairmont\, West Virginia
DESCRIPTION:A STEM-focused competition where students learn drone piloting\, programming\, and teamwork through hands-on missions including piloting\, autonomous flight\, and communication.
URL:https://scholarcomp-aygcdxdhc8b9cwa7.westus-01.azurewebsites.net/event/aerial-drone-competition-2025-northeast-aerial-drone-championship-dragonfly-hs-at-fairmont-state-university-in-fairmont-west-virginia-2/
LOCATION:TN
CATEGORIES:Technology
ORGANIZER;CN="Robotics Education &amp%3B Competition Foundation":MAILTO:info@roboticseducation.org
END:VEVENT
BEGIN:VEVENT
DTSTART;VALUE=DATE:20250601
DTEND;VALUE=DATE:20250608
DTSTAMP:20260423T200045
CREATED:20250418T203657Z
LAST-MODIFIED:20250508T100444Z
UID:10001535-1748736000-1749340799@scholarcomp-aygcdxdhc8b9cwa7.westus-01.azurewebsites.net
SUMMARY:SAE International's Collegiate Design Series - AutoDrive Challenge II
DESCRIPTION:A global series of design competitions for college students to develop and test real-world engineering solutions\, including autonomous driving\, off-road vehicles\, aircraft\, and more.
URL:https://scholarcomp-aygcdxdhc8b9cwa7.westus-01.azurewebsites.net/event/sae-internationals-collegiate-design-series-autodrive-challenge-ii-2/
LOCATION:Ann Arbor\, Ann Arbor\, MI\, United States
CATEGORIES:Engineering
ORGANIZER;CN="SAE International":MAILTO:customerservice@sae.org
END:VEVENT
BEGIN:VEVENT
DTSTART;VALUE=DATE:20250601
DTEND;VALUE=DATE:20250901
DTSTAMP:20260423T200045
CREATED:20250418T203643Z
LAST-MODIFIED:20250508T100426Z
UID:10001528-1748736000-1756684799@scholarcomp-aygcdxdhc8b9cwa7.westus-01.azurewebsites.net
SUMMARY:Reach for the Stars ~ National Rocket Competition - Launch Window
DESCRIPTION:A national rocket competition designed for students to build and launch model rockets\, fostering interest in STEM and space exploration.
URL:https://scholarcomp-aygcdxdhc8b9cwa7.westus-01.azurewebsites.net/event/reach-for-the-stars-national-rocket-competition-launch-window-2/
LOCATION:Various\, Various\, United States
CATEGORIES:Engineering
ORGANIZER;CN="Reach for the Stars Competition Team":MAILTO:RocketCompetition@gmail.com
END:VEVENT
BEGIN:VEVENT
DTSTART;VALUE=DATE:20250604
DTEND;VALUE=DATE:20250605
DTSTAMP:20260423T200045
CREATED:20250418T203440Z
LAST-MODIFIED:20250508T100229Z
UID:10001491-1748995200-1749081599@scholarcomp-aygcdxdhc8b9cwa7.westus-01.azurewebsites.net
SUMMARY:VEX IQ Challenge - VIQRC | Rapid Relay | Czech Open 2025 | (ES/MS)
DESCRIPTION:The VEX IQ Challenge is an elementary and middle school robotics competition where students design and program robots to solve specific challenges. The competition fosters teamwork\, problem-solving\, and STEM skills.
URL:https://scholarcomp-aygcdxdhc8b9cwa7.westus-01.azurewebsites.net/event/vex-iq-challenge-viqrc-rapid-relay-czech-open-2025-es-ms-2/
LOCATION:O2 arena\, Prague 9\, Czech Republic
CATEGORIES:Robotics
ORGANIZER;CN="Robotics Education &amp%3B Competition Foundation":MAILTO:info@roboticseducation.org
END:VEVENT
BEGIN:VEVENT
DTSTART;VALUE=DATE:20250606
DTEND;VALUE=DATE:20250608
DTSTAMP:20260423T200045
CREATED:20250418T204834Z
LAST-MODIFIED:20250508T102504Z
UID:10001731-1749168000-1749340799@scholarcomp-aygcdxdhc8b9cwa7.westus-01.azurewebsites.net
SUMMARY:2025 VEX AI Robotics Competition World Championship
DESCRIPTION:A global contest promoting AI\, programming\, and robotics for middle and high school students.
URL:https://scholarcomp-aygcdxdhc8b9cwa7.westus-01.azurewebsites.net/event/2025-vex-ai-robotics-competition-world-championship-2/
LOCATION:TN
CATEGORIES:Robotics
ORGANIZER;CN="Robotics Education &amp%3B Competition Foundation (RECF)":MAILTO:support@robotevents.com
END:VEVENT
BEGIN:VEVENT
DTSTART;VALUE=DATE:20250607
DTEND;VALUE=DATE:20250608
DTSTAMP:20260423T200045
CREATED:20250418T204205Z
LAST-MODIFIED:20250508T100930Z
UID:10001602-1749254400-1749340799@scholarcomp-aygcdxdhc8b9cwa7.westus-01.azurewebsites.net
SUMMARY:International Greenwich Olympiad (IGO) - IGO 2025 Online Event
DESCRIPTION:The International Greenwich Olympiad is a multidisciplinary competition for high school students\, with categories ranging from STEM subjects to creative arts like photography\, drama\, and creative writing. Students from around the world compete and showcase their talents.
URL:https://scholarcomp-aygcdxdhc8b9cwa7.westus-01.azurewebsites.net/event/international-greenwich-olympiad-igo-igo-2025-online-event-2/
LOCATION:Online
CATEGORIES:Science
ORGANIZER;CN="North London Grammar School":MAILTO:info@igolondon.co.uk
END:VEVENT
BEGIN:VEVENT
DTSTART;VALUE=DATE:20250608
DTEND;VALUE=DATE:20250613
DTSTAMP:20260423T200045
CREATED:20250418T203537Z
LAST-MODIFIED:20250508T100327Z
UID:10001510-1749340800-1749772799@scholarcomp-aygcdxdhc8b9cwa7.westus-01.azurewebsites.net
SUMMARY:National History Day (NHD) - National Contest
DESCRIPTION:National History Day (NHD) is a nationwide academic competition that encourages students to conduct historical research and create projects that are presented in various formats\, including documentaries\, exhibits\, papers\, performances\, and websites.
URL:https://scholarcomp-aygcdxdhc8b9cwa7.westus-01.azurewebsites.net/event/national-history-day-nhd-national-contest-2/
LOCATION:University of Maryland\, College Park\, MD\, 20742\, United States
CATEGORIES:Social Studies and Sciences
ORGANIZER;CN="National History Day%2C Inc.":MAILTO:info@nhd.org
END:VEVENT
BEGIN:VEVENT
DTSTART;VALUE=DATE:20250610
DTEND;VALUE=DATE:20250612
DTSTAMP:20260423T200045
CREATED:20250418T203351Z
LAST-MODIFIED:20250508T100157Z
UID:10001480-1749513600-1749686399@scholarcomp-aygcdxdhc8b9cwa7.westus-01.azurewebsites.net
SUMMARY:You Be The Chemist Challenge - National Challenge
DESCRIPTION:A STEM competition for middle school students that encourages teamwork and problem-solving through science-based questions and sustainability challenges.
URL:https://scholarcomp-aygcdxdhc8b9cwa7.westus-01.azurewebsites.net/event/you-be-the-chemist-challenge-national-challenge-2/
LOCATION:To Be Announced
CATEGORIES:Science
ORGANIZER;CN="Chemical Educational Foundation":MAILTO:challenge@chemed.org
END:VEVENT
BEGIN:VEVENT
DTSTART;VALUE=DATE:20250612
DTEND;VALUE=DATE:20250616
DTSTAMP:20260423T200045
CREATED:20250418T203656Z
LAST-MODIFIED:20250508T100443Z
UID:10001534-1749686400-1750031999@scholarcomp-aygcdxdhc8b9cwa7.westus-01.azurewebsites.net
SUMMARY:SAE International's Collegiate Design Series - Baja SAE Maryland
DESCRIPTION:A global series of design competitions for college students to develop and test real-world engineering solutions\, including autonomous driving\, off-road vehicles\, aircraft\, and more.
URL:https://scholarcomp-aygcdxdhc8b9cwa7.westus-01.azurewebsites.net/event/sae-internationals-collegiate-design-series-baja-sae-maryland-2/
LOCATION:To Be Announced
CATEGORIES:Engineering
ORGANIZER;CN="SAE International":MAILTO:customerservice@sae.org
END:VEVENT
BEGIN:VEVENT
DTSTART;VALUE=DATE:20250613
DTEND;VALUE=DATE:20250616
DTSTAMP:20260423T200045
CREATED:20250418T204123Z
LAST-MODIFIED:20250508T100857Z
UID:10001589-1749772800-1750031999@scholarcomp-aygcdxdhc8b9cwa7.westus-01.azurewebsites.net
SUMMARY:FIRST LEGO League - WPI FLL Open Invitational - WAFFLE
DESCRIPTION:The FIRST LEGO League introduces students to STEM concepts through hands-on learning with LEGO robotics. Students design\, build\, and program robots to complete challenges in a competitive environment.
URL:https://scholarcomp-aygcdxdhc8b9cwa7.westus-01.azurewebsites.net/event/first-lego-league-wpi-fll-open-invitational-waffle-2/
LOCATION:WPI\, 100 Institute Rd\, Worcester\, MA\, 1609\, United States
CATEGORIES:Robotics
ORGANIZER;CN="FIRST &amp%3B LEGO Education":MAILTO:info@firstinspires.org
END:VEVENT
BEGIN:VEVENT
DTSTART;VALUE=DATE:20250614
DTEND;VALUE=DATE:20250615
DTSTAMP:20260423T200045
CREATED:20250418T204412Z
LAST-MODIFIED:20250508T101556Z
UID:10001649-1749859200-1749945599@scholarcomp-aygcdxdhc8b9cwa7.westus-01.azurewebsites.net
SUMMARY:Math League - Elementary US National Championship
DESCRIPTION:Math League is the largest network of local\, state\, and international math competitions for elementary\, middle\, and high school students. The competition helps students improve their problem-solving skills.
URL:https://scholarcomp-aygcdxdhc8b9cwa7.westus-01.azurewebsites.net/event/math-league-elementary-us-national-championship-2/
LOCATION:Houston\, Houston\, TX\, United States
CATEGORIES:Mathematics
ORGANIZER;CN="Math League":MAILTO:mathleague@mathleague.org
END:VEVENT
BEGIN:VEVENT
DTSTART;VALUE=DATE:20250615
DTEND;VALUE=DATE:20250621
DTSTAMP:20260423T200045
CREATED:20250418T203556Z
LAST-MODIFIED:20250508T100344Z
UID:10001517-1749945600-1750463999@scholarcomp-aygcdxdhc8b9cwa7.westus-01.azurewebsites.net
SUMMARY:National Speech and Debate Tournament - 2025 National Tournament
DESCRIPTION:The largest academic competition in the world\, with students competing in debates\, public speaking\, and storytelling events in front of large audiences.
URL:https://scholarcomp-aygcdxdhc8b9cwa7.westus-01.azurewebsites.net/event/national-speech-and-debate-tournament-2025-national-tournament-2/
LOCATION:TN
CATEGORIES:Speech and Debate
ORGANIZER;CN="National Speech and Debate Association (NSDA)":MAILTO:info@speechanddebate.org
END:VEVENT
BEGIN:VEVENT
DTSTART;VALUE=DATE:20250617
DTEND;VALUE=DATE:20250622
DTSTAMP:20260423T200045
CREATED:20250418T203655Z
LAST-MODIFIED:20250508T100442Z
UID:10001533-1750118400-1750550399@scholarcomp-aygcdxdhc8b9cwa7.westus-01.azurewebsites.net
SUMMARY:SAE International's Collegiate Design Series - Formula SAE Electric
DESCRIPTION:A global series of design competitions for college students to develop and test real-world engineering solutions\, including autonomous driving\, off-road vehicles\, aircraft\, and more.
URL:https://scholarcomp-aygcdxdhc8b9cwa7.westus-01.azurewebsites.net/event/sae-internationals-collegiate-design-series-formula-sae-electric-2/
LOCATION:To Be Announced
CATEGORIES:Engineering
ORGANIZER;CN="SAE International":MAILTO:customerservice@sae.org
END:VEVENT
BEGIN:VEVENT
DTSTART;VALUE=DATE:20250622
DTEND;VALUE=DATE:20250627
DTSTAMP:20260423T200045
CREATED:20250418T203444Z
LAST-MODIFIED:20250508T100231Z
UID:10001493-1750550400-1750982399@scholarcomp-aygcdxdhc8b9cwa7.westus-01.azurewebsites.net
SUMMARY:National Beta Club Convention - Senior Beta Convention
DESCRIPTION:National Beta Club Convention is an annual event that brings together Beta Club members from across the country. The event focuses on leadership\, character\, academic achievement\, and community service. Students compete in various categories\, from academic tests to talent and service projects.
URL:https://scholarcomp-aygcdxdhc8b9cwa7.westus-01.azurewebsites.net/event/national-beta-club-convention-senior-beta-convention-2/
LOCATION:Gaylord Palms Resort & Convention Center\, 6000 W Osceola Pkwy\, Orlando\, FL\, 34746\, United States
CATEGORIES:Public Service and Leadership
ORGANIZER;CN="National Beta Club":MAILTO:Currently Unavailable
END:VEVENT
BEGIN:VEVENT
DTSTART;VALUE=DATE:20250623
DTEND;VALUE=DATE:20250627
DTSTAMP:20260423T200045
CREATED:20250418T203519Z
LAST-MODIFIED:20250508T100311Z
UID:10001504-1750636800-1750982399@scholarcomp-aygcdxdhc8b9cwa7.westus-01.azurewebsites.net
SUMMARY:National Engineering Design Competition - National Competition
DESCRIPTION:NEDC challenges students to identify a group experiencing inequity and develop a human-centered design solution using coding as a primary element. Teams present their projects at regional and national levels.
URL:https://scholarcomp-aygcdxdhc8b9cwa7.westus-01.azurewebsites.net/event/national-engineering-design-competition-national-competition-2/
LOCATION:San Diego State University\, San Diego\, CA\, United States
CATEGORIES:Engineering
ORGANIZER;CN="MESA USA":MAILTO:info@mesausa.org
END:VEVENT
BEGIN:VEVENT
DTSTART;VALUE=DATE:20250623
DTEND;VALUE=DATE:20250628
DTSTAMP:20260423T200045
CREATED:20250418T210239Z
LAST-MODIFIED:20250508T100500Z
UID:10001764-1750636800-1751068799@scholarcomp-aygcdxdhc8b9cwa7.westus-01.azurewebsites.net
SUMMARY:SkillsUSA Championship - National Leadership & Skills Conference
DESCRIPTION:A premier competition featuring over 6\,500 state champions in 114 skilled and leadership contests\, held at the SkillsUSA National Leadership & Skills Conference.
URL:https://scholarcomp-aygcdxdhc8b9cwa7.westus-01.azurewebsites.net/event/skillsusa-championship-national-leadership-skills-conference/
LOCATION:Georgia World Congress Center\, 285 Andrew Young International Blvd NW\, Atlanta\, GA\, 30313\, United States
CATEGORIES:Public Service and Leadership
ORGANIZER;CN="SkillsUSA Inc.":MAILTO:customercare@skillsusa.org
GEO:NULL;NULL
X-APPLE-STRUCTURED-LOCATION;VALUE=URI;X-ADDRESS=Georgia World Congress Center 285 Andrew Young International Blvd NW Atlanta GA 30313 United States;X-APPLE-RADIUS=500;X-TITLE=285 Andrew Young International Blvd NW:geo:NULL,NULL
END:VEVENT
BEGIN:VEVENT
DTSTART;VALUE=DATE:20250624
DTEND;VALUE=DATE:20250627
DTSTAMP:20260423T200045
CREATED:20250418T210306Z
LAST-MODIFIED:20250508T100527Z
UID:10001770-1750723200-1750982399@scholarcomp-aygcdxdhc8b9cwa7.westus-01.azurewebsites.net
SUMMARY:Student Unmanned Aerial Systems (SUAS) Competition - SUAS Competition
DESCRIPTION:A global competition designed to foster interest in UAS technology by challenging students to design\, build\, and demonstrate an autonomous Unmanned Aerial System.
URL:https://scholarcomp-aygcdxdhc8b9cwa7.westus-01.azurewebsites.net/event/student-unmanned-aerial-systems-suas-competition-suas-competition/
LOCATION:St. Mary’s County Regional Airport\, 44200 Airport Rd.\, California\, MD\, 20619\, United States
CATEGORIES:Robotics
ORGANIZER;CN="RoboNation":MAILTO:Currently Unavailable
END:VEVENT
BEGIN:VEVENT
DTSTART;VALUE=DATE:20250624
DTEND;VALUE=DATE:20250629
DTSTAMP:20260423T200045
CREATED:20250418T210605Z
LAST-MODIFIED:20250508T100856Z
UID:10001783-1750723200-1751155199@scholarcomp-aygcdxdhc8b9cwa7.westus-01.azurewebsites.net
SUMMARY:FIRST LEGO League - Florida Sunshine Invitational
DESCRIPTION:The FIRST LEGO League introduces students to STEM concepts through hands-on learning with LEGO robotics. Students design\, build\, and program robots to complete challenges in a competitive environment.
URL:https://scholarcomp-aygcdxdhc8b9cwa7.westus-01.azurewebsites.net/event/first-lego-league-florida-sunshine-invitational/
LOCATION:Embry-Riddle Aeronautical University\, 521 S Clyde Morris Blvd\, Daytona Beach\, FL\, 32114\, United States
CATEGORIES:Robotics
ORGANIZER;CN="FIRST &amp%3B LEGO Education":MAILTO:info@firstinspires.org
END:VEVENT
BEGIN:VEVENT
DTSTART;VALUE=DATE:20250626
DTEND;VALUE=DATE:20250628
DTSTAMP:20260423T200045
CREATED:20250418T210608Z
LAST-MODIFIED:20250508T100859Z
UID:10001784-1750896000-1751068799@scholarcomp-aygcdxdhc8b9cwa7.westus-01.azurewebsites.net
SUMMARY:FIRST Tech Challenge - United Kingdom Championship
DESCRIPTION:FIRST Tech Challenge is a global competition where teams of students design\, build\, and program robots to compete in an alliance format. Teams use Android technology and Java-based programming languages.
URL:https://scholarcomp-aygcdxdhc8b9cwa7.westus-01.azurewebsites.net/event/first-tech-challenge-united-kingdom-championship/
LOCATION:Copper Box Arena\, Queen Elizabeth Olympic Park\, London\, ENG\, E20 3HB\, United Kingdom
CATEGORIES:Robotics
ORGANIZER;CN="FIRST":MAILTO:info@firstinspires.org
END:VEVENT
BEGIN:VEVENT
DTSTART;VALUE=DATE:20250627
DTEND;VALUE=DATE:20250630
DTSTAMP:20260423T200045
CREATED:20250418T203451Z
LAST-MODIFIED:20250508T100241Z
UID:10001494-1750982400-1751241599@scholarcomp-aygcdxdhc8b9cwa7.westus-01.azurewebsites.net
SUMMARY:National Beta Club Convention - Elementary Beta Convention
DESCRIPTION:National Beta Club Convention is an annual event that brings together Beta Club members from across the country. The event focuses on leadership\, character\, academic achievement\, and community service. Students compete in various categories\, from academic tests to talent and service projects.
URL:https://scholarcomp-aygcdxdhc8b9cwa7.westus-01.azurewebsites.net/event/national-beta-club-convention-elementary-beta-convention-2/
LOCATION:Gaylord Palms Resort & Convention Center\, 6000 W Osceola Pkwy\, Orlando\, FL\, 34746\, United States
CATEGORIES:Public Service and Leadership
ORGANIZER;CN="National Beta Club":MAILTO:Currently Unavailable
END:VEVENT
BEGIN:VEVENT
DTSTART;VALUE=DATE:20250627
DTEND;VALUE=DATE:20250702
DTSTAMP:20260423T200045
CREATED:20250418T210308Z
LAST-MODIFIED:20250508T100528Z
UID:10001771-1750982400-1751414399@scholarcomp-aygcdxdhc8b9cwa7.westus-01.azurewebsites.net
SUMMARY:TeenDrive 365 Video Challenge - National TEAMS Competitions
DESCRIPTION:A competition encouraging high school students to create compelling short videos about the importance of safe driving. Grand Prize winners receive $15\,000 and the chance to have their videos featured on national media.
URL:https://scholarcomp-aygcdxdhc8b9cwa7.westus-01.azurewebsites.net/event/teendrive-365-video-challenge-national-teams-competitions/
LOCATION:Gaylord Opryland Resort & Convention Center\, 2800 Opryland Dr.\, Nashville\, TN\, 37214\, United States
CATEGORIES:Visual and Performing Arts
ORGANIZER;CN="Toyota and Discovery Education":MAILTO:teenDrive365@discovery.com
END:VEVENT
BEGIN:VEVENT
DTSTART;VALUE=DATE:20250627
DTEND;VALUE=DATE:20250702
DTSTAMP:20260423T200045
CREATED:20250418T210309Z
LAST-MODIFIED:20250508T100529Z
UID:10001772-1750982400-1751414399@scholarcomp-aygcdxdhc8b9cwa7.westus-01.azurewebsites.net
SUMMARY:Texas High School Ideas Challenge - National TEAMS Competitions
DESCRIPTION:An entrepreneurial competition encouraging high school students to develop and present innovative business ideas\, fostering an entrepreneurial mindset among Texas youth.
URL:https://scholarcomp-aygcdxdhc8b9cwa7.westus-01.azurewebsites.net/event/texas-high-school-ideas-challenge-national-teams-competitions/
LOCATION:Gaylord Opryland Resort & Convention Center\, 2800 Opryland Dr.\, Nashville\, TN\, 37214\, United States
CATEGORIES:Business and Economics
ORGANIZER;CN="McFerrin Center for Entrepreneurship":MAILTO:lrobertson@tamu.edu
END:VEVENT
BEGIN:VEVENT
DTSTART;VALUE=DATE:20250627
DTEND;VALUE=DATE:20250702
DTSTAMP:20260423T200045
CREATED:20250418T210320Z
LAST-MODIFIED:20250508T100541Z
UID:10001773-1750982400-1751414399@scholarcomp-aygcdxdhc8b9cwa7.westus-01.azurewebsites.net
SUMMARY:TSA TEAMS Competition - National TEAMS Competition
DESCRIPTION:A STEM-based competition where students work in teams to solve real-world engineering challenges using math\, science\, and engineering concepts.
URL:https://scholarcomp-aygcdxdhc8b9cwa7.westus-01.azurewebsites.net/event/tsa-teams-competition-national-teams-competition/
LOCATION:Gaylord National Resort & Convention Center\, 201 Waterfront Street\, National Harbor\, MD\, 20745\, United States
CATEGORIES:Engineering
ORGANIZER;CN="Technology Student Association (TSA)":MAILTO:awilliams@tsaweb.org
END:VEVENT
BEGIN:VEVENT
DTSTART;VALUE=DATE:20250629
DTEND;VALUE=DATE:20250704
DTSTAMP:20260423T200045
CREATED:20250418T203452Z
LAST-MODIFIED:20250508T100242Z
UID:10001495-1751155200-1751587199@scholarcomp-aygcdxdhc8b9cwa7.westus-01.azurewebsites.net
SUMMARY:National Beta Club Convention - Junior Beta Convention
DESCRIPTION:National Beta Club Convention is an annual event that brings together Beta Club members from across the country. The event focuses on leadership\, character\, academic achievement\, and community service. Students compete in various categories\, from academic tests to talent and service projects.
URL:https://scholarcomp-aygcdxdhc8b9cwa7.westus-01.azurewebsites.net/event/national-beta-club-convention-junior-beta-convention-2/
LOCATION:Gaylord Palms Resort & Convention Center\, 6000 W Osceola Pkwy\, Orlando\, FL\, 34746\, United States
CATEGORIES:Public Service and Leadership
ORGANIZER;CN="National Beta Club":MAILTO:Currently Unavailable
END:VEVENT
BEGIN:VEVENT
DTSTART;VALUE=DATE:20250701
DTEND;VALUE=DATE:20250708
DTSTAMP:20260423T200045
CREATED:20250418T210340Z
LAST-MODIFIED:20250508T100600Z
UID:10001777-1751328000-1751932799@scholarcomp-aygcdxdhc8b9cwa7.westus-01.azurewebsites.net
SUMMARY:International Logic Olympiad - Final Round
DESCRIPTION:Currently Unavailable
URL:https://scholarcomp-aygcdxdhc8b9cwa7.westus-01.azurewebsites.net/event/international-logic-olympiad-final-round/
LOCATION:Stanford University\, 450 Serra Mall\, Stanford\, CA\, 94305\, United States
CATEGORIES:Problem Solving and Critical Thinking
ORGANIZER;CN="Luminas":MAILTO:info@logicolympiad.org
END:VEVENT
BEGIN:VEVENT
DTSTART;VALUE=DATE:20250701
DTEND;VALUE=DATE:20250801
DTSTAMP:20260423T200045
CREATED:20250418T210907Z
LAST-MODIFIED:20250508T101557Z
UID:10001800-1751328000-1754006399@scholarcomp-aygcdxdhc8b9cwa7.westus-01.azurewebsites.net
SUMMARY:Math League - Elementary International Championship
DESCRIPTION:Math League is the largest network of local\, state\, and international math competitions for elementary\, middle\, and high school students. The competition helps students improve their problem-solving skills.
URL:https://scholarcomp-aygcdxdhc8b9cwa7.westus-01.azurewebsites.net/event/math-league-elementary-international-championship/
LOCATION:TN
CATEGORIES:Mathematics
ORGANIZER;CN="Math League":MAILTO:mathleague@mathleague.org
END:VEVENT
BEGIN:VEVENT
DTSTART;VALUE=DATE:20250701
DTEND;VALUE=DATE:20250801
DTSTAMP:20260423T200045
CREATED:20250418T211131Z
LAST-MODIFIED:20250508T102236Z
UID:10001801-1751328000-1754006399@scholarcomp-aygcdxdhc8b9cwa7.westus-01.azurewebsites.net
SUMMARY:Math League - High School International Championship
DESCRIPTION:Math League is the largest network of local\, state\, and international math competitions for elementary\, middle\, and high school students. The competition helps students improve their problem-solving skills.
URL:https://scholarcomp-aygcdxdhc8b9cwa7.westus-01.azurewebsites.net/event/math-league-high-school-international-championship/
LOCATION:TN
CATEGORIES:Mathematics
ORGANIZER;CN="Math League":MAILTO:mathleague@mathleague.org
END:VEVENT
END:VCALENDAR