BEGIN:VCALENDAR
VERSION:2.0
PRODID:-//ScholarComp Inc. - ECPv6.11.2.1//NONSGML v1.0//EN
CALSCALE:GREGORIAN
METHOD:PUBLISH
X-WR-CALNAME:ScholarComp Inc.
X-ORIGINAL-URL:https://scholarcomp-aygcdxdhc8b9cwa7.westus-01.azurewebsites.net
X-WR-CALDESC:Events for ScholarComp Inc.
REFRESH-INTERVAL;VALUE=DURATION:PT1H
X-Robots-Tag:noindex
X-PUBLISHED-TTL:PT1H
BEGIN:VTIMEZONE
TZID:America/New_York
BEGIN:DAYLIGHT
TZOFFSETFROM:-0500
TZOFFSETTO:-0400
TZNAME:EDT
DTSTART:20250309T070000
END:DAYLIGHT
BEGIN:STANDARD
TZOFFSETFROM:-0400
TZOFFSETTO:-0500
TZNAME:EST
DTSTART:20251102T060000
END:STANDARD
BEGIN:DAYLIGHT
TZOFFSETFROM:-0500
TZOFFSETTO:-0400
TZNAME:EDT
DTSTART:20260308T070000
END:DAYLIGHT
BEGIN:STANDARD
TZOFFSETFROM:-0400
TZOFFSETTO:-0500
TZNAME:EST
DTSTART:20261101T060000
END:STANDARD
END:VTIMEZONE
BEGIN:VTIMEZONE
TZID:America/New_York
BEGIN:DAYLIGHT
TZOFFSETFROM:-0500
TZOFFSETTO:-0400
TZNAME:EDT
DTSTART:20250309T070000
END:DAYLIGHT
BEGIN:STANDARD
TZOFFSETFROM:-0400
TZOFFSETTO:-0500
TZNAME:EST
DTSTART:20251102T060000
END:STANDARD
END:VTIMEZONE
BEGIN:VTIMEZONE
TZID:America/Los_Angeles
BEGIN:DAYLIGHT
TZOFFSETFROM:-0800
TZOFFSETTO:-0700
TZNAME:PDT
DTSTART:20250309T100000
END:DAYLIGHT
BEGIN:STANDARD
TZOFFSETFROM:-0700
TZOFFSETTO:-0800
TZNAME:PST
DTSTART:20251102T090000
END:STANDARD
END:VTIMEZONE
BEGIN:VTIMEZONE
TZID:America/Edmonton
BEGIN:DAYLIGHT
TZOFFSETFROM:-0700
TZOFFSETTO:-0600
TZNAME:MDT
DTSTART:20250309T090000
END:DAYLIGHT
BEGIN:STANDARD
TZOFFSETFROM:-0600
TZOFFSETTO:-0700
TZNAME:MST
DTSTART:20251102T080000
END:STANDARD
END:VTIMEZONE
BEGIN:VTIMEZONE
TZID:CET
END:VTIMEZONE
BEGIN:VTIMEZONE
TZID:GST
END:VTIMEZONE
BEGIN:VTIMEZONE
TZID:America/Chicago
BEGIN:DAYLIGHT
TZOFFSETFROM:-0600
TZOFFSETTO:-0500
TZNAME:CDT
DTSTART:20250309T080000
END:DAYLIGHT
BEGIN:STANDARD
TZOFFSETFROM:-0500
TZOFFSETTO:-0600
TZNAME:CST
DTSTART:20251102T070000
END:STANDARD
END:VTIMEZONE
BEGIN:VEVENT
DTSTART;VALUE=DATE:20260219
DTEND;VALUE=DATE:20260220
DTSTAMP:20260422T204350
CREATED:20250418T210539Z
LAST-MODIFIED:20250508T100831Z
UID:10001780-1771459200-1771545599@scholarcomp-aygcdxdhc8b9cwa7.westus-01.azurewebsites.net
SUMMARY:Canadian Computing Competition (CCC) - CCC 2026 - Non-Americas
DESCRIPTION:The CCC is a fun challenge for participants with an interest in programming. Designed to be both accessible to participants with some programming experience and to challenge the keenest programmers at the secondary school level\, the CCC helps participants build confidence and grow their ability to understand\, design\, and implement algorithms.
URL:https://scholarcomp-aygcdxdhc8b9cwa7.westus-01.azurewebsites.net/event/canadian-computing-competition-ccc-ccc-2026-non-americas/
LOCATION:University of Waterloo\, Waterloo\, ON\, Canada
CATEGORIES:Science
ORGANIZER;CN="Centre for Education in Mathematics and Computing (CEMC)%2C University of Waterloo":MAILTO:Currently Unavailable
END:VEVENT
BEGIN:VEVENT
DTSTART;VALUE=DATE:20260218
DTEND;VALUE=DATE:20260219
DTSTAMP:20260422T204350
CREATED:20250418T210538Z
LAST-MODIFIED:20250508T100829Z
UID:10001779-1771372800-1771459199@scholarcomp-aygcdxdhc8b9cwa7.westus-01.azurewebsites.net
SUMMARY:Canadian Computing Competition (CCC) - CCC 2026 - Americas
DESCRIPTION:The CCC is a fun challenge for participants with an interest in programming. Designed to be both accessible to participants with some programming experience and to challenge the keenest programmers at the secondary school level\, the CCC helps participants build confidence and grow their ability to understand\, design\, and implement algorithms.
URL:https://scholarcomp-aygcdxdhc8b9cwa7.westus-01.azurewebsites.net/event/canadian-computing-competition-ccc-ccc-2026-americas/
LOCATION:University of Waterloo\, Waterloo\, ON\, Canada
CATEGORIES:Science
ORGANIZER;CN="Centre for Education in Mathematics and Computing (CEMC)%2C University of Waterloo":MAILTO:Currently Unavailable
END:VEVENT
BEGIN:VEVENT
DTSTART;VALUE=DATE:20251211
DTEND;VALUE=DATE:20251212
DTSTAMP:20260422T204350
CREATED:20250418T211158Z
LAST-MODIFIED:20250508T102318Z
UID:10001808-1765411200-1765497599@scholarcomp-aygcdxdhc8b9cwa7.westus-01.azurewebsites.net
SUMMARY:National Science Olympiad (NSO) - NSO Level 1 - Date 3
DESCRIPTION:The ISO is an annual academic competition that tests students’ knowledge and skills in various branches of science\, problem-solving\, and reasoning abilities.
URL:https://scholarcomp-aygcdxdhc8b9cwa7.westus-01.azurewebsites.net/event/national-science-olympiad-nso-nso-level-1-date-3/
LOCATION:School-based
CATEGORIES:Science
ORGANIZER;CN="Science Olympiad Foundation":MAILTO:info@sofworld.org
END:VEVENT
BEGIN:VEVENT
DTSTART;VALUE=DATE:20251127
DTEND;VALUE=DATE:20251128
DTSTAMP:20260422T204350
CREATED:20250418T211157Z
LAST-MODIFIED:20250508T102317Z
UID:10001807-1764201600-1764287999@scholarcomp-aygcdxdhc8b9cwa7.westus-01.azurewebsites.net
SUMMARY:National Science Olympiad (NSO) - NSO Level 1 - Date 2
DESCRIPTION:The ISO is an annual academic competition that tests students’ knowledge and skills in various branches of science\, problem-solving\, and reasoning abilities.
URL:https://scholarcomp-aygcdxdhc8b9cwa7.westus-01.azurewebsites.net/event/national-science-olympiad-nso-nso-level-1-date-2/
LOCATION:School-based
CATEGORIES:Science
ORGANIZER;CN="Science Olympiad Foundation":MAILTO:info@sofworld.org
END:VEVENT
BEGIN:VEVENT
DTSTART;VALUE=DATE:20251113
DTEND;VALUE=DATE:20251114
DTSTAMP:20260422T204350
CREATED:20250418T211151Z
LAST-MODIFIED:20250508T102306Z
UID:10001806-1762992000-1763078399@scholarcomp-aygcdxdhc8b9cwa7.westus-01.azurewebsites.net
SUMMARY:National Science Olympiad (NSO) - NSO Level 1 - Date 1
DESCRIPTION:The ISO is an annual academic competition that tests students’ knowledge and skills in various branches of science\, problem-solving\, and reasoning abilities.
URL:https://scholarcomp-aygcdxdhc8b9cwa7.westus-01.azurewebsites.net/event/national-science-olympiad-nso-nso-level-1-date-1/
LOCATION:School-based
CATEGORIES:Science
ORGANIZER;CN="Science Olympiad Foundation":MAILTO:info@sofworld.org
END:VEVENT
BEGIN:VEVENT
DTSTART;VALUE=DATE:20251107
DTEND;VALUE=DATE:20251113
DTSTAMP:20260422T204350
CREATED:20250418T210621Z
LAST-MODIFIED:20250508T100912Z
UID:10001787-1762473600-1762991999@scholarcomp-aygcdxdhc8b9cwa7.westus-01.azurewebsites.net
SUMMARY:2025 IBB World Championship
DESCRIPTION:The International Brain Bee (IBB) is a global neuroscience competition for high school students\, designed to encourage students to learn about brain science and pursue careers in neuroscience research.
URL:https://scholarcomp-aygcdxdhc8b9cwa7.westus-01.azurewebsites.net/event/2025-ibb-world-championship/
LOCATION:Online
CATEGORIES:Science
ORGANIZER;CN="Society for Neuroscience":MAILTO:info@thebrainbee.org
END:VEVENT
BEGIN:VEVENT
DTSTART;VALUE=DATE:20250901
DTEND;VALUE=DATE:20250909
DTSTAMP:20260422T204350
CREATED:20250418T210707Z
LAST-MODIFIED:20250508T100957Z
UID:10001799-1756684800-1757375999@scholarcomp-aygcdxdhc8b9cwa7.westus-01.azurewebsites.net
SUMMARY:International Olympiad in Informatics (IOI) - IOI 2025
DESCRIPTION:The IOI is one of the world’s most prestigious programming competitions\, where high school students compete in complex algorithmic and programming challenges. The event encourages problem-solving and technical expertise.
URL:https://scholarcomp-aygcdxdhc8b9cwa7.westus-01.azurewebsites.net/event/international-olympiad-in-informatics-ioi-ioi-2025/
LOCATION:(Bolivia confirmed)\, Bolivia
CATEGORIES:Science
ORGANIZER;CN="International Olympiad in Informatics":MAILTO:info@ioinformatics.org
END:VEVENT
BEGIN:VEVENT
DTSTART;VALUE=DATE:20250720
DTEND;VALUE=DATE:20250727
DTSTAMP:20260422T204350
CREATED:20250418T210022Z
LAST-MODIFIED:20250508T100243Z
UID:10001746-1752969600-1753574399@scholarcomp-aygcdxdhc8b9cwa7.westus-01.azurewebsites.net
SUMMARY:National Canon Envirothon - NCF-Envirothon Competition
DESCRIPTION:Envirothon is an environmental and natural resources competition for high school students\, challenging them in areas like aquatic ecology\, forestry\, soils and land use\, and wildlife. The event incorporates STEM principles and hands-on field experiences.
URL:https://scholarcomp-aygcdxdhc8b9cwa7.westus-01.azurewebsites.net/event/national-canon-envirothon-ncf-envirothon-competition/
LOCATION:Mount Royal University\, 4825 Mount Royal Gate SW\, Calgary\, Alberta\, T3E 6K6\, Canada
CATEGORIES:Science
ORGANIZER;CN="National Conservation Foundation":MAILTO:info@envirothon.org
END:VEVENT
BEGIN:VEVENT
DTSTART;VALUE=DATE:20250720
DTEND;VALUE=DATE:20250725
DTSTAMP:20260422T204350
CREATED:20250418T210620Z
LAST-MODIFIED:20250508T100911Z
UID:10001786-1752969600-1753401599@scholarcomp-aygcdxdhc8b9cwa7.westus-01.azurewebsites.net
SUMMARY:International Biology Olympiad (IBO) - IBO 2025
DESCRIPTION:The IBO is the premier high school biology competition worldwide\, bringing together highly talented students to compete in biology knowledge\, laboratory skills\, and critical thinking.
URL:https://scholarcomp-aygcdxdhc8b9cwa7.westus-01.azurewebsites.net/event/international-biology-olympiad-ibo-ibo-2025/
LOCATION:Ateneo de Manila University\, Quezon City\, Philippines
CATEGORIES:Science
ORGANIZER;CN="IBO Office (Germany)":MAILTO:office@ibo-info.org
END:VEVENT
BEGIN:VEVENT
DTSTART;VALUE=DATE:20250717
DTEND;VALUE=DATE:20250726
DTSTAMP:20260422T204350
CREATED:20250418T210323Z
LAST-MODIFIED:20250508T100544Z
UID:10001775-1752710400-1753487999@scholarcomp-aygcdxdhc8b9cwa7.westus-01.azurewebsites.net
SUMMARY:USA Physics Olympiad & Physics Team - International Physics Olympiad (IPhO)
DESCRIPTION:The USA Physics Olympiad (USAPhO) is a national competition for high school students that leads to selection for the U.S. Physics Team\, which represents the country at the International Physics Olympiad.
URL:https://scholarcomp-aygcdxdhc8b9cwa7.westus-01.azurewebsites.net/event/usa-physics-olympiad-physics-team-international-physics-olympiad-ipho/
LOCATION:To Be Announced
CATEGORIES:Science
ORGANIZER;CN="American Association of Physics Teachers (AAPT)":MAILTO:programs@aapt.org
END:VEVENT
BEGIN:VEVENT
DTSTART;VALUE=DATE:20250705
DTEND;VALUE=DATE:20250715
DTSTAMP:20260422T204350
CREATED:20250418T210623Z
LAST-MODIFIED:20250508T100913Z
UID:10001788-1751673600-1752537599@scholarcomp-aygcdxdhc8b9cwa7.westus-01.azurewebsites.net
SUMMARY:International Chemistry Olympiad (IChO) - IChO 2025
DESCRIPTION:The IChO is the leading global competition in chemistry for high school students. It tests participants on theoretical knowledge and practical skills in chemistry\, fostering international collaboration and excellence in the field.
URL:https://scholarcomp-aygcdxdhc8b9cwa7.westus-01.azurewebsites.net/event/international-chemistry-olympiad-icho-icho-2025/
LOCATION:(UAE)\, United Arab Emirates
CATEGORIES:Science
ORGANIZER;CN="IChO Steering Committee":MAILTO:sc@ichosc.org
END:VEVENT
BEGIN:VEVENT
DTSTART;VALUE=DATE:20250705
DTEND;VALUE=DATE:20250715
DTSTAMP:20260422T204350
CREATED:20250418T210322Z
LAST-MODIFIED:20250508T100543Z
UID:10001774-1751673600-1752537599@scholarcomp-aygcdxdhc8b9cwa7.westus-01.azurewebsites.net
SUMMARY:U.S. National Chemistry Olympiad - International Chemistry Olympiad
DESCRIPTION:The U.S. National Chemistry Olympiad (USNCO) identifies and encourages high school students with a talent for chemistry. It selects the top students to represent the U.S. at the International Chemistry Olympiad (IChO).
URL:https://scholarcomp-aygcdxdhc8b9cwa7.westus-01.azurewebsites.net/event/u-s-national-chemistry-olympiad-international-chemistry-olympiad/
LOCATION:Various Locations
CATEGORIES:Science
ORGANIZER;CN="American Chemical Society (ACS)":MAILTO:usnco@acs.org
END:VEVENT
BEGIN:VEVENT
DTSTART;VALUE=DATE:20250610
DTEND;VALUE=DATE:20250612
DTSTAMP:20260422T204350
CREATED:20250418T203351Z
LAST-MODIFIED:20250508T100157Z
UID:10001480-1749513600-1749686399@scholarcomp-aygcdxdhc8b9cwa7.westus-01.azurewebsites.net
SUMMARY:You Be The Chemist Challenge - National Challenge
DESCRIPTION:A STEM competition for middle school students that encourages teamwork and problem-solving through science-based questions and sustainability challenges.
URL:https://scholarcomp-aygcdxdhc8b9cwa7.westus-01.azurewebsites.net/event/you-be-the-chemist-challenge-national-challenge-2/
LOCATION:To Be Announced
CATEGORIES:Science
ORGANIZER;CN="Chemical Educational Foundation":MAILTO:challenge@chemed.org
END:VEVENT
BEGIN:VEVENT
DTSTART;VALUE=DATE:20250607
DTEND;VALUE=DATE:20250608
DTSTAMP:20260422T204350
CREATED:20250418T204205Z
LAST-MODIFIED:20250508T100930Z
UID:10001602-1749254400-1749340799@scholarcomp-aygcdxdhc8b9cwa7.westus-01.azurewebsites.net
SUMMARY:International Greenwich Olympiad (IGO) - IGO 2025 Online Event
DESCRIPTION:The International Greenwich Olympiad is a multidisciplinary competition for high school students\, with categories ranging from STEM subjects to creative arts like photography\, drama\, and creative writing. Students from around the world compete and showcase their talents.
URL:https://scholarcomp-aygcdxdhc8b9cwa7.westus-01.azurewebsites.net/event/international-greenwich-olympiad-igo-igo-2025-online-event-2/
LOCATION:Online
CATEGORIES:Science
ORGANIZER;CN="North London Grammar School":MAILTO:info@igolondon.co.uk
END:VEVENT
BEGIN:VEVENT
DTSTART;TZID=America/New_York:20250524T100000
DTEND;TZID=America/New_York:20250524T170000
DTSTAMP:20260422T204350
CREATED:20250418T174657Z
LAST-MODIFIED:20250508T100759Z
UID:10001305-1748080800-1748106000@scholarcomp-aygcdxdhc8b9cwa7.westus-01.azurewebsites.net
SUMMARY:American Computer Science League (ACSL) - ACSL Finals
DESCRIPTION:ACSL organizes computer science and programming contests for K-12 students. The league covers a range of fundamental computer science concepts\, including Number Systems\, Boolean Algebra\, and Digital Electronics. In the upper divisions\, contests also include programming problems using Python\, C++\, or Java.
URL:https://scholarcomp-aygcdxdhc8b9cwa7.westus-01.azurewebsites.net/event/american-computer-science-league-acsl-acsl-finals/
CATEGORIES:Science
ORGANIZER;CN="American Computer Science League (ACSL)":MAILTO:contests@acsl.org
END:VEVENT
BEGIN:VEVENT
DTSTART;VALUE=DATE:20250523
DTEND;VALUE=DATE:20250525
DTSTAMP:20260422T204350
CREATED:20250418T203554Z
LAST-MODIFIED:20250508T100344Z
UID:10001516-1747958400-1748131199@scholarcomp-aygcdxdhc8b9cwa7.westus-01.azurewebsites.net
SUMMARY:Science Olympiad - 2025 National Tournament
DESCRIPTION:Science Olympiad is a premier team-based STEM competition\, offering standards-based challenges to students across the U.S. The competition covers 46 events in various STEM fields.
URL:https://scholarcomp-aygcdxdhc8b9cwa7.westus-01.azurewebsites.net/event/science-olympiad-2025-national-tournament-2/
LOCATION:University of Nebraska-Lincoln\, 1400 R Street\, Lincoln\, NE\, 68588\, United States
CATEGORIES:Science
ORGANIZER;CN="Science Olympiad Inc.":MAILTO:info@soinc.org
END:VEVENT
BEGIN:VEVENT
DTSTART;VALUE=DATE:20250517
DTEND;VALUE=DATE:20250519
DTSTAMP:20260422T204350
CREATED:20250418T204637Z
LAST-MODIFIED:20250508T102303Z
UID:10001689-1747440000-1747612799@scholarcomp-aygcdxdhc8b9cwa7.westus-01.azurewebsites.net
SUMMARY:National Ocean Sciences Bowl 2025 National Finals (Virtual)
DESCRIPTION:A competition that engages high school students in ocean science and prepares them for STEM careers\, helping them become informed citizens and environmental stewards.
URL:https://scholarcomp-aygcdxdhc8b9cwa7.westus-01.azurewebsites.net/event/national-ocean-sciences-bowl-2025-national-finals-virtual-2/
LOCATION:Online
CATEGORIES:Science
ORGANIZER;CN="University Corporation for Atmospheric Research (UCAR)":MAILTO:nosb@ucar.edu
END:VEVENT
BEGIN:VEVENT
DTSTART;VALUE=DATE:20250517
DTEND;VALUE=DATE:20250519
DTSTAMP:20260422T204350
CREATED:20250418T203542Z
LAST-MODIFIED:20250508T100329Z
UID:10001512-1747440000-1747612799@scholarcomp-aygcdxdhc8b9cwa7.westus-01.azurewebsites.net
SUMMARY:National Ocean Sciences Bowl - National Finals Competition
DESCRIPTION:A competition that engages high school students in ocean science and prepares them for STEM careers\, helping them become informed citizens and environmental stewards.
URL:https://scholarcomp-aygcdxdhc8b9cwa7.westus-01.azurewebsites.net/event/national-ocean-sciences-bowl-national-finals-competition-2/
LOCATION:Virtual
CATEGORIES:Science
ORGANIZER;CN="University Corporation for Atmospheric Research (UCAR)":MAILTO:nosb@ucar.edu
END:VEVENT
BEGIN:VEVENT
DTSTART;VALUE=DATE:20250424
DTEND;VALUE=DATE:20250429
DTSTAMP:20260422T204350
CREATED:20250418T204639Z
LAST-MODIFIED:20250508T102304Z
UID:10001690-1745452800-1745884799@scholarcomp-aygcdxdhc8b9cwa7.westus-01.azurewebsites.net
SUMMARY:National Science Bowl 2025 National Finals
DESCRIPTION:A nationwide academic competition testing students’ knowledge in various areas of science and mathematics\, including biology\, chemistry\, Earth science\, physics\, energy\, and math.
URL:https://scholarcomp-aygcdxdhc8b9cwa7.westus-01.azurewebsites.net/event/national-science-bowl-2025-national-finals-4/
LOCATION:U.S. Department of Energy\, 1000 Independence Ave SW\, Washington\, DC\, 20585\, United States
CATEGORIES:Science
ORGANIZER;CN="U.S. Department of Energy (DOE)":MAILTO:National.Science.Bowl@science.doe.gov
END:VEVENT
BEGIN:VEVENT
DTSTART;VALUE=DATE:20250424
DTEND;VALUE=DATE:20250429
DTSTAMP:20260422T204350
CREATED:20250418T203549Z
LAST-MODIFIED:20250508T100341Z
UID:10001514-1745452800-1745884799@scholarcomp-aygcdxdhc8b9cwa7.westus-01.azurewebsites.net
SUMMARY:National Science Bowl - 2025 National Finals
DESCRIPTION:A nationwide academic competition testing students’ knowledge in various areas of science and mathematics\, including biology\, chemistry\, Earth science\, physics\, energy\, and math.
URL:https://scholarcomp-aygcdxdhc8b9cwa7.westus-01.azurewebsites.net/event/national-science-bowl-2025-national-finals-3/
CATEGORIES:Science
ORGANIZER;CN="U.S. Department of Energy (DOE)":MAILTO:National.Science.Bowl@science.doe.gov
END:VEVENT
BEGIN:VEVENT
DTSTART;VALUE=DATE:20250421
DTEND;VALUE=DATE:20250503
DTSTAMP:20260422T204350
CREATED:20250418T211425Z
LAST-MODIFIED:20250508T102606Z
UID:10001816-1745193600-1746230399@scholarcomp-aygcdxdhc8b9cwa7.westus-01.azurewebsites.net
SUMMARY:National Science League - Contest Administration Window
DESCRIPTION:A science competition for students in grades 2 through 12\, testing knowledge in various scientific disciplines through multiple-choice questions.
URL:https://scholarcomp-aygcdxdhc8b9cwa7.westus-01.azurewebsites.net/event/national-science-league-contest-administration-window-2/
CATEGORIES:Science
ORGANIZER;CN="Continental Mathematics League":MAILTO:hello@cmleague.com
END:VEVENT
BEGIN:VEVENT
DTSTART;VALUE=DATE:20250421
DTEND;VALUE=DATE:20250503
DTSTAMP:20260422T204350
CREATED:20250418T204640Z
LAST-MODIFIED:20250508T102305Z
UID:10001691-1745193600-1746230399@scholarcomp-aygcdxdhc8b9cwa7.westus-01.azurewebsites.net
SUMMARY:National Science League Contest 2025
DESCRIPTION:A science competition for students in grades 2 through 12\, testing knowledge in various scientific disciplines through multiple-choice questions.
URL:https://scholarcomp-aygcdxdhc8b9cwa7.westus-01.azurewebsites.net/event/national-science-league-contest-2025-2/
LOCATION:School-based
CATEGORIES:Science
ORGANIZER;CN="Continental Mathematics League":MAILTO:hello@cmleague.com
END:VEVENT
END:VCALENDAR