BEGIN:VCALENDAR
VERSION:2.0
PRODID:-//ScholarComp Inc. - ECPv6.11.2.1//NONSGML v1.0//EN
CALSCALE:GREGORIAN
METHOD:PUBLISH
X-ORIGINAL-URL:https://scholarcomp-aygcdxdhc8b9cwa7.westus-01.azurewebsites.net
X-WR-CALDESC:Events for ScholarComp Inc.
REFRESH-INTERVAL;VALUE=DURATION:PT1H
X-Robots-Tag:noindex
X-PUBLISHED-TTL:PT1H
BEGIN:VTIMEZONE
TZID:America/New_York
BEGIN:DAYLIGHT
TZOFFSETFROM:-0500
TZOFFSETTO:-0400
TZNAME:EDT
DTSTART:20250309T070000
END:DAYLIGHT
BEGIN:STANDARD
TZOFFSETFROM:-0400
TZOFFSETTO:-0500
TZNAME:EST
DTSTART:20251102T060000
END:STANDARD
END:VTIMEZONE
BEGIN:VEVENT
DTSTART;VALUE=DATE:20250501
DTEND;VALUE=DATE:20250601
DTSTAMP:20260423T165816
CREATED:20250418T205010Z
LAST-MODIFIED:20250508T102547Z
UID:10001743-1746057600-1748735999@scholarcomp-aygcdxdhc8b9cwa7.westus-01.azurewebsites.net
SUMMARY:Wisconsin MathCounts - National Competition
DESCRIPTION:A statewide math competition aimed at fostering problem-solving and critical thinking among middle school students.
URL:https://scholarcomp-aygcdxdhc8b9cwa7.westus-01.azurewebsites.net/event/wisconsin-mathcounts-national-competition-2/
LOCATION:Not specified\, United States
CATEGORIES:Mathematics
ORGANIZER;CN="Wisconsin MathCounts Foundation":MAILTO:Currently Unavailable
END:VEVENT
BEGIN:VEVENT
DTSTART;VALUE=DATE:20250501
DTEND;VALUE=DATE:20250601
DTSTAMP:20260423T165816
CREATED:20250418T205013Z
LAST-MODIFIED:20250508T102549Z
UID:10001745-1746057600-1748735999@scholarcomp-aygcdxdhc8b9cwa7.westus-01.azurewebsites.net
SUMMARY:Vermont MathCounts - National Competition
DESCRIPTION:A statewide math competition designed to promote critical thinking and analytical skills among middle school students.
URL:https://scholarcomp-aygcdxdhc8b9cwa7.westus-01.azurewebsites.net/event/vermont-mathcounts-national-competition-2/
LOCATION:Washington\, DC\, Washington\, DC\, United States
CATEGORIES:Mathematics
ORGANIZER;CN="Vermont MathCounts":MAILTO:kcnorris1@myfairpoint.net
END:VEVENT
BEGIN:VEVENT
DTSTART;VALUE=DATE:20250517
DTEND;VALUE=DATE:20250518
DTSTAMP:20260423T165816
CREATED:20250418T204610Z
LAST-MODIFIED:20250508T102236Z
UID:10001681-1747440000-1747526399@scholarcomp-aygcdxdhc8b9cwa7.westus-01.azurewebsites.net
SUMMARY:Math League - High School US National Championship
DESCRIPTION:Math League is the largest network of local\, state\, and international math competitions for elementary\, middle\, and high school students. The competition helps students improve their problem-solving skills.
URL:https://scholarcomp-aygcdxdhc8b9cwa7.westus-01.azurewebsites.net/event/math-league-high-school-us-national-championship-2/
LOCATION:CO
CATEGORIES:Mathematics
ORGANIZER;CN="Math League":MAILTO:mathleague@mathleague.org
END:VEVENT
BEGIN:VEVENT
DTSTART;VALUE=DATE:20250517
DTEND;VALUE=DATE:20250518
DTSTAMP:20260423T165816
CREATED:20250418T205012Z
LAST-MODIFIED:20250508T102548Z
UID:10001744-1747440000-1747526399@scholarcomp-aygcdxdhc8b9cwa7.westus-01.azurewebsites.net
SUMMARY:Winchester Math Competition
DESCRIPTION:A regional math competition promoting problem-solving and analytical thinking for high school students.
URL:https://scholarcomp-aygcdxdhc8b9cwa7.westus-01.azurewebsites.net/event/winchester-math-competition-2/
LOCATION:Winchester High School\, Winchester\, MA\, United States
CATEGORIES:Mathematics
ORGANIZER;CN="Winchester Math Organization":MAILTO:winchestermathcomp@gmail.com
END:VEVENT
END:VCALENDAR