BEGIN:VCALENDAR
VERSION:2.0
PRODID:-//ScholarComp Inc. - ECPv6.11.2.1//NONSGML v1.0//EN
CALSCALE:GREGORIAN
METHOD:PUBLISH
X-WR-CALNAME:ScholarComp Inc.
X-ORIGINAL-URL:https://scholarcomp-aygcdxdhc8b9cwa7.westus-01.azurewebsites.net
X-WR-CALDESC:Events for ScholarComp Inc.
REFRESH-INTERVAL;VALUE=DURATION:PT1H
X-Robots-Tag:noindex
X-PUBLISHED-TTL:PT1H
BEGIN:VTIMEZONE
TZID:America/New_York
BEGIN:DAYLIGHT
TZOFFSETFROM:-0500
TZOFFSETTO:-0400
TZNAME:EDT
DTSTART:20250309T070000
END:DAYLIGHT
BEGIN:STANDARD
TZOFFSETFROM:-0400
TZOFFSETTO:-0500
TZNAME:EST
DTSTART:20251102T060000
END:STANDARD
BEGIN:DAYLIGHT
TZOFFSETFROM:-0500
TZOFFSETTO:-0400
TZNAME:EDT
DTSTART:20260308T070000
END:DAYLIGHT
BEGIN:STANDARD
TZOFFSETFROM:-0400
TZOFFSETTO:-0500
TZNAME:EST
DTSTART:20261101T060000
END:STANDARD
END:VTIMEZONE
BEGIN:VTIMEZONE
TZID:America/New_York
BEGIN:DAYLIGHT
TZOFFSETFROM:-0500
TZOFFSETTO:-0400
TZNAME:EDT
DTSTART:20250309T070000
END:DAYLIGHT
BEGIN:STANDARD
TZOFFSETFROM:-0400
TZOFFSETTO:-0500
TZNAME:EST
DTSTART:20251102T060000
END:STANDARD
END:VTIMEZONE
BEGIN:VTIMEZONE
TZID:America/Los_Angeles
BEGIN:DAYLIGHT
TZOFFSETFROM:-0800
TZOFFSETTO:-0700
TZNAME:PDT
DTSTART:20250309T100000
END:DAYLIGHT
BEGIN:STANDARD
TZOFFSETFROM:-0700
TZOFFSETTO:-0800
TZNAME:PST
DTSTART:20251102T090000
END:STANDARD
END:VTIMEZONE
BEGIN:VEVENT
DTSTART;VALUE=DATE:20251101
DTEND;VALUE=DATE:20260401
DTSTAMP:20260423T065505
CREATED:20250418T211139Z
LAST-MODIFIED:20250508T102248Z
UID:10001803-1761955200-1775001599@scholarcomp-aygcdxdhc8b9cwa7.westus-01.azurewebsites.net
SUMMARY:Math Olympiads for Elementary and Middle Schools (MOEMS) - MOEMS 2025 Season (Grades 4-8)
DESCRIPTION:MOEMS is a global math competition designed to develop problem-solving skills in elementary and middle school students. It consists of five challenging contests held throughout the academic year.
URL:https://scholarcomp-aygcdxdhc8b9cwa7.westus-01.azurewebsites.net/event/math-olympiads-for-elementary-and-middle-schools-moems-moems-2025-season-grades-4-8/
LOCATION:School-based
CATEGORIES:Mathematics
ORGANIZER;CN="MOEMS":MAILTO:office@moems.org
END:VEVENT
BEGIN:VEVENT
DTSTART;VALUE=DATE:20251105
DTEND;VALUE=DATE:20251119
DTSTAMP:20260423T065505
CREATED:20250418T210610Z
LAST-MODIFIED:20250508T100900Z
UID:10001785-1762300800-1763510399@scholarcomp-aygcdxdhc8b9cwa7.westus-01.azurewebsites.net
SUMMARY:High School Mathematics Contest in Modeling (HiMCM) - 2025 HiMCM Contest Window
DESCRIPTION:The HiMCM is an international math contest where teams of high school students apply mathematics to solve real-world modeling problems. It encourages teamwork\, problem-solving\, and technical writing.
URL:https://scholarcomp-aygcdxdhc8b9cwa7.westus-01.azurewebsites.net/event/high-school-mathematics-contest-in-modeling-himcm-2025-himcm-contest-window/
LOCATION:Online
CATEGORIES:Mathematics
ORGANIZER;CN="Consortium for Mathematics and its Applications (COMAP)":MAILTO:info@comap.com
END:VEVENT
BEGIN:VEVENT
DTSTART;VALUE=DATE:20251105
DTEND;VALUE=DATE:20251119
DTSTAMP:20260423T065505
CREATED:20250418T211143Z
LAST-MODIFIED:20250508T102251Z
UID:10001805-1762300800-1763510399@scholarcomp-aygcdxdhc8b9cwa7.westus-01.azurewebsites.net
SUMMARY:Middle Mathematical Contest in Modeling (MidMCM) - MidMCM 2025
DESCRIPTION:MidMCM is an international contest where teams of middle school students develop mathematical models to solve real-world problems. The competition emphasizes teamwork\, problem solving\, and writing skills.
URL:https://scholarcomp-aygcdxdhc8b9cwa7.westus-01.azurewebsites.net/event/middle-mathematical-contest-in-modeling-midmcm-midmcm-2025/
LOCATION:Online
CATEGORIES:Mathematics
ORGANIZER;CN="COMAP":MAILTO:info@comap.com
END:VEVENT
BEGIN:VEVENT
DTSTART;VALUE=DATE:20251115
DTEND;VALUE=DATE:20251119
DTSTAMP:20260423T065505
CREATED:20250418T210154Z
LAST-MODIFIED:20250508T100414Z
UID:10001760-1763164800-1763510399@scholarcomp-aygcdxdhc8b9cwa7.westus-01.azurewebsites.net
SUMMARY:Project Green Challenge Finals
DESCRIPTION:A 30-day eco-themed challenge that empowers students to take bold climate action\, culminating in a grand final event in San Francisco with $5\,000 for the top performer.
URL:https://scholarcomp-aygcdxdhc8b9cwa7.westus-01.azurewebsites.net/event/project-green-challenge-finals/
LOCATION:San Francisco\, San Francisco\, CA\, United States
CATEGORIES:Interdisciplinary
ORGANIZER;CN="Turning Green":MAILTO:info@turninggreen.org
END:VEVENT
END:VCALENDAR