BEGIN:VCALENDAR
VERSION:2.0
PRODID:-//ScholarComp Inc. - ECPv6.11.2.1//NONSGML v1.0//EN
CALSCALE:GREGORIAN
METHOD:PUBLISH
X-ORIGINAL-URL:https://scholarcomp-aygcdxdhc8b9cwa7.westus-01.azurewebsites.net
X-WR-CALDESC:Events for ScholarComp Inc.
REFRESH-INTERVAL;VALUE=DURATION:PT1H
X-Robots-Tag:noindex
X-PUBLISHED-TTL:PT1H
BEGIN:VTIMEZONE
TZID:America/Los_Angeles
BEGIN:DAYLIGHT
TZOFFSETFROM:-0800
TZOFFSETTO:-0700
TZNAME:PDT
DTSTART:20250309T100000
END:DAYLIGHT
BEGIN:STANDARD
TZOFFSETFROM:-0700
TZOFFSETTO:-0800
TZNAME:PST
DTSTART:20251102T090000
END:STANDARD
END:VTIMEZONE
BEGIN:VTIMEZONE
TZID:America/New_York
BEGIN:DAYLIGHT
TZOFFSETFROM:-0500
TZOFFSETTO:-0400
TZNAME:EDT
DTSTART:20250309T070000
END:DAYLIGHT
BEGIN:STANDARD
TZOFFSETFROM:-0400
TZOFFSETTO:-0500
TZNAME:EST
DTSTART:20251102T060000
END:STANDARD
END:VTIMEZONE
BEGIN:VTIMEZONE
TZID:America/Phoenix
BEGIN:STANDARD
TZOFFSETFROM:-0700
TZOFFSETTO:-0700
TZNAME:MST
DTSTART:20250101T000000
END:STANDARD
END:VTIMEZONE
BEGIN:VEVENT
DTSTART;TZID=America/Los_Angeles:20251001T060000
DTEND;TZID=America/Los_Angeles:20251030T055900
DTSTAMP:20260423T065626
CREATED:20250418T210152Z
LAST-MODIFIED:20250508T100413Z
UID:10001759-1759298400-1761803940@scholarcomp-aygcdxdhc8b9cwa7.westus-01.azurewebsites.net
SUMMARY:Project Green Challenge - Daily Challenge
DESCRIPTION:A 30-day eco-themed challenge that empowers students to take bold climate action\, culminating in a grand final event in San Francisco with $5\,000 for the top performer.
URL:https://scholarcomp-aygcdxdhc8b9cwa7.westus-01.azurewebsites.net/event/project-green-challenge-daily-challenge/
LOCATION:Virtual
CATEGORIES:Interdisciplinary
ORGANIZER;CN="Turning Green":MAILTO:info@turninggreen.org
END:VEVENT
BEGIN:VEVENT
DTSTART;VALUE=DATE:20251022
DTEND;VALUE=DATE:20251030
DTSTAMP:20260423T065626
CREATED:20250418T211421Z
LAST-MODIFIED:20250508T102603Z
UID:10001814-1761091200-1761782399@scholarcomp-aygcdxdhc8b9cwa7.westus-01.azurewebsites.net
SUMMARY:University of Northern Colorado Math Contest - First Round
DESCRIPTION:A math contest promoting critical thinking and advanced problem-solving for high school students in Colorado.
URL:https://scholarcomp-aygcdxdhc8b9cwa7.westus-01.azurewebsites.net/event/university-of-northern-colorado-math-contest-first-round/
LOCATION:TN
CATEGORIES:Mathematics
ORGANIZER;CN="University of Northern Colorado":MAILTO:nathan.tran@unco.edu
END:VEVENT
BEGIN:VEVENT
DTSTART;VALUE=DATE:20251029
DTEND;VALUE=DATE:20251102
DTSTAMP:20260423T065626
CREATED:20250418T210235Z
LAST-MODIFIED:20250508T100456Z
UID:10001763-1761696000-1762041599@scholarcomp-aygcdxdhc8b9cwa7.westus-01.azurewebsites.net
SUMMARY:SchoolsNEXT Design Competition - LearningSCAPES 2025 Conference
DESCRIPTION:A design competition that challenges students to plan and design sustainable and resilient learning spaces that foster innovation and collaboration.
URL:https://scholarcomp-aygcdxdhc8b9cwa7.westus-01.azurewebsites.net/event/schoolsnext-design-competition-learningscapes-2025-conference/
LOCATION:Phoenix Convention Center\, 100 North Third Street\, Phoenix\, AZ\, 85004\, United States
CATEGORIES:Engineering
ORGANIZER;CN="Association for Learning Environments":MAILTO:Currently Unavailable
END:VEVENT
END:VCALENDAR