BEGIN:VCALENDAR
VERSION:2.0
PRODID:-//ScholarComp Inc. - ECPv6.11.2.1//NONSGML v1.0//EN
CALSCALE:GREGORIAN
METHOD:PUBLISH
X-WR-CALNAME:ScholarComp Inc.
X-ORIGINAL-URL:https://scholarcomp-aygcdxdhc8b9cwa7.westus-01.azurewebsites.net
X-WR-CALDESC:Events for ScholarComp Inc.
REFRESH-INTERVAL;VALUE=DURATION:PT1H
X-Robots-Tag:noindex
X-PUBLISHED-TTL:PT1H
BEGIN:VTIMEZONE
TZID:America/Los_Angeles
BEGIN:DAYLIGHT
TZOFFSETFROM:-0800
TZOFFSETTO:-0700
TZNAME:PDT
DTSTART:20250309T100000
END:DAYLIGHT
BEGIN:STANDARD
TZOFFSETFROM:-0700
TZOFFSETTO:-0800
TZNAME:PST
DTSTART:20251102T090000
END:STANDARD
END:VTIMEZONE
BEGIN:VTIMEZONE
TZID:America/New_York
BEGIN:DAYLIGHT
TZOFFSETFROM:-0500
TZOFFSETTO:-0400
TZNAME:EDT
DTSTART:20250309T070000
END:DAYLIGHT
BEGIN:STANDARD
TZOFFSETFROM:-0400
TZOFFSETTO:-0500
TZNAME:EST
DTSTART:20251102T060000
END:STANDARD
END:VTIMEZONE
BEGIN:VEVENT
DTSTART;TZID=America/Los_Angeles:20251001T060000
DTEND;TZID=America/Los_Angeles:20251030T055900
DTSTAMP:20260423T141524
CREATED:20250418T210152Z
LAST-MODIFIED:20250508T100413Z
UID:10001759-1759298400-1761803940@scholarcomp-aygcdxdhc8b9cwa7.westus-01.azurewebsites.net
SUMMARY:Project Green Challenge - Daily Challenge
DESCRIPTION:A 30-day eco-themed challenge that empowers students to take bold climate action\, culminating in a grand final event in San Francisco with $5\,000 for the top performer.
URL:https://scholarcomp-aygcdxdhc8b9cwa7.westus-01.azurewebsites.net/event/project-green-challenge-daily-challenge/
LOCATION:Virtual
CATEGORIES:Interdisciplinary
ORGANIZER;CN="Turning Green":MAILTO:info@turninggreen.org
END:VEVENT
BEGIN:VEVENT
DTSTART;VALUE=DATE:20251012
DTEND;VALUE=DATE:20251013
DTSTAMP:20260423T141524
CREATED:20250418T211141Z
LAST-MODIFIED:20250508T102249Z
UID:10001804-1760227200-1760313599@scholarcomp-aygcdxdhc8b9cwa7.westus-01.azurewebsites.net
SUMMARY:Math Prize for Girls 2025 @ MIT
DESCRIPTION:The Math Prize for Girls is the largest math prize competition for high school girls\, held annually at MIT. It encourages young women to pursue STEM and rewards mathematical creativity and insight.
URL:https://scholarcomp-aygcdxdhc8b9cwa7.westus-01.azurewebsites.net/event/math-prize-for-girls-2025-mit/
LOCATION:Massachusetts Institute of Technology\, Cambridge\, MA\, United States
CATEGORIES:Mathematics
ORGANIZER;CN="Advantage Testing Foundation":MAILTO:Currently Unavailable
END:VEVENT
END:VCALENDAR