BEGIN:VCALENDAR
VERSION:2.0
PRODID:-//ScholarComp Inc. - ECPv6.11.2.1//NONSGML v1.0//EN
CALSCALE:GREGORIAN
METHOD:PUBLISH
X-WR-CALNAME:ScholarComp Inc.
X-ORIGINAL-URL:https://scholarcomp-aygcdxdhc8b9cwa7.westus-01.azurewebsites.net
X-WR-CALDESC:Events for ScholarComp Inc.
REFRESH-INTERVAL;VALUE=DURATION:PT1H
X-Robots-Tag:noindex
X-PUBLISHED-TTL:PT1H
BEGIN:VTIMEZONE
TZID:America/New_York
BEGIN:DAYLIGHT
TZOFFSETFROM:-0500
TZOFFSETTO:-0400
TZNAME:EDT
DTSTART:20250309T070000
END:DAYLIGHT
BEGIN:STANDARD
TZOFFSETFROM:-0400
TZOFFSETTO:-0500
TZNAME:EST
DTSTART:20251102T060000
END:STANDARD
END:VTIMEZONE
BEGIN:VTIMEZONE
TZID:America/New_York
BEGIN:DAYLIGHT
TZOFFSETFROM:-0500
TZOFFSETTO:-0400
TZNAME:EDT
DTSTART:20250309T070000
END:DAYLIGHT
BEGIN:STANDARD
TZOFFSETFROM:-0400
TZOFFSETTO:-0500
TZNAME:EST
DTSTART:20251102T060000
END:STANDARD
END:VTIMEZONE
BEGIN:VTIMEZONE
TZID:AEST
END:VTIMEZONE
BEGIN:VTIMEZONE
TZID:America/Los_Angeles
BEGIN:DAYLIGHT
TZOFFSETFROM:-0800
TZOFFSETTO:-0700
TZNAME:PDT
DTSTART:20250309T100000
END:DAYLIGHT
BEGIN:STANDARD
TZOFFSETFROM:-0700
TZOFFSETTO:-0800
TZNAME:PST
DTSTART:20251102T090000
END:STANDARD
END:VTIMEZONE
BEGIN:VEVENT
DTSTART;VALUE=DATE:20250601
DTEND;VALUE=DATE:20250901
DTSTAMP:20260423T195831
CREATED:20250418T203643Z
LAST-MODIFIED:20250508T100426Z
UID:10001528-1748736000-1756684799@scholarcomp-aygcdxdhc8b9cwa7.westus-01.azurewebsites.net
SUMMARY:Reach for the Stars ~ National Rocket Competition - Launch Window
DESCRIPTION:A national rocket competition designed for students to build and launch model rockets\, fostering interest in STEM and space exploration.
URL:https://scholarcomp-aygcdxdhc8b9cwa7.westus-01.azurewebsites.net/event/reach-for-the-stars-national-rocket-competition-launch-window-2/
LOCATION:Various\, Various\, United States
CATEGORIES:Engineering
ORGANIZER;CN="Reach for the Stars Competition Team":MAILTO:RocketCompetition@gmail.com
END:VEVENT
BEGIN:VEVENT
DTSTART;VALUE=DATE:20250701
DTEND;VALUE=DATE:20250801
DTSTAMP:20260423T195831
CREATED:20250418T210907Z
LAST-MODIFIED:20250508T101557Z
UID:10001800-1751328000-1754006399@scholarcomp-aygcdxdhc8b9cwa7.westus-01.azurewebsites.net
SUMMARY:Math League - Elementary International Championship
DESCRIPTION:Math League is the largest network of local\, state\, and international math competitions for elementary\, middle\, and high school students. The competition helps students improve their problem-solving skills.
URL:https://scholarcomp-aygcdxdhc8b9cwa7.westus-01.azurewebsites.net/event/math-league-elementary-international-championship/
LOCATION:TN
CATEGORIES:Mathematics
ORGANIZER;CN="Math League":MAILTO:mathleague@mathleague.org
END:VEVENT
BEGIN:VEVENT
DTSTART;VALUE=DATE:20250701
DTEND;VALUE=DATE:20250801
DTSTAMP:20260423T195831
CREATED:20250418T211131Z
LAST-MODIFIED:20250508T102236Z
UID:10001801-1751328000-1754006399@scholarcomp-aygcdxdhc8b9cwa7.westus-01.azurewebsites.net
SUMMARY:Math League - High School International Championship
DESCRIPTION:Math League is the largest network of local\, state\, and international math competitions for elementary\, middle\, and high school students. The competition helps students improve their problem-solving skills.
URL:https://scholarcomp-aygcdxdhc8b9cwa7.westus-01.azurewebsites.net/event/math-league-high-school-international-championship/
LOCATION:TN
CATEGORIES:Mathematics
ORGANIZER;CN="Math League":MAILTO:mathleague@mathleague.org
END:VEVENT
BEGIN:VEVENT
DTSTART;VALUE=DATE:20250710
DTEND;VALUE=DATE:20250721
DTSTAMP:20260423T195831
CREATED:20250418T210652Z
LAST-MODIFIED:20250508T100944Z
UID:10001795-1752105600-1753055999@scholarcomp-aygcdxdhc8b9cwa7.westus-01.azurewebsites.net
SUMMARY:International Mathematical Olympiad (IMO) - IMO 2025
DESCRIPTION:The IMO is the world championship mathematics competition for high school students\, testing their problem-solving skills and knowledge of advanced mathematics. Canada has participated for over 40 years.
URL:https://scholarcomp-aygcdxdhc8b9cwa7.westus-01.azurewebsites.net/event/international-mathematical-olympiad-imo-imo-2025/
LOCATION:(Sunshine Coast region)\, Sunshine Coast\, QLD\, Australia
CATEGORIES:Mathematics
ORGANIZER;CN="International Mathematical Olympiad":MAILTO:info@cms.math.ca
END:VEVENT
BEGIN:VEVENT
DTSTART;VALUE=DATE:20250711
DTEND;VALUE=DATE:20250721
DTSTAMP:20260423T195831
CREATED:20250418T210107Z
LAST-MODIFIED:20250508T100328Z
UID:10001752-1752192000-1753055999@scholarcomp-aygcdxdhc8b9cwa7.westus-01.azurewebsites.net
SUMMARY:Live National Innovator Challenge via Zoom
DESCRIPTION:The National Innovator Challenge encourages students to explore innovation through creative problem-solving in various fields such as STEM. The competition fosters critical thinking\, creativity\, and innovation.
URL:https://scholarcomp-aygcdxdhc8b9cwa7.westus-01.azurewebsites.net/event/live-national-innovator-challenge-via-zoom/
LOCATION:TN
CATEGORIES:Innovation and Research
ORGANIZER;CN="Hewitt Learning":MAILTO:Currently Unavailable
END:VEVENT
BEGIN:VEVENT
DTSTART;VALUE=DATE:20250712
DTEND;VALUE=DATE:20250727
DTSTAMP:20260423T195831
CREATED:20250418T211137Z
LAST-MODIFIED:20250508T102247Z
UID:10001802-1752278400-1753574399@scholarcomp-aygcdxdhc8b9cwa7.westus-01.azurewebsites.net
SUMMARY:Math League Inc. Contests - International Summer Tournament (Grades 4-9)
DESCRIPTION:Math League Inc. hosts a variety of math contests for students across different grade levels. Competitions are held regionally\, nationally\, and internationally\, with participants competing in algebra\, geometry\, and other math topics.
URL:https://scholarcomp-aygcdxdhc8b9cwa7.westus-01.azurewebsites.net/event/math-league-inc-contests-international-summer-tournament-grades-4-9/
LOCATION:The College of New Jersey\, Ewing\, NJ\, United States
CATEGORIES:Mathematics
ORGANIZER;CN="Math League Inc.":MAILTO:comments@mathleague.com
END:VEVENT
BEGIN:VEVENT
DTSTART;VALUE=DATE:20250715
DTEND;VALUE=DATE:20250722
DTSTAMP:20260423T195831
CREATED:20250418T211201Z
LAST-MODIFIED:20250508T102320Z
UID:10001809-1752537600-1753142399@scholarcomp-aygcdxdhc8b9cwa7.westus-01.azurewebsites.net
SUMMARY:RoboCup Standard Platform League - RoboCup 2025
DESCRIPTION:An international robotics competition where teams use identical NAO robots to play autonomous soccer matches\, fostering AI and robotics research.
URL:https://scholarcomp-aygcdxdhc8b9cwa7.westus-01.azurewebsites.net/event/robocup-standard-platform-league-robocup-2025/
LOCATION:TN
CATEGORIES:Robotics
ORGANIZER;CN="RoboCup Federation":MAILTO:rc-spl-tc@lists.robocup.org
END:VEVENT
END:VCALENDAR