BEGIN:VCALENDAR
VERSION:2.0
PRODID:-//ScholarComp Inc. - ECPv6.11.2.1//NONSGML v1.0//EN
CALSCALE:GREGORIAN
METHOD:PUBLISH
X-WR-CALNAME:ScholarComp Inc.
X-ORIGINAL-URL:https://scholarcomp-aygcdxdhc8b9cwa7.westus-01.azurewebsites.net
X-WR-CALDESC:Events for ScholarComp Inc.
REFRESH-INTERVAL;VALUE=DURATION:PT1H
X-Robots-Tag:noindex
X-PUBLISHED-TTL:PT1H
BEGIN:VTIMEZONE
TZID:America/Detroit
BEGIN:DAYLIGHT
TZOFFSETFROM:-0500
TZOFFSETTO:-0400
TZNAME:EDT
DTSTART:20250309T070000
END:DAYLIGHT
BEGIN:STANDARD
TZOFFSETFROM:-0400
TZOFFSETTO:-0500
TZNAME:EST
DTSTART:20251102T060000
END:STANDARD
END:VTIMEZONE
BEGIN:VTIMEZONE
TZID:America/New_York
BEGIN:DAYLIGHT
TZOFFSETFROM:-0500
TZOFFSETTO:-0400
TZNAME:EDT
DTSTART:20250309T070000
END:DAYLIGHT
BEGIN:STANDARD
TZOFFSETFROM:-0400
TZOFFSETTO:-0500
TZNAME:EST
DTSTART:20251102T060000
END:STANDARD
END:VTIMEZONE
BEGIN:VTIMEZONE
TZID:America/New_York
BEGIN:DAYLIGHT
TZOFFSETFROM:-0500
TZOFFSETTO:-0400
TZNAME:EDT
DTSTART:20250309T070000
END:DAYLIGHT
BEGIN:STANDARD
TZOFFSETFROM:-0400
TZOFFSETTO:-0500
TZNAME:EST
DTSTART:20251102T060000
END:STANDARD
END:VTIMEZONE
BEGIN:VEVENT
DTSTART;VALUE=DATE:20250601
DTEND;VALUE=DATE:20250608
DTSTAMP:20260424T012204
CREATED:20250418T203657Z
LAST-MODIFIED:20250508T100444Z
UID:10001535-1748736000-1749340799@scholarcomp-aygcdxdhc8b9cwa7.westus-01.azurewebsites.net
SUMMARY:SAE International's Collegiate Design Series - AutoDrive Challenge II
DESCRIPTION:A global series of design competitions for college students to develop and test real-world engineering solutions\, including autonomous driving\, off-road vehicles\, aircraft\, and more.
URL:https://scholarcomp-aygcdxdhc8b9cwa7.westus-01.azurewebsites.net/event/sae-internationals-collegiate-design-series-autodrive-challenge-ii-2/
LOCATION:Ann Arbor\, Ann Arbor\, MI\, United States
CATEGORIES:Engineering
ORGANIZER;CN="SAE International":MAILTO:customerservice@sae.org
END:VEVENT
BEGIN:VEVENT
DTSTART;VALUE=DATE:20250601
DTEND;VALUE=DATE:20250901
DTSTAMP:20260424T012204
CREATED:20250418T203643Z
LAST-MODIFIED:20250508T100426Z
UID:10001528-1748736000-1756684799@scholarcomp-aygcdxdhc8b9cwa7.westus-01.azurewebsites.net
SUMMARY:Reach for the Stars ~ National Rocket Competition - Launch Window
DESCRIPTION:A national rocket competition designed for students to build and launch model rockets\, fostering interest in STEM and space exploration.
URL:https://scholarcomp-aygcdxdhc8b9cwa7.westus-01.azurewebsites.net/event/reach-for-the-stars-national-rocket-competition-launch-window-2/
LOCATION:Various\, Various\, United States
CATEGORIES:Engineering
ORGANIZER;CN="Reach for the Stars Competition Team":MAILTO:RocketCompetition@gmail.com
END:VEVENT
BEGIN:VEVENT
DTSTART;VALUE=DATE:20250606
DTEND;VALUE=DATE:20250608
DTSTAMP:20260424T012204
CREATED:20250418T204834Z
LAST-MODIFIED:20250508T102504Z
UID:10001731-1749168000-1749340799@scholarcomp-aygcdxdhc8b9cwa7.westus-01.azurewebsites.net
SUMMARY:2025 VEX AI Robotics Competition World Championship
DESCRIPTION:A global contest promoting AI\, programming\, and robotics for middle and high school students.
URL:https://scholarcomp-aygcdxdhc8b9cwa7.westus-01.azurewebsites.net/event/2025-vex-ai-robotics-competition-world-championship-2/
LOCATION:TN
CATEGORIES:Robotics
ORGANIZER;CN="Robotics Education &amp%3B Competition Foundation (RECF)":MAILTO:support@robotevents.com
END:VEVENT
BEGIN:VEVENT
DTSTART;VALUE=DATE:20250607
DTEND;VALUE=DATE:20250608
DTSTAMP:20260424T012204
CREATED:20250418T204205Z
LAST-MODIFIED:20250508T100930Z
UID:10001602-1749254400-1749340799@scholarcomp-aygcdxdhc8b9cwa7.westus-01.azurewebsites.net
SUMMARY:International Greenwich Olympiad (IGO) - IGO 2025 Online Event
DESCRIPTION:The International Greenwich Olympiad is a multidisciplinary competition for high school students\, with categories ranging from STEM subjects to creative arts like photography\, drama\, and creative writing. Students from around the world compete and showcase their talents.
URL:https://scholarcomp-aygcdxdhc8b9cwa7.westus-01.azurewebsites.net/event/international-greenwich-olympiad-igo-igo-2025-online-event-2/
LOCATION:Online
CATEGORIES:Science
ORGANIZER;CN="North London Grammar School":MAILTO:info@igolondon.co.uk
END:VEVENT
END:VCALENDAR