BEGIN:VCALENDAR
VERSION:2.0
PRODID:-//ScholarComp Inc. - ECPv6.11.2.1//NONSGML v1.0//EN
CALSCALE:GREGORIAN
METHOD:PUBLISH
X-ORIGINAL-URL:https://scholarcomp-aygcdxdhc8b9cwa7.westus-01.azurewebsites.net
X-WR-CALDESC:Events for ScholarComp Inc.
REFRESH-INTERVAL;VALUE=DURATION:PT1H
X-Robots-Tag:noindex
X-PUBLISHED-TTL:PT1H
BEGIN:VTIMEZONE
TZID:America/New_York
BEGIN:DAYLIGHT
TZOFFSETFROM:-0500
TZOFFSETTO:-0400
TZNAME:EDT
DTSTART:20250309T070000
END:DAYLIGHT
BEGIN:STANDARD
TZOFFSETFROM:-0400
TZOFFSETTO:-0500
TZNAME:EST
DTSTART:20251102T060000
END:STANDARD
END:VTIMEZONE
BEGIN:VTIMEZONE
TZID:America/New_York
BEGIN:DAYLIGHT
TZOFFSETFROM:-0500
TZOFFSETTO:-0400
TZNAME:EDT
DTSTART:20250309T070000
END:DAYLIGHT
BEGIN:STANDARD
TZOFFSETFROM:-0400
TZOFFSETTO:-0500
TZNAME:EST
DTSTART:20251102T060000
END:STANDARD
END:VTIMEZONE
BEGIN:VTIMEZONE
TZID:UTC
BEGIN:STANDARD
TZOFFSETFROM:+0000
TZOFFSETTO:+0000
TZNAME:UTC
DTSTART:20250101T000000
END:STANDARD
END:VTIMEZONE
BEGIN:VTIMEZONE
TZID:America/Chicago
BEGIN:DAYLIGHT
TZOFFSETFROM:-0600
TZOFFSETTO:-0500
TZNAME:CDT
DTSTART:20250309T080000
END:DAYLIGHT
BEGIN:STANDARD
TZOFFSETFROM:-0500
TZOFFSETTO:-0600
TZNAME:CST
DTSTART:20251102T070000
END:STANDARD
END:VTIMEZONE
BEGIN:VEVENT
DTSTART;VALUE=DATE:20250421
DTEND;VALUE=DATE:20250503
DTSTAMP:20260424T012707
CREATED:20250418T203522Z
LAST-MODIFIED:20250508T100313Z
UID:10001506-1745193600-1746230399@scholarcomp-aygcdxdhc8b9cwa7.westus-01.azurewebsites.net
SUMMARY:National Geography Challenge - Testing Window
DESCRIPTION:National Geography Challenge tests students on their geography knowledge across multiple grade levels. Questions focus on key geography concepts and are adjusted by difficulty level.
URL:https://scholarcomp-aygcdxdhc8b9cwa7.westus-01.azurewebsites.net/event/national-geography-challenge-testing-window-2/
LOCATION:TN
CATEGORIES:Social Studies and Sciences
ORGANIZER;CN="Continental Mathematics League":MAILTO:hello@cmleague.com
END:VEVENT
BEGIN:VEVENT
DTSTART;VALUE=DATE:20250421
DTEND;VALUE=DATE:20250503
DTSTAMP:20260424T012707
CREATED:20250418T204640Z
LAST-MODIFIED:20250508T102305Z
UID:10001691-1745193600-1746230399@scholarcomp-aygcdxdhc8b9cwa7.westus-01.azurewebsites.net
SUMMARY:National Science League Contest 2025
DESCRIPTION:A science competition for students in grades 2 through 12\, testing knowledge in various scientific disciplines through multiple-choice questions.
URL:https://scholarcomp-aygcdxdhc8b9cwa7.westus-01.azurewebsites.net/event/national-science-league-contest-2025-2/
LOCATION:School-based
CATEGORIES:Science
ORGANIZER;CN="Continental Mathematics League":MAILTO:hello@cmleague.com
END:VEVENT
BEGIN:VEVENT
DTSTART;VALUE=DATE:20250421
DTEND;VALUE=DATE:20250503
DTSTAMP:20260424T012707
CREATED:20250418T211425Z
LAST-MODIFIED:20250508T102606Z
UID:10001816-1745193600-1746230399@scholarcomp-aygcdxdhc8b9cwa7.westus-01.azurewebsites.net
SUMMARY:National Science League - Contest Administration Window
DESCRIPTION:A science competition for students in grades 2 through 12\, testing knowledge in various scientific disciplines through multiple-choice questions.
URL:https://scholarcomp-aygcdxdhc8b9cwa7.westus-01.azurewebsites.net/event/national-science-league-contest-administration-window-2/
LOCATION:TN
CATEGORIES:Science
ORGANIZER;CN="Continental Mathematics League":MAILTO:hello@cmleague.com
END:VEVENT
BEGIN:VEVENT
DTSTART;VALUE=DATE:20250422
DTEND;VALUE=DATE:20250502
DTSTAMP:20260424T012707
CREATED:20250418T203631Z
LAST-MODIFIED:20250508T100415Z
UID:10001526-1745280000-1746143999@scholarcomp-aygcdxdhc8b9cwa7.westus-01.azurewebsites.net
SUMMARY:Purple Comet! Math Contest - Contest Window
DESCRIPTION:A global team-based math competition for middle and high school students\, running annually since 2003.
URL:https://scholarcomp-aygcdxdhc8b9cwa7.westus-01.azurewebsites.net/event/purple-comet-math-contest-contest-window-2/
LOCATION:Virtual
CATEGORIES:Mathematics
ORGANIZER;CN="Purple Comet Team":MAILTO:webmaster@purplecomet.org
END:VEVENT
BEGIN:VEVENT
DTSTART;VALUE=DATE:20250422
DTEND;VALUE=DATE:20250502
DTSTAMP:20260424T012707
CREATED:20250418T204658Z
LAST-MODIFIED:20250508T102319Z
UID:10001695-1745280000-1746143999@scholarcomp-aygcdxdhc8b9cwa7.westus-01.azurewebsites.net
SUMMARY:Purple Comet! Math Contest - 2025 Purple Comet! Math Meet
DESCRIPTION:A global team-based math competition for middle and high school students\, running annually since 2003.
URL:https://scholarcomp-aygcdxdhc8b9cwa7.westus-01.azurewebsites.net/event/purple-comet-math-contest-2025-purple-comet-math-meet-2/
LOCATION:TN
CATEGORIES:Mathematics
ORGANIZER;CN="Purple Comet Team":MAILTO:webmaster@purplecomet.org
END:VEVENT
BEGIN:VEVENT
DTSTART;VALUE=DATE:20250429
DTEND;VALUE=DATE:20250430
DTSTAMP:20260424T012707
CREATED:20250418T212748Z
LAST-MODIFIED:20250508T102620Z
UID:10001820-1745884800-1745971199@scholarcomp-aygcdxdhc8b9cwa7.westus-01.azurewebsites.net
SUMMARY:FIRST Tech Challenge - South East Qualifier 1 - OHS
DESCRIPTION:FIRST Tech Challenge is a global competition where teams of students design\, build\, and program robots to compete in an alliance format. Teams use Android technology and Java-based programming languages.
URL:https://scholarcomp-aygcdxdhc8b9cwa7.westus-01.azurewebsites.net/event/first-tech-challenge-south-east-qualifier-1-ohs-2/
LOCATION:Oxford High School\, Belbroughton Road\, Oxford\, ENG\, OX2 6XA\, United Kingdom
CATEGORIES:Robotics
ORGANIZER;CN="FIRST":MAILTO:info@firstinspires.org
END:VEVENT
BEGIN:VEVENT
DTSTART;TZID=America/Chicago:20250429T081500
DTEND;TZID=America/Chicago:20250429T081500
DTSTAMP:20260424T012707
CREATED:20250418T174252Z
LAST-MODIFIED:20250508T100657Z
UID:10001293-1745914500-1745914500@scholarcomp-aygcdxdhc8b9cwa7.westus-01.azurewebsites.net
SUMMARY:Math Masters MN - 4th Grade Competition
DESCRIPTION:A Minnesota-based competition for grades 5-6\, encouraging teamwork and problem-solving.
URL:https://scholarcomp-aygcdxdhc8b9cwa7.westus-01.azurewebsites.net/event/math-masters-mn-4th-grade-competition-9/
LOCATION:Resource Training & Solutions\, 137 23rd St. South #201\, Sartell\, MN\, 56377\, United States
CATEGORIES:Mathematics
ORGANIZER;CN="Math Masters of Minnesota":MAILTO:mary@math-masters.org
END:VEVENT
END:VCALENDAR